BEGIN:VCALENDAR
VERSION:2.0
PRODID:-//Diablo Bowmen - ECPv6.15.20//NONSGML v1.0//EN
CALSCALE:GREGORIAN
METHOD:PUBLISH
X-ORIGINAL-URL:https://diablo-bowmen.org
X-WR-CALDESC:Events for Diablo Bowmen
REFRESH-INTERVAL;VALUE=DURATION:PT1H
X-Robots-Tag:noindex
X-PUBLISHED-TTL:PT1H
BEGIN:VTIMEZONE
TZID:America/Los_Angeles
BEGIN:DAYLIGHT
TZOFFSETFROM:-0800
TZOFFSETTO:-0700
TZNAME:PDT
DTSTART:20240310T100000
END:DAYLIGHT
BEGIN:STANDARD
TZOFFSETFROM:-0700
TZOFFSETTO:-0800
TZNAME:PST
DTSTART:20241103T090000
END:STANDARD
BEGIN:DAYLIGHT
TZOFFSETFROM:-0800
TZOFFSETTO:-0700
TZNAME:PDT
DTSTART:20250309T100000
END:DAYLIGHT
BEGIN:STANDARD
TZOFFSETFROM:-0700
TZOFFSETTO:-0800
TZNAME:PST
DTSTART:20251102T090000
END:STANDARD
BEGIN:DAYLIGHT
TZOFFSETFROM:-0800
TZOFFSETTO:-0700
TZNAME:PDT
DTSTART:20260308T100000
END:DAYLIGHT
BEGIN:STANDARD
TZOFFSETFROM:-0700
TZOFFSETTO:-0800
TZNAME:PST
DTSTART:20261101T090000
END:STANDARD
END:VTIMEZONE
BEGIN:VEVENT
DTSTART;TZID=America/Los_Angeles:20251004T080000
DTEND;TZID=America/Los_Angeles:20251004T120000
DTSTAMP:20260423T142557
CREATED:20241219T020112Z
LAST-MODIFIED:20241219T020112Z
UID:2009-1759564800-1759579200@diablo-bowmen.org
SUMMARY:Maintenance Day
DESCRIPTION:In order to maintain Diablo Bowmen Archery Club\, we host a monthly range maintenance day. It occurs the second Saturday of each month from 8:00 am – 12:00 pm. For our major tournaments\, we hold a special maintenance day just before the tournament. Participation can help offset your annual maintenance fees.\n \nOur Range Manager determines what work needs to be done. Typical tasks are:\n• Raking the trails\, picnic area\, or the practice range\n• Weed whacking the trails\, picnic area\, or the practice range\n• Replacing paper targets\n• Replacing/repairing target bales\n• Cleaning and maintaining the Clubhouse\n• Trimming trees and clearing shooting lanes\n\nLunch is provided to those who RSVP \n\nClick to RSVP\n\n\n 
URL:https://diablo-bowmen.org/event/maintenance-day-20/
LOCATION:Diablo Bowmen\, Oak Hill Lane\, Clayton\, CA\, 94517\, United States
CATEGORIES:Maintenance
ATTACH;FMTTYPE=image/jpeg:https://diablo-bowmen.org/wp-content/uploads/2024/12/Maintenance-Day.jpeg
END:VEVENT
BEGIN:VEVENT
DTSTART;TZID=America/Los_Angeles:20251004T130000
DTEND;TZID=America/Los_Angeles:20251004T140000
DTSTAMP:20260423T142557
CREATED:20241219T014818Z
LAST-MODIFIED:20241219T014818Z
UID:1984-1759582800-1759586400@diablo-bowmen.org
SUMMARY:Club Meeting
DESCRIPTION:This meeting is open to all club members and prospective members.  \nUpdates are provided about what’s happening at Diablo Bowmen\, Range Updates\, etc.. \nNew members are welcomed.  \nTo be considered for membership\, you must first attend a club meeting. \nA New Member Safety meeting occurs immediately following the meeting.
URL:https://diablo-bowmen.org/event/club-meeting-19/
LOCATION:Diablo Bowmen\, Oak Hill Lane\, Clayton\, CA\, 94517\, United States
CATEGORIES:Meeting
ATTACH;FMTTYPE=image/jpeg:https://diablo-bowmen.org/wp-content/uploads/2024/12/Club-Meeting.jpeg
END:VEVENT
BEGIN:VEVENT
DTSTART;TZID=America/Los_Angeles:20251004T140000
DTEND;TZID=America/Los_Angeles:20251004T150000
DTSTAMP:20260423T142557
CREATED:20241219T013816Z
LAST-MODIFIED:20241219T013816Z
UID:1964-1759586400-1759590000@diablo-bowmen.org
SUMMARY:Board Meeting
DESCRIPTION:This meeting is for Board Members only. \nIt is a required meeting for the operations of the club.  \n 
URL:https://diablo-bowmen.org/event/board-meeting-10/
LOCATION:Diablo Bowmen\, Oak Hill Lane\, Clayton\, CA\, 94517\, United States
CATEGORIES:Meeting
ATTACH;FMTTYPE=image/jpeg:https://diablo-bowmen.org/wp-content/uploads/2024/12/Board-Meeting.jpeg
ORGANIZER;CN="President":MAILTO:diablobowmenpresident@gmail.com
END:VEVENT
BEGIN:VEVENT
DTSTART;TZID=America/Los_Angeles:20251011T080000
DTEND;TZID=America/Los_Angeles:20251011T120000
DTSTAMP:20260423T142557
CREATED:20241222T060032Z
LAST-MODIFIED:20241223T212058Z
UID:2037-1760169600-1760184000@diablo-bowmen.org
SUMMARY:Club Shoot (open to the public)
DESCRIPTION:Club shoots are for all members and guests! You don’t need to be a pro to participate. For a qualifying score you will shoot 2 rounds\, one Field and one Hunter (4 arrows at each target). \nClub shoots are held on the 2nd Saturday of each month at 9:00 am. \nAll shooting styles and skill levels are welcome. \nFees\n\nMember – $8\nGuest – $10\n\n\nClick to RSVP\n\n\n 
URL:https://diablo-bowmen.org/event/club-shoot-open-to-the-public-10/
LOCATION:Diablo Bowmen\, Oak Hill Lane\, Clayton\, CA\, 94517\, United States
CATEGORIES:Shoot
ATTACH;FMTTYPE=image/jpeg:https://diablo-bowmen.org/wp-content/uploads/2024/02/Club-Shoot-3.jpeg
END:VEVENT
BEGIN:VEVENT
DTSTART;TZID=America/Los_Angeles:20251011T090000
DTEND;TZID=America/Los_Angeles:20251011T103000
DTSTAMP:20260423T142557
CREATED:20250707T143156Z
LAST-MODIFIED:20251008T180532Z
UID:2343-1760173200-1760178600@diablo-bowmen.org
SUMMARY:Beginner Class (Open to Register)
DESCRIPTION:An excellent starting point for anyone interested in exploring the sport of archery. Classes are designed for individuals with little to no prior experience in archery. \nParticipants learn: \n\nfundamentals of archery\nsafety\nproper stance\nbow handling\nshooting techniques\n\nClasses are 90 minutes (60 minutes shooting time). \nMust be at least 7 years old to participate. \nAll required equipment is provided. \nClick to Register \n 
URL:https://diablo-bowmen.org/event/beginner-class-private-event-14/
LOCATION:Diablo Bowmen\, Oak Hill Lane\, Clayton\, CA\, 94517\, United States
CATEGORIES:Beginner Class
ORGANIZER;CN="Outreach Coordinator":MAILTO:diablobowmenoutreach@gmail.com
END:VEVENT
BEGIN:VEVENT
DTSTART;TZID=America/Los_Angeles:20251011T110000
DTEND;TZID=America/Los_Angeles:20251011T123000
DTSTAMP:20260423T142557
CREATED:20250707T143220Z
LAST-MODIFIED:20251008T180535Z
UID:2342-1760180400-1760185800@diablo-bowmen.org
SUMMARY:Beginner Class (Open to Register)
DESCRIPTION:An excellent starting point for anyone interested in exploring the sport of archery. Classes are designed for individuals with little to no prior experience in archery. \nParticipants learn: \n\nfundamentals of archery\nsafety\nproper stance\nbow handling\nshooting techniques\n\nClasses are 90 minutes (60 minutes shooting time). \nMust be at least 7 years old to participate. \nAll required equipment is provided. \nClick to Register \n 
URL:https://diablo-bowmen.org/event/beginner-class-private-event-15/
LOCATION:Diablo Bowmen\, Oak Hill Lane\, Clayton\, CA\, 94517\, United States
CATEGORIES:Beginner Class
ORGANIZER;CN="Outreach Coordinator":MAILTO:diablobowmenoutreach@gmail.com
END:VEVENT
BEGIN:VEVENT
DTSTART;TZID=America/Los_Angeles:20251025T080000
DTEND;TZID=America/Los_Angeles:20251025T120000
DTSTAMP:20260423T142557
CREATED:20241223T211807Z
LAST-MODIFIED:20251013T170725Z
UID:2059-1761379200-1761393600@diablo-bowmen.org
SUMMARY:Diablo 900 Shoot (CANCELED)
DESCRIPTION:The 900 Round is a long to medium-distance competition. It is shot over three separate distances (60\, 50 & 40 yards). It consists of ninety total arrows\, thirty at each distance\, each worth a maximum of ten points. \n900 Round shoots happen on the fourth Saturday of each month at 9:00 am. \nFees\n\nMember – $10\nGuest – $12
URL:https://diablo-bowmen.org/event/diablo-900-shoot-open-to-the-public-8/
LOCATION:Diablo Bowmen\, Oak Hill Lane\, Clayton\, CA\, 94517\, United States
CATEGORIES:Shoot
ATTACH;FMTTYPE=image/jpeg:https://diablo-bowmen.org/wp-content/uploads/2024/02/900-Shoot-for-Event.jpeg
END:VEVENT
END:VCALENDAR