BEGIN:VCALENDAR
VERSION:2.0
PRODID:-//Diablo Bowmen - ECPv6.15.20//NONSGML v1.0//EN
CALSCALE:GREGORIAN
METHOD:PUBLISH
X-ORIGINAL-URL:https://diablo-bowmen.org
X-WR-CALDESC:Events for Diablo Bowmen
REFRESH-INTERVAL;VALUE=DURATION:PT1H
X-Robots-Tag:noindex
X-PUBLISHED-TTL:PT1H
BEGIN:VTIMEZONE
TZID:America/Los_Angeles
BEGIN:DAYLIGHT
TZOFFSETFROM:-0800
TZOFFSETTO:-0700
TZNAME:PDT
DTSTART:20230312T100000
END:DAYLIGHT
BEGIN:STANDARD
TZOFFSETFROM:-0700
TZOFFSETTO:-0800
TZNAME:PST
DTSTART:20231105T090000
END:STANDARD
BEGIN:DAYLIGHT
TZOFFSETFROM:-0800
TZOFFSETTO:-0700
TZNAME:PDT
DTSTART:20240310T100000
END:DAYLIGHT
BEGIN:STANDARD
TZOFFSETFROM:-0700
TZOFFSETTO:-0800
TZNAME:PST
DTSTART:20241103T090000
END:STANDARD
BEGIN:DAYLIGHT
TZOFFSETFROM:-0800
TZOFFSETTO:-0700
TZNAME:PDT
DTSTART:20250309T100000
END:DAYLIGHT
BEGIN:STANDARD
TZOFFSETFROM:-0700
TZOFFSETTO:-0800
TZNAME:PST
DTSTART:20251102T090000
END:STANDARD
END:VTIMEZONE
BEGIN:VEVENT
DTSTART;TZID=America/Los_Angeles:20241207T080000
DTEND;TZID=America/Los_Angeles:20241207T120000
DTSTAMP:20260424T154303
CREATED:20240211T195100Z
LAST-MODIFIED:20240229T151948Z
UID:419-1733558400-1733572800@diablo-bowmen.org
SUMMARY:Maintenance Day
DESCRIPTION:In order to maintain Diablo Bowmen Archery Club\, we host a monthly range maintenance day. It occurs the second Saturday of each month from 8:00 am – 12:00 pm. For our major tournaments\, we hold a special maintenance day just before the tournament. Participation can help offset your annual maintenance fees.\n \nOur Range Manager determines what work needs to be done. Typical tasks are:\n• Raking the trails\, picnic area\, or the practice range\n• Weed whacking the trails\, picnic area\, or the practice range\n• Replacing paper targets\n• Replacing/repairing target bales\n• Cleaning and maintaining the Clubhouse\n• Trimming trees and clearing shooting lanes\n\nLunch is provided to those who RSVP \n\nClick to RSVP\n\n\n 
URL:https://diablo-bowmen.org/event/maintenance-day-10/
LOCATION:CA
CATEGORIES:Maintenance
ATTACH;FMTTYPE=image/jpeg:https://diablo-bowmen.org/wp-content/uploads/2024/02/Maintenance-Day_Post.jpeg
END:VEVENT
BEGIN:VEVENT
DTSTART;TZID=America/Los_Angeles:20241207T130000
DTEND;TZID=America/Los_Angeles:20241207T140000
DTSTAMP:20260424T154303
CREATED:20240211T195102Z
LAST-MODIFIED:20240229T152617Z
UID:420-1733576400-1733580000@diablo-bowmen.org
SUMMARY:Club Meeting
DESCRIPTION:This meeting is open to all club members and prospective members.  \nUpdates are provided about what’s happening at Diablo Bowmen\, Range Updates\, etc.. \nNew members are welcomed. To be considered for membership\, you must first attend a club meeting. \nA New Member Safety meeting occurs immediately following the meeting.
URL:https://diablo-bowmen.org/event/club-meeting-10/
LOCATION:CA
CATEGORIES:Meeting
ATTACH;FMTTYPE=image/png:https://diablo-bowmen.org/wp-content/uploads/2024/02/family.png
ORGANIZER;CN="President":MAILTO:diablobowmenpresident@gmail.com
END:VEVENT
BEGIN:VEVENT
DTSTART;TZID=America/Los_Angeles:20241207T140000
DTEND;TZID=America/Los_Angeles:20241207T150000
DTSTAMP:20260424T154303
CREATED:20240211T195112Z
LAST-MODIFIED:20240517T210540Z
UID:421-1733580000-1733583600@diablo-bowmen.org
SUMMARY:Board Meeting
DESCRIPTION:This meeting is for Board Members only. \nIt is a required meeting for the operations of the club.  \n 
URL:https://diablo-bowmen.org/event/board-meeting-5/
LOCATION:CA
CATEGORIES:Meeting
ATTACH;FMTTYPE=image/jpeg:https://diablo-bowmen.org/wp-content/uploads/2024/02/Board-Meeting-Post.jpg
ORGANIZER;CN="President":MAILTO:diablobowmenpresident@gmail.com
END:VEVENT
BEGIN:VEVENT
DTSTART;TZID=America/Los_Angeles:20241214T080000
DTEND;TZID=America/Los_Angeles:20241214T120000
DTSTAMP:20260424T154303
CREATED:20240211T195113Z
LAST-MODIFIED:20241211T201539Z
UID:422-1734163200-1734177600@diablo-bowmen.org
SUMMARY:Club Shoot (Canceled)
DESCRIPTION:Club shoots are for all members and guests! You don’t need to be a pro to participate. For a qualifying score you will shoot 2 rounds\, one Field and one Hunter (4 arrows at each target). \nClub shoots are held on the 2nd Saturday of each month at 9:00 am. \nAll shooting styles and skill levels are welcome. \nFees\n\nMember – $8\nGuest – $10\n\n \n\n 
URL:https://diablo-bowmen.org/event/club-shoot-9/
LOCATION:CA
CATEGORIES:Shoot
ATTACH;FMTTYPE=image/jpeg:https://diablo-bowmen.org/wp-content/uploads/2024/02/Club-Shoot-3.jpeg
END:VEVENT
BEGIN:VEVENT
DTSTART;TZID=America/Los_Angeles:20241214T100000
DTEND;TZID=America/Los_Angeles:20241214T113000
DTSTAMP:20260424T154303
CREATED:20241117T204735Z
LAST-MODIFIED:20241212T225320Z
UID:1906-1734170400-1734175800@diablo-bowmen.org
SUMMARY:Beginner Class (Canceled)
DESCRIPTION:An excellent starting point for anyone interested in exploring the sport of archery. Classes are designed for individuals with little to no prior experience in archery. \nParticipants learn: \n\nfundamentals of archery\nsafety\nproper stance\nbow handling\nshooting techniques\n\nClasses are 90 minutes (60 minutes shooting time). \nMust be at least 7 years old to participate. \nAll required equipment is provided.
URL:https://diablo-bowmen.org/event/beginner-class-open-to-register-5/
LOCATION:Diablo Bowmen\, Oak Hill Lane\, Clayton\, CA\, 94517\, United States
CATEGORIES:Beginner Class
ATTACH;FMTTYPE=image/jpeg:https://diablo-bowmen.org/wp-content/uploads/2024/02/Beginner-Classes.jpg
ORGANIZER;CN="Outreach Coordinator":MAILTO:diablobowmenoutreach@gmail.com
END:VEVENT
BEGIN:VEVENT
DTSTART;TZID=America/Los_Angeles:20241214T153000
DTEND;TZID=America/Los_Angeles:20241214T170000
DTSTAMP:20260424T154303
CREATED:20241017T193438Z
LAST-MODIFIED:20241017T193510Z
UID:1824-1734190200-1734195600@diablo-bowmen.org
SUMMARY:Board Installation Dinner
DESCRIPTION:
URL:https://diablo-bowmen.org/event/board-installation-dinner/
LOCATION:Concord Mt. Diablo Trail Ride Association\, 1600 Trail Ride Rd.\, Concord\, CA\, 94517\, United States
CATEGORIES:Meeting
ATTACH;FMTTYPE=image/jpeg:https://diablo-bowmen.org/wp-content/uploads/2024/10/CMDTRA.jpg
ORGANIZER;CN="President":MAILTO:diablobowmenpresident@gmail.com
END:VEVENT
END:VCALENDAR