BEGIN:VCALENDAR
VERSION:2.0
PRODID:-//Diablo Bowmen - ECPv6.15.20//NONSGML v1.0//EN
CALSCALE:GREGORIAN
METHOD:PUBLISH
X-WR-CALNAME:Diablo Bowmen
X-ORIGINAL-URL:https://diablo-bowmen.org
X-WR-CALDESC:Events for Diablo Bowmen
REFRESH-INTERVAL;VALUE=DURATION:PT1H
X-Robots-Tag:noindex
X-PUBLISHED-TTL:PT1H
BEGIN:VTIMEZONE
TZID:America/Los_Angeles
BEGIN:DAYLIGHT
TZOFFSETFROM:-0800
TZOFFSETTO:-0700
TZNAME:PDT
DTSTART:20230312T100000
END:DAYLIGHT
BEGIN:STANDARD
TZOFFSETFROM:-0700
TZOFFSETTO:-0800
TZNAME:PST
DTSTART:20231105T090000
END:STANDARD
BEGIN:DAYLIGHT
TZOFFSETFROM:-0800
TZOFFSETTO:-0700
TZNAME:PDT
DTSTART:20240310T100000
END:DAYLIGHT
BEGIN:STANDARD
TZOFFSETFROM:-0700
TZOFFSETTO:-0800
TZNAME:PST
DTSTART:20241103T090000
END:STANDARD
BEGIN:DAYLIGHT
TZOFFSETFROM:-0800
TZOFFSETTO:-0700
TZNAME:PDT
DTSTART:20250309T100000
END:DAYLIGHT
BEGIN:STANDARD
TZOFFSETFROM:-0700
TZOFFSETTO:-0800
TZNAME:PST
DTSTART:20251102T090000
END:STANDARD
END:VTIMEZONE
BEGIN:VEVENT
DTSTART;TZID=America/Los_Angeles:20240406T140000
DTEND;TZID=America/Los_Angeles:20240406T150000
DTSTAMP:20260425T060208
CREATED:20240209T004403Z
LAST-MODIFIED:20240318T172034Z
UID:331-1712412000-1712415600@diablo-bowmen.org
SUMMARY:Board Meeting
DESCRIPTION:This meeting is for Board Members only. \nIt is a required meeting for the operations of the club.  \n 
URL:https://diablo-bowmen.org/event/board-meeting/
LOCATION:CA
CATEGORIES:Meeting
ATTACH;FMTTYPE=image/jpeg:https://diablo-bowmen.org/wp-content/uploads/2024/02/Board-Meeting-Post.jpg
ORGANIZER;CN="President":MAILTO:diablobowmenpresident@gmail.com
END:VEVENT
BEGIN:VEVENT
DTSTART;TZID=America/Los_Angeles:20240406T130000
DTEND;TZID=America/Los_Angeles:20240406T140000
DTSTAMP:20260425T060208
CREATED:20240209T004402Z
LAST-MODIFIED:20240229T152726Z
UID:330-1712408400-1712412000@diablo-bowmen.org
SUMMARY:Club Meeting
DESCRIPTION:This meeting is open to all club members and prospective members.  \nUpdates are provided about what’s happening at Diablo Bowmen\, Range Updates\, etc.. \nNew members are welcomed. To be considered for membership\, you must first attend a club meeting. \nA New Member Safety meeting occurs immediately following the meeting.
URL:https://diablo-bowmen.org/event/club-meeting-2/
LOCATION:CA
CATEGORIES:Meeting
ATTACH;FMTTYPE=image/png:https://diablo-bowmen.org/wp-content/uploads/2024/02/family.png
ORGANIZER;CN="President":MAILTO:diablobowmenpresident@gmail.com
END:VEVENT
BEGIN:VEVENT
DTSTART;TZID=America/Los_Angeles:20240406T080000
DTEND;TZID=America/Los_Angeles:20240406T120000
DTSTAMP:20260425T060208
CREATED:20240209T004402Z
LAST-MODIFIED:20240229T151925Z
UID:329-1712390400-1712404800@diablo-bowmen.org
SUMMARY:Maintenance Day
DESCRIPTION:In order to maintain Diablo Bowmen Archery Club\, we host a monthly range maintenance day. It occurs the second Saturday of each month from 8:00 am – 12:00 pm. For our major tournaments\, we hold a special maintenance day just before the tournament. Participation can help offset your annual maintenance fees.\n \nOur Range Manager determines what work needs to be done. Typical tasks are:\n• Raking the trails\, picnic area\, or the practice range\n• Weed whacking the trails\, picnic area\, or the practice range\n• Replacing paper targets\n• Replacing/repairing target bales\n• Cleaning and maintaining the Clubhouse\n• Trimming trees and clearing shooting lanes\n\nLunch is provided to those who RSVP \n\nClick to RSVP\n\n\n 
URL:https://diablo-bowmen.org/event/maintenance-day-2/
LOCATION:CA
CATEGORIES:Maintenance
ATTACH;FMTTYPE=image/jpeg:https://diablo-bowmen.org/wp-content/uploads/2024/02/Maintenance-Day_Post.jpeg
END:VEVENT
BEGIN:VEVENT
DTSTART;TZID=America/Los_Angeles:20240330T090000
DTEND;TZID=America/Los_Angeles:20240330T120000
DTSTAMP:20260425T060208
CREATED:20240209T004402Z
LAST-MODIFIED:20240801T185914Z
UID:328-1711789200-1711800000@diablo-bowmen.org
SUMMARY:Diablo 900 Shoot (open to the public)
DESCRIPTION:The 900 Round is a long to medium-distance competition. It is shot over three separate distances (60\, 50 & 40 yards). It consists of ninety total arrows\, thirty at each distance\, each worth a maximum of ten points. \n900 Round shoots happen on the fourth Saturday of each month at 9:00 am. \nFees\n\nMember – $10\nGuest – $12\nLunch (Optional) – $8\n\nWe require a minimum of 8 to provide lunch so please RSVP. \n\nClick to RSVP\n\n 
URL:https://diablo-bowmen.org/event/diablo-900-shoot-2/
LOCATION:CA
CATEGORIES:Shoot
ATTACH;FMTTYPE=image/jpeg:https://diablo-bowmen.org/wp-content/uploads/2024/02/900-Shoot-for-Event.jpeg
ORGANIZER;CN="Diablo 900 Shoot Chair":MAILTO:diablobowmen900shoot@gmail.com
END:VEVENT
BEGIN:VEVENT
DTSTART;TZID=America/Los_Angeles:20240330T090000
DTEND;TZID=America/Los_Angeles:20240330T103000
DTSTAMP:20260425T060208
CREATED:20240318T171727Z
LAST-MODIFIED:20240329T153031Z
UID:1419-1711789200-1711794600@diablo-bowmen.org
SUMMARY:Beginner Class (Class Full)
DESCRIPTION:An excellent starting point for anyone interested in exploring the sport of archery. Classes are designed for individuals with little to no prior experience in archery. \nParticipants learn: \n\nfundamentals of archery\nsafety\nproper stance\nbow handling\nshooting techniques\n\nClasses are 90 minutes (60 minutes shooting time). \nMust be at least 7 years old to participate. \nAll required equipment is provided.
URL:https://diablo-bowmen.org/event/beginner-class-4/
LOCATION:CA
CATEGORIES:Beginner Class
ATTACH;FMTTYPE=image/jpeg:https://diablo-bowmen.org/wp-content/uploads/2024/02/Beginner-Classes.jpg
ORGANIZER;CN="Outreach Coordinator":MAILTO:diablobowmenoutreach@gmail.com
END:VEVENT
BEGIN:VEVENT
DTSTART;TZID=America/Los_Angeles:20240323T090000
DTEND;TZID=America/Los_Angeles:20240323T103000
DTSTAMP:20260425T060208
CREATED:20240313T004402Z
LAST-MODIFIED:20240318T175016Z
UID:1372-1711184400-1711189800@diablo-bowmen.org
SUMMARY:Beginner Class (Class is Full)
DESCRIPTION:An excellent starting point for anyone interested in exploring the sport of archery. Classes are designed for individuals with little to no prior experience in archery. \nParticipants learn: \n\nfundamentals of archery\nsafety\nproper stance\nbow handling\nshooting techniques\n\nClasses are 90 minutes (60 minutes shooting time). \nMust be at least 7 years old to participate. \nAll required equipment is provided. \n 
URL:https://diablo-bowmen.org/event/beginner-class-3/
LOCATION:CA
CATEGORIES:Beginner Class
ATTACH;FMTTYPE=image/jpeg:https://diablo-bowmen.org/wp-content/uploads/2024/02/Beginner-Classes.jpg
ORGANIZER;CN="Outreach Coordinator":MAILTO:diablobowmenoutreach@gmail.com
END:VEVENT
BEGIN:VEVENT
DTSTART;TZID=America/Los_Angeles:20240316T120000
DTEND;TZID=America/Los_Angeles:20240316T133000
DTSTAMP:20260425T060208
CREATED:20240310T182706Z
LAST-MODIFIED:20240310T190228Z
UID:1351-1710590400-1710595800@diablo-bowmen.org
SUMMARY:Beginner Class (Private - Large Group)
DESCRIPTION:An excellent starting point for anyone interested in exploring the sport of archery. Classes are designed for individuals with little to no prior experience in archery. \nParticipants learn: \n\nfundamentals of archery\nsafety\nproper stance\nbow handling\nshooting techniques\n\nClasses are 90 minutes (60 minutes shooting time). \nMust be at least 7 years old to participate. \nAll required equipment is provided.
URL:https://diablo-bowmen.org/event/beginner-class-2/
LOCATION:CA
CATEGORIES:Beginner Class
ATTACH;FMTTYPE=image/jpeg:https://diablo-bowmen.org/wp-content/uploads/2024/02/Beginner-Classes.jpg
ORGANIZER;CN="Outreach Coordinator":MAILTO:diablobowmenoutreach@gmail.com
END:VEVENT
BEGIN:VEVENT
DTSTART;TZID=America/Los_Angeles:20240316T100000
DTEND;TZID=America/Los_Angeles:20240316T113000
DTSTAMP:20260425T060208
CREATED:20240310T182415Z
LAST-MODIFIED:20240310T190245Z
UID:1348-1710583200-1710588600@diablo-bowmen.org
SUMMARY:Beginner Class (Private - Large Group)
DESCRIPTION:An excellent starting point for anyone interested in exploring the sport of archery. Classes are designed for individuals with little to no prior experience in archery. \nParticipants learn: \n\nfundamentals of archery\nsafety\nproper stance\nbow handling\nshooting techniques\n\nClasses are 90 minutes (60 minutes shooting time). \nMust be at least 7 years old to participate. \nAll required equipment is provided.
URL:https://diablo-bowmen.org/event/beginner-class/
LOCATION:CA
CATEGORIES:Beginner Class
ATTACH;FMTTYPE=image/jpeg:https://diablo-bowmen.org/wp-content/uploads/2024/02/Beginner-Classes.jpg
ORGANIZER;CN="Outreach Coordinator":MAILTO:diablobowmenoutreach@gmail.com
END:VEVENT
BEGIN:VEVENT
DTSTART;TZID=America/Los_Angeles:20240309T080000
DTEND;TZID=America/Los_Angeles:20240309T120000
DTSTAMP:20260425T060208
CREATED:20240209T004359Z
LAST-MODIFIED:20240229T150338Z
UID:327-1709971200-1709985600@diablo-bowmen.org
SUMMARY:Club Shoot (open to the public)
DESCRIPTION:Club shoots are for all members and guests! You don’t need to be a pro to participate. For a qualifying score you will shoot 2 rounds\, one Field and one Hunter (4 arrows at each target). \nClub shoots are held on the 2nd Saturday of each month at 9:00 am. \nAll shooting styles and skill levels are welcome. \nFees\n\nMember – $8\nGuest – $10\n\n\nClick to RSVP\n\n\n 
URL:https://diablo-bowmen.org/event/club-shoot-2/
LOCATION:CA
CATEGORIES:Shoot
ATTACH;FMTTYPE=image/jpeg:https://diablo-bowmen.org/wp-content/uploads/2024/02/Club-Shoot-3.jpeg
END:VEVENT
BEGIN:VEVENT
DTSTART;TZID=America/Los_Angeles:20240302T130000
DTEND;TZID=America/Los_Angeles:20240302T140000
DTSTAMP:20260425T060208
CREATED:20240209T002746Z
LAST-MODIFIED:20240229T152733Z
UID:312-1709384400-1709388000@diablo-bowmen.org
SUMMARY:Club Meeting
DESCRIPTION:This meeting is open to all club members and prospective members.  \nUpdates are provided about what’s happening at Diablo Bowmen\, Range Updates\, etc.. \nNew members are welcomed. To be considered for membership\, you must first attend a club meeting. \nA New Member Safety meeting occurs immediately following the meeting.
URL:https://diablo-bowmen.org/event/club-meeting/
LOCATION:CA
CATEGORIES:Meeting
ATTACH;FMTTYPE=image/png:https://diablo-bowmen.org/wp-content/uploads/2024/02/family.png
ORGANIZER;CN="President":MAILTO:diablobowmenpresident@gmail.com
END:VEVENT
BEGIN:VEVENT
DTSTART;TZID=America/Los_Angeles:20240302T080000
DTEND;TZID=America/Los_Angeles:20240302T120000
DTSTAMP:20260425T060208
CREATED:20240209T002641Z
LAST-MODIFIED:20240229T151922Z
UID:310-1709366400-1709380800@diablo-bowmen.org
SUMMARY:Maintenance Day
DESCRIPTION:In order to maintain Diablo Bowmen Archery Club\, we host a monthly range maintenance day. It occurs the second Saturday of each month from 8:00 am – 12:00 pm. For our major tournaments\, we hold a special maintenance day just before the tournament. Participation can help offset your annual maintenance fees.\n \nOur Range Manager determines what work needs to be done. Typical tasks are:\n• Raking the trails\, picnic area\, or the practice range\n• Weed whacking the trails\, picnic area\, or the practice range\n• Replacing paper targets\n• Replacing/repairing target bales\n• Cleaning and maintaining the Clubhouse\n• Trimming trees and clearing shooting lanes\n\nLunch is provided to those who RSVP \n\nClick to RSVP\n\n\n 
URL:https://diablo-bowmen.org/event/maintenance-day/
LOCATION:CA
CATEGORIES:Maintenance
ATTACH;FMTTYPE=image/jpeg:https://diablo-bowmen.org/wp-content/uploads/2024/02/Maintenance-Day_Post.jpeg
END:VEVENT
BEGIN:VEVENT
DTSTART;TZID=America/Los_Angeles:20240224T090000
DTEND;TZID=America/Los_Angeles:20240224T120000
DTSTAMP:20260425T060208
CREATED:20240209T004359Z
LAST-MODIFIED:20240801T185918Z
UID:324-1708765200-1708776000@diablo-bowmen.org
SUMMARY:Diablo 900 Shoot -CANCELED
DESCRIPTION:The 900 Round is a long to medium-distance competition. It is shot over three separate distances (60\, 50 & 40 yards). It consists of ninety total arrows\, thirty at each distance\, each worth a maximum of ten points. \n900 Round shoots happen on the fourth Saturday of each month at 9:00 am. \nFees\n\nMember – $10\nGuest – $12\nLunch (Optional) – $8\n\nWe require a minimum of 8 to provide lunch so please RSVP. \n\nClick to RSVP
URL:https://diablo-bowmen.org/event/diablo-900-shoot/
LOCATION:CA
CATEGORIES:Shoot
ATTACH;FMTTYPE=image/jpeg:https://diablo-bowmen.org/wp-content/uploads/2024/02/900-Shoot-for-Event.jpeg
ORGANIZER;CN="Diablo 900 Shoot Chair":MAILTO:diablobowmen900shoot@gmail.com
END:VEVENT
BEGIN:VEVENT
DTSTART;TZID=America/Los_Angeles:20240210T080000
DTEND;TZID=America/Los_Angeles:20240210T120000
DTSTAMP:20260425T060208
CREATED:20240209T004358Z
LAST-MODIFIED:20240229T150327Z
UID:323-1707552000-1707566400@diablo-bowmen.org
SUMMARY:Club Shoot (open to the public)
DESCRIPTION:Club shoots are for all members and guests! You don’t need to be a pro to participate. For a qualifying score you will shoot 2 rounds\, one Field and one Hunter (4 arrows at each target). \nClub shoots are held on the 2nd Saturday of each month at 9:00 am. \nAll shooting styles and skill levels are welcome. \nFees\n\nMember – $8\nGuest – $10\n\n\nClick to RSVP\n\n\n 
URL:https://diablo-bowmen.org/event/club-shoot/
LOCATION:CA
CATEGORIES:Shoot
ATTACH;FMTTYPE=image/jpeg:https://diablo-bowmen.org/wp-content/uploads/2024/02/Club-Shoot-3.jpeg
END:VEVENT
END:VCALENDAR