BEGIN:VCALENDAR
VERSION:2.0
PRODID:-//Diablo Bowmen - ECPv6.15.20//NONSGML v1.0//EN
CALSCALE:GREGORIAN
METHOD:PUBLISH
X-WR-CALNAME:Diablo Bowmen
X-ORIGINAL-URL:https://diablo-bowmen.org
X-WR-CALDESC:Events for Diablo Bowmen
REFRESH-INTERVAL;VALUE=DURATION:PT1H
X-Robots-Tag:noindex
X-PUBLISHED-TTL:PT1H
BEGIN:VTIMEZONE
TZID:America/Los_Angeles
BEGIN:DAYLIGHT
TZOFFSETFROM:-0800
TZOFFSETTO:-0700
TZNAME:PDT
DTSTART:20230312T100000
END:DAYLIGHT
BEGIN:STANDARD
TZOFFSETFROM:-0700
TZOFFSETTO:-0800
TZNAME:PST
DTSTART:20231105T090000
END:STANDARD
BEGIN:DAYLIGHT
TZOFFSETFROM:-0800
TZOFFSETTO:-0700
TZNAME:PDT
DTSTART:20240310T100000
END:DAYLIGHT
BEGIN:STANDARD
TZOFFSETFROM:-0700
TZOFFSETTO:-0800
TZNAME:PST
DTSTART:20241103T090000
END:STANDARD
BEGIN:DAYLIGHT
TZOFFSETFROM:-0800
TZOFFSETTO:-0700
TZNAME:PDT
DTSTART:20250309T100000
END:DAYLIGHT
BEGIN:STANDARD
TZOFFSETFROM:-0700
TZOFFSETTO:-0800
TZNAME:PST
DTSTART:20251102T090000
END:STANDARD
BEGIN:DAYLIGHT
TZOFFSETFROM:-0800
TZOFFSETTO:-0700
TZNAME:PDT
DTSTART:20260308T100000
END:DAYLIGHT
BEGIN:STANDARD
TZOFFSETFROM:-0700
TZOFFSETTO:-0800
TZNAME:PST
DTSTART:20261101T090000
END:STANDARD
END:VTIMEZONE
BEGIN:VEVENT
DTSTART;TZID=America/Los_Angeles:20250308T080000
DTEND;TZID=America/Los_Angeles:20250308T120000
DTSTAMP:20260423T101726
CREATED:20241222T055652Z
LAST-MODIFIED:20241223T212226Z
UID:2030-1741420800-1741435200@diablo-bowmen.org
SUMMARY:Club Shoot (open to the public)
DESCRIPTION:Club shoots are for all members and guests! You don’t need to be a pro to participate. For a qualifying score you will shoot 2 rounds\, one Field and one Hunter (4 arrows at each target). \nClub shoots are held on the 2nd Saturday of each month at 9:00 am. \nAll shooting styles and skill levels are welcome. \nFees\n\nMember – $8\nGuest – $10\n\n\nClick to RSVP\n\n\n 
URL:https://diablo-bowmen.org/event/club-shoot-open-to-the-public-3/
LOCATION:Diablo Bowmen\, Oak Hill Lane\, Clayton\, CA\, 94517\, United States
CATEGORIES:Shoot
ATTACH;FMTTYPE=image/jpeg:https://diablo-bowmen.org/wp-content/uploads/2024/02/Club-Shoot-3.jpeg
END:VEVENT
BEGIN:VEVENT
DTSTART;TZID=America/Los_Angeles:20250222T080000
DTEND;TZID=America/Los_Angeles:20250222T120000
DTSTAMP:20260423T101726
CREATED:20241223T160018Z
LAST-MODIFIED:20250217T151517Z
UID:2052-1740211200-1740225600@diablo-bowmen.org
SUMMARY:Diablo 900 Shoot (Canceled)
DESCRIPTION:The 900 Round is a long to medium-distance competition. It is shot over three separate distances (60\, 50 & 40 yards). It consists of ninety total arrows\, thirty at each distance\, each worth a maximum of ten points. \n900 Round shoots happen on the fourth Saturday of each month at 9:00 am. \nFees\n\nMember – $10\nGuest – $12\n\n 
URL:https://diablo-bowmen.org/event/diablo-900-shoot-open-to-the-public/
LOCATION:Diablo Bowmen\, Oak Hill Lane\, Clayton\, CA\, 94517\, United States
CATEGORIES:Shoot
ATTACH;FMTTYPE=image/jpeg:https://diablo-bowmen.org/wp-content/uploads/2024/02/900-Shoot-for-Event.jpeg
END:VEVENT
BEGIN:VEVENT
DTSTART;TZID=America/Los_Angeles:20250208T080000
DTEND;TZID=America/Los_Angeles:20250208T120000
DTSTAMP:20260423T101726
CREATED:20241222T055623Z
LAST-MODIFIED:20241223T212238Z
UID:2029-1739001600-1739016000@diablo-bowmen.org
SUMMARY:Club Shoot (open to the public)
DESCRIPTION:Club shoots are for all members and guests! You don’t need to be a pro to participate. For a qualifying score you will shoot 2 rounds\, one Field and one Hunter (4 arrows at each target). \nClub shoots are held on the 2nd Saturday of each month at 9:00 am. \nAll shooting styles and skill levels are welcome. \nFees\n\nMember – $8\nGuest – $10\n\n\nClick to RSVP\n\n\n 
URL:https://diablo-bowmen.org/event/club-shoot-open-to-the-public-2/
LOCATION:Diablo Bowmen\, Oak Hill Lane\, Clayton\, CA\, 94517\, United States
CATEGORIES:Shoot
ATTACH;FMTTYPE=image/jpeg:https://diablo-bowmen.org/wp-content/uploads/2024/02/Club-Shoot-3.jpeg
END:VEVENT
BEGIN:VEVENT
DTSTART;TZID=America/Los_Angeles:20250126T070000
DTEND;TZID=America/Los_Angeles:20250126T170000
DTSTAMP:20260423T101726
CREATED:20241107T172412Z
LAST-MODIFIED:20241118T231502Z
UID:1885-1737874800-1737910800@diablo-bowmen.org
SUMMARY:The Winter Hunt Shoot
DESCRIPTION:Test your archery skills against a variety of 3D targets strategically placed to mimic real-life hunting. 🏹 \n\n32 Targets\nUnmarked Yardage – Hunting Conditions\n2 arrows (10-8-5 scoring)\n\nFrom elk to bears\, each target provides a different challenge\, ensuring a dynamic and engaging experience for participants of all skill levels. \n\n8 Target String Walk\nSteel Pig\nRocking Horse\nFlying Pig\n\n\nLearn more…\n\n\n\n 
URL:https://diablo-bowmen.org/event/the-winter-hunt/
LOCATION:Diablo Bowmen\, Oak Hill Lane\, Clayton\, CA\, 94517\, United States
CATEGORIES:Shoot
ATTACH;FMTTYPE=image/png:https://diablo-bowmen.org/wp-content/uploads/2024/02/2024-Winter-Hunt-IMG_0960.png
ORGANIZER;CN="President":MAILTO:diablobowmenpresident@gmail.com
END:VEVENT
BEGIN:VEVENT
DTSTART;TZID=America/Los_Angeles:20250111T080000
DTEND;TZID=America/Los_Angeles:20250111T120000
DTSTAMP:20260423T101726
CREATED:20241222T055552Z
LAST-MODIFIED:20241223T212250Z
UID:2028-1736582400-1736596800@diablo-bowmen.org
SUMMARY:Club Shoot (open to the public)
DESCRIPTION:Club shoots are for all members and guests! You don’t need to be a pro to participate. For a qualifying score you will shoot 2 rounds\, one Field and one Hunter (4 arrows at each target). \nClub shoots are held on the 2nd Saturday of each month at 9:00 am. \nAll shooting styles and skill levels are welcome. \nFees\n\nMember – $8\nGuest – $10\n\n\nClick to RSVP\n\n\n 
URL:https://diablo-bowmen.org/event/club-shoot-open-to-the-public/
LOCATION:Diablo Bowmen\, Oak Hill Lane\, Clayton\, CA\, 94517\, United States
CATEGORIES:Shoot
ATTACH;FMTTYPE=image/jpeg:https://diablo-bowmen.org/wp-content/uploads/2024/02/Club-Shoot-3.jpeg
END:VEVENT
BEGIN:VEVENT
DTSTART;TZID=America/Los_Angeles:20241214T080000
DTEND;TZID=America/Los_Angeles:20241214T120000
DTSTAMP:20260423T101726
CREATED:20240211T195113Z
LAST-MODIFIED:20241211T201539Z
UID:422-1734163200-1734177600@diablo-bowmen.org
SUMMARY:Club Shoot (Canceled)
DESCRIPTION:Club shoots are for all members and guests! You don’t need to be a pro to participate. For a qualifying score you will shoot 2 rounds\, one Field and one Hunter (4 arrows at each target). \nClub shoots are held on the 2nd Saturday of each month at 9:00 am. \nAll shooting styles and skill levels are welcome. \nFees\n\nMember – $8\nGuest – $10\n\n \n\n 
URL:https://diablo-bowmen.org/event/club-shoot-9/
LOCATION:CA
CATEGORIES:Shoot
ATTACH;FMTTYPE=image/jpeg:https://diablo-bowmen.org/wp-content/uploads/2024/02/Club-Shoot-3.jpeg
END:VEVENT
BEGIN:VEVENT
DTSTART;TZID=America/Los_Angeles:20241123T090000
DTEND;TZID=America/Los_Angeles:20241123T120000
DTSTAMP:20260423T101726
CREATED:20240211T195059Z
LAST-MODIFIED:20241119T045045Z
UID:418-1732352400-1732363200@diablo-bowmen.org
SUMMARY:Diablo 900 Shoot (Cancelled)
DESCRIPTION:The 900 Round is a long to medium-distance competition. It is shot over three separate distances (60\, 50 & 40 yards). It consists of ninety total arrows\, thirty at each distance\, each worth a maximum of ten points. \n900 Round shoots happen on the fourth Saturday of each month at 9:00 am. \nFees\n\nMember – $10\nGuest – $12\n\n 
URL:https://diablo-bowmen.org/event/diablo-900-shoot-10/
LOCATION:CA
CATEGORIES:Shoot
ATTACH;FMTTYPE=image/jpeg:https://diablo-bowmen.org/wp-content/uploads/2024/02/900-Shoot-for-Event.jpeg
ORGANIZER;CN="Diablo 900 Shoot Chair":MAILTO:diablobowmen900shoot@gmail.com
END:VEVENT
BEGIN:VEVENT
DTSTART;TZID=America/Los_Angeles:20241109T080000
DTEND;TZID=America/Los_Angeles:20241109T120000
DTSTAMP:20260423T101726
CREATED:20240211T195058Z
LAST-MODIFIED:20240229T152933Z
UID:417-1731139200-1731153600@diablo-bowmen.org
SUMMARY:Club Shoot (open to the public)
DESCRIPTION:Club shoots are for all members and guests! You don’t need to be a pro to participate. For a qualifying score you will shoot 2 rounds\, one Field and one Hunter (4 arrows at each target). \nClub shoots are held on the 2nd Saturday of each month at 9:00 am. \nAll shooting styles and skill levels are welcome. \nFees\n\nMember – $8\nGuest – $10\n\n\nClick to RSVP\n\n\n 
URL:https://diablo-bowmen.org/event/club-shoot-8/
LOCATION:CA
CATEGORIES:Shoot
ATTACH;FMTTYPE=image/jpeg:https://diablo-bowmen.org/wp-content/uploads/2024/02/Club-Shoot-3.jpeg
END:VEVENT
BEGIN:VEVENT
DTSTART;TZID=America/Los_Angeles:20241026T090000
DTEND;TZID=America/Los_Angeles:20241026T120000
DTSTAMP:20260423T101726
CREATED:20240211T195044Z
LAST-MODIFIED:20240807T030424Z
UID:414-1729933200-1729944000@diablo-bowmen.org
SUMMARY:Diablo 900 Shoot (open to the public)
DESCRIPTION:The 900 Round is a long to medium-distance competition. It is shot over three separate distances (60\, 50 & 40 yards). It consists of ninety total arrows\, thirty at each distance\, each worth a maximum of ten points. \n900 Round shoots happen on the fourth Saturday of each month at 9:00 am. \nFees\n\nMember – $10\nGuest – $12\n\nClick to RSVP \n 
URL:https://diablo-bowmen.org/event/diablo-900-shoot-9/
LOCATION:CA
CATEGORIES:Shoot
ATTACH;FMTTYPE=image/jpeg:https://diablo-bowmen.org/wp-content/uploads/2024/02/900-Shoot-for-Event.jpeg
ORGANIZER;CN="Diablo 900 Shoot Chair":MAILTO:diablobowmen900shoot@gmail.com
END:VEVENT
BEGIN:VEVENT
DTSTART;TZID=America/Los_Angeles:20241012T080000
DTEND;TZID=America/Los_Angeles:20241012T120000
DTSTAMP:20260423T101726
CREATED:20240211T195043Z
LAST-MODIFIED:20240229T152937Z
UID:413-1728720000-1728734400@diablo-bowmen.org
SUMMARY:Club Shoot (open to the public)
DESCRIPTION:Club shoots are for all members and guests! You don’t need to be a pro to participate. For a qualifying score you will shoot 2 rounds\, one Field and one Hunter (4 arrows at each target). \nClub shoots are held on the 2nd Saturday of each month at 9:00 am. \nAll shooting styles and skill levels are welcome. \nFees\n\nMember – $8\nGuest – $10\n\n\nClick to RSVP\n\n\n 
URL:https://diablo-bowmen.org/event/club-shoot-7/
LOCATION:CA
CATEGORIES:Shoot
ATTACH;FMTTYPE=image/jpeg:https://diablo-bowmen.org/wp-content/uploads/2024/02/Club-Shoot-3.jpeg
END:VEVENT
BEGIN:VEVENT
DTSTART;TZID=America/Los_Angeles:20240928T090000
DTEND;TZID=America/Los_Angeles:20240928T120000
DTSTAMP:20260423T101726
CREATED:20240211T194938Z
LAST-MODIFIED:20240807T030414Z
UID:409-1727514000-1727524800@diablo-bowmen.org
SUMMARY:Diablo 900 Shoot (open to the public)
DESCRIPTION:The 900 Round is a long to medium-distance competition. It is shot over three separate distances (60\, 50 & 40 yards). It consists of ninety total arrows\, thirty at each distance\, each worth a maximum of ten points. \n900 Round shoots happen on the fourth Saturday of each month at 9:00 am. \nFees\n\nMember – $10\nGuest – $12\n\nClick to RSVP \n 
URL:https://diablo-bowmen.org/event/diablo-900-shoot-8/
LOCATION:CA
CATEGORIES:Shoot
ATTACH;FMTTYPE=image/jpeg:https://diablo-bowmen.org/wp-content/uploads/2024/02/900-Shoot-for-Event.jpeg
ORGANIZER;CN="Diablo 900 Shoot Chair":MAILTO:diablobowmen900shoot@gmail.com
END:VEVENT
BEGIN:VEVENT
DTSTART;TZID=America/Los_Angeles:20240915T000000
DTEND;TZID=America/Los_Angeles:20240915T000000
DTSTAMP:20260423T101726
CREATED:20240211T194938Z
LAST-MODIFIED:20240928T002114Z
UID:408-1726358400-1726358400@diablo-bowmen.org
SUMMARY:Fall Harvest Shoot
DESCRIPTION:The Fall Harvest shoot features life-sized\, foam 3D animal targets placed at different distances and angles. Shot on three of our beautiful courses\, you’ll walk through the trees\, along the creek\, and into the hills\, as you take aim on a variety of game animals. \nFrom elusive deer to cunning foxes\, each target represents a unique challenge. This is an Orange Spot shoot\, with scoring zones that correspond to the vital areas of the animals. \n \n\nThis is a great shoot to hone your skills prior to hunting season. \n\n42 Targets\nMarked Yardage\nNFAA Orange Spots\n2 Arrows per target\n\n \nWhether you’re a seasoned archer or a first-time shooter\, you’ll enjoy the thrill of the shoot while taking in the breathtaking backdrop of Mt. Diablo. \n\nNFAA/CBH categories\, equipment rules and styles will apply.\nNFAA/CBH member required for awards\, please show card.\nWill shoot guest class if not CBH member.\n$1 of each shooter’s fee will be donated to CBH-SAA for the Legal Defense Fund.\n\n  \n\n \n \n 
URL:https://diablo-bowmen.org/event/fall-harvest-shooot/
LOCATION:Diablo Bowmen\, Oak Hill Lane\, Clayton\, CA\, 94517\, United States
CATEGORIES:Shoot
ATTACH;FMTTYPE=image/png:https://diablo-bowmen.org/wp-content/uploads/2024/02/Fall-Harvest-3.png
END:VEVENT
BEGIN:VEVENT
DTSTART;TZID=America/Los_Angeles:20240824T090000
DTEND;TZID=America/Los_Angeles:20240824T120000
DTSTAMP:20260423T101726
CREATED:20240211T194850Z
LAST-MODIFIED:20240807T030404Z
UID:405-1724490000-1724500800@diablo-bowmen.org
SUMMARY:Diablo 900 Shoot (open to the public)
DESCRIPTION:The 900 Round is a long to medium-distance competition. It is shot over three separate distances (60\, 50 & 40 yards). It consists of ninety total arrows\, thirty at each distance\, each worth a maximum of ten points. \n900 Round shoots happen on the fourth Saturday of each month at 9:00 am. \nFees\n\nMember – $10\nGuest – $12\n\nClick to RSVP \n 
URL:https://diablo-bowmen.org/event/diablo-900-shoot-7/
LOCATION:CA
CATEGORIES:Shoot
ATTACH;FMTTYPE=image/jpeg:https://diablo-bowmen.org/wp-content/uploads/2024/02/900-Shoot-for-Event.jpeg
ORGANIZER;CN="Diablo 900 Shoot Chair":MAILTO:diablobowmen900shoot@gmail.com
END:VEVENT
BEGIN:VEVENT
DTSTART;TZID=America/Los_Angeles:20240810T080000
DTEND;TZID=America/Los_Angeles:20240810T120000
DTSTAMP:20260423T101726
CREATED:20240211T194849Z
LAST-MODIFIED:20240229T152940Z
UID:404-1723276800-1723291200@diablo-bowmen.org
SUMMARY:Club Shoot (open to the public)
DESCRIPTION:Club shoots are for all members and guests! You don’t need to be a pro to participate. For a qualifying score you will shoot 2 rounds\, one Field and one Hunter (4 arrows at each target). \nClub shoots are held on the 2nd Saturday of each month at 9:00 am. \nAll shooting styles and skill levels are welcome. \nFees\n\nMember – $8\nGuest – $10\n\n\nClick to RSVP\n\n\n 
URL:https://diablo-bowmen.org/event/club-shoot-6/
LOCATION:CA
CATEGORIES:Shoot
ATTACH;FMTTYPE=image/jpeg:https://diablo-bowmen.org/wp-content/uploads/2024/02/Club-Shoot-3.jpeg
END:VEVENT
BEGIN:VEVENT
DTSTART;TZID=America/Los_Angeles:20240727T090000
DTEND;TZID=America/Los_Angeles:20240727T120000
DTSTAMP:20260423T101726
CREATED:20240211T194833Z
LAST-MODIFIED:20240801T185850Z
UID:400-1722070800-1722081600@diablo-bowmen.org
SUMMARY:Diablo 900 Shoot (open to the public)
DESCRIPTION:The 900 Round is a long to medium-distance competition. It is shot over three separate distances (60\, 50 & 40 yards). It consists of ninety total arrows\, thirty at each distance\, each worth a maximum of ten points. \n900 Round shoots happen on the fourth Saturday of each month at 9:00 am. \nFees\n\nMember – $10\nGuest – $12\nLunch (Optional) – $8\n\nWe require a minimum of 8 to provide lunch so please RSVP. \n\nClick to RSVP\n\n 
URL:https://diablo-bowmen.org/event/diablo-900-shoot-6/
LOCATION:CA
CATEGORIES:Shoot
ATTACH;FMTTYPE=image/jpeg:https://diablo-bowmen.org/wp-content/uploads/2024/02/900-Shoot-for-Event.jpeg
ORGANIZER;CN="Diablo 900 Shoot Chair":MAILTO:diablobowmen900shoot@gmail.com
END:VEVENT
BEGIN:VEVENT
DTSTART;TZID=America/Los_Angeles:20240713T080000
DTEND;TZID=America/Los_Angeles:20240713T120000
DTSTAMP:20260423T101726
CREATED:20240211T194832Z
LAST-MODIFIED:20240229T152944Z
UID:399-1720857600-1720872000@diablo-bowmen.org
SUMMARY:Club Shoot (open to the public)
DESCRIPTION:Club shoots are for all members and guests! You don’t need to be a pro to participate. For a qualifying score you will shoot 2 rounds\, one Field and one Hunter (4 arrows at each target). \nClub shoots are held on the 2nd Saturday of each month at 9:00 am. \nAll shooting styles and skill levels are welcome. \nFees\n\nMember – $8\nGuest – $10\n\n\nClick to RSVP\n\n\n 
URL:https://diablo-bowmen.org/event/club-shoot-5/
LOCATION:CA
CATEGORIES:Shoot
ATTACH;FMTTYPE=image/jpeg:https://diablo-bowmen.org/wp-content/uploads/2024/02/Club-Shoot-3.jpeg
END:VEVENT
BEGIN:VEVENT
DTSTART;TZID=America/Los_Angeles:20240629T090000
DTEND;TZID=America/Los_Angeles:20240629T120000
DTSTAMP:20260423T101726
CREATED:20240211T194828Z
LAST-MODIFIED:20240801T185853Z
UID:396-1719651600-1719662400@diablo-bowmen.org
SUMMARY:Diablo 900 Shoot (open to the public)
DESCRIPTION:The 900 Round is a long to medium-distance competition. It is shot over three separate distances (60\, 50 & 40 yards). It consists of ninety total arrows\, thirty at each distance\, each worth a maximum of ten points. \n900 Round shoots happen on the fourth Saturday of each month at 9:00 am. \nFees\n\nMember – $10\nGuest – $12\nLunch (Optional) – $8\n\nWe require a minimum of 8 to provide lunch so please RSVP. \n\nClick to RSVP\n\n 
URL:https://diablo-bowmen.org/event/diablo-900-shoot-5/
LOCATION:CA
CATEGORIES:Shoot
ATTACH;FMTTYPE=image/jpeg:https://diablo-bowmen.org/wp-content/uploads/2024/02/900-Shoot-for-Event.jpeg
ORGANIZER;CN="Diablo 900 Shoot Chair":MAILTO:diablobowmen900shoot@gmail.com
END:VEVENT
BEGIN:VEVENT
DTSTART;TZID=America/Los_Angeles:20240608T080000
DTEND;TZID=America/Los_Angeles:20240608T120000
DTSTAMP:20260423T101726
CREATED:20240211T194806Z
LAST-MODIFIED:20240229T152948Z
UID:395-1717833600-1717848000@diablo-bowmen.org
SUMMARY:Club Shoot (open to the public)
DESCRIPTION:Club shoots are for all members and guests! You don’t need to be a pro to participate. For a qualifying score you will shoot 2 rounds\, one Field and one Hunter (4 arrows at each target). \nClub shoots are held on the 2nd Saturday of each month at 9:00 am. \nAll shooting styles and skill levels are welcome. \nFees\n\nMember – $8\nGuest – $10\n\n\nClick to RSVP\n\n\n 
URL:https://diablo-bowmen.org/event/club-shoot-4/
LOCATION:CA
CATEGORIES:Shoot
ATTACH;FMTTYPE=image/jpeg:https://diablo-bowmen.org/wp-content/uploads/2024/02/Club-Shoot-3.jpeg
END:VEVENT
BEGIN:VEVENT
DTSTART;TZID=America/Los_Angeles:20240526T090000
DTEND;TZID=America/Los_Angeles:20240526T120000
DTSTAMP:20260423T101726
CREATED:20240211T194759Z
LAST-MODIFIED:20240524T192020Z
UID:391-1716714000-1716724800@diablo-bowmen.org
SUMMARY:Diablo 900 Shoot (CANCELED)
DESCRIPTION:This month’s shoot has been CANCELED. \nThis decision was made due to the lack of shooters.  There were only 4 shooters RSVPed.  We apologize for any inconvenience this may cause and appreciate your understanding.  \nIf you have any questions or concerns\, please don’t hesitate to reach out to diablobowmen900shoot@gmail.com. \n 
URL:https://diablo-bowmen.org/event/diablo-900-shoot-4/
LOCATION:CA
CATEGORIES:Shoot
ATTACH;FMTTYPE=image/jpeg:https://diablo-bowmen.org/wp-content/uploads/2024/02/900-Shoot-for-Event.jpeg
ORGANIZER;CN="Diablo 900 Shoot Chair":MAILTO:diablobowmen900shoot@gmail.com
END:VEVENT
BEGIN:VEVENT
DTSTART;TZID=America/Los_Angeles:20240519T000000
DTEND;TZID=America/Los_Angeles:20240519T000000
DTSTAMP:20260423T101726
CREATED:20240211T194755Z
LAST-MODIFIED:20240229T152952Z
UID:390-1716076800-1716076800@diablo-bowmen.org
SUMMARY:Red Devil Cartoon Shoot
DESCRIPTION:Embrace the mischievous spirit of the Red Devil. Cartoon targets featuring the iconic Red Devil along with all manner of creature add a playful and devilishly fun element to the shoot. \n\n42 Marked Yardage Cartoon Targets\n11-10-8 Scoring – 2 Arrows\n\n \nDesigned for archers of all ages and skill levels\, this event is a fun family-friendly shoot. Come join us. \n\nNFAA/CBH categories\, equipment rules and styles will apply.\nNFAA/CBH member required for awards\, please show card.\nWill shoot guest class if not CBH member.\n$1 of each shooter’s fee will be donated to CBH-SAA for the Legal Defense Fund.
URL:https://diablo-bowmen.org/event/red-devil-cartoon-shoot/
LOCATION:CA
CATEGORIES:Shoot
ATTACH;FMTTYPE=image/jpeg:https://diablo-bowmen.org/wp-content/uploads/2024/02/Red-Devil-Classic.jpg
END:VEVENT
BEGIN:VEVENT
DTSTART;TZID=America/Los_Angeles:20240427T090000
DTEND;TZID=America/Los_Angeles:20240427T120000
DTSTAMP:20260423T101726
CREATED:20240211T194753Z
LAST-MODIFIED:20240801T185909Z
UID:387-1714208400-1714219200@diablo-bowmen.org
SUMMARY:Diablo 900 Shoot (open to the public)
DESCRIPTION:The 900 Round is a long to medium-distance competition. It is shot over three separate distances (60\, 50 & 40 yards). It consists of ninety total arrows\, thirty at each distance\, each worth a maximum of ten points. \n900 Round shoots happen on the fourth Saturday of each month at 9:00 am. \nFees\n\nMember – $10\nGuest – $12\nLunch (Optional) – $8\n\nWe require a minimum of 8 to provide lunch so please RSVP. \n\nClick to RSVP\n\n 
URL:https://diablo-bowmen.org/event/diablo-900-shoot-3/
LOCATION:CA
CATEGORIES:Shoot
ATTACH;FMTTYPE=image/jpeg:https://diablo-bowmen.org/wp-content/uploads/2024/02/900-Shoot-for-Event.jpeg
ORGANIZER;CN="Diablo 900 Shoot Chair":MAILTO:diablobowmen900shoot@gmail.com
END:VEVENT
BEGIN:VEVENT
DTSTART;TZID=America/Los_Angeles:20240413T080000
DTEND;TZID=America/Los_Angeles:20240413T120000
DTSTAMP:20260423T101726
CREATED:20240211T194752Z
LAST-MODIFIED:20240229T152956Z
UID:386-1712995200-1713009600@diablo-bowmen.org
SUMMARY:Club Shoot (open to the public)
DESCRIPTION:Club shoots are for all members and guests! You don’t need to be a pro to participate. For a qualifying score you will shoot 2 rounds\, one Field and one Hunter (4 arrows at each target). \nClub shoots are held on the 2nd Saturday of each month at 9:00 am. \nAll shooting styles and skill levels are welcome. \nFees\n\nMember – $8\nGuest – $10\n\n\nClick to RSVP\n\n\n 
URL:https://diablo-bowmen.org/event/club-shoot-3/
LOCATION:CA
CATEGORIES:Shoot
ATTACH;FMTTYPE=image/jpeg:https://diablo-bowmen.org/wp-content/uploads/2024/02/Club-Shoot-3.jpeg
END:VEVENT
BEGIN:VEVENT
DTSTART;TZID=America/Los_Angeles:20240330T090000
DTEND;TZID=America/Los_Angeles:20240330T120000
DTSTAMP:20260423T101726
CREATED:20240209T004402Z
LAST-MODIFIED:20240801T185914Z
UID:328-1711789200-1711800000@diablo-bowmen.org
SUMMARY:Diablo 900 Shoot (open to the public)
DESCRIPTION:The 900 Round is a long to medium-distance competition. It is shot over three separate distances (60\, 50 & 40 yards). It consists of ninety total arrows\, thirty at each distance\, each worth a maximum of ten points. \n900 Round shoots happen on the fourth Saturday of each month at 9:00 am. \nFees\n\nMember – $10\nGuest – $12\nLunch (Optional) – $8\n\nWe require a minimum of 8 to provide lunch so please RSVP. \n\nClick to RSVP\n\n 
URL:https://diablo-bowmen.org/event/diablo-900-shoot-2/
LOCATION:CA
CATEGORIES:Shoot
ATTACH;FMTTYPE=image/jpeg:https://diablo-bowmen.org/wp-content/uploads/2024/02/900-Shoot-for-Event.jpeg
ORGANIZER;CN="Diablo 900 Shoot Chair":MAILTO:diablobowmen900shoot@gmail.com
END:VEVENT
BEGIN:VEVENT
DTSTART;TZID=America/Los_Angeles:20240309T080000
DTEND;TZID=America/Los_Angeles:20240309T120000
DTSTAMP:20260423T101726
CREATED:20240209T004359Z
LAST-MODIFIED:20240229T150338Z
UID:327-1709971200-1709985600@diablo-bowmen.org
SUMMARY:Club Shoot (open to the public)
DESCRIPTION:Club shoots are for all members and guests! You don’t need to be a pro to participate. For a qualifying score you will shoot 2 rounds\, one Field and one Hunter (4 arrows at each target). \nClub shoots are held on the 2nd Saturday of each month at 9:00 am. \nAll shooting styles and skill levels are welcome. \nFees\n\nMember – $8\nGuest – $10\n\n\nClick to RSVP\n\n\n 
URL:https://diablo-bowmen.org/event/club-shoot-2/
LOCATION:CA
CATEGORIES:Shoot
ATTACH;FMTTYPE=image/jpeg:https://diablo-bowmen.org/wp-content/uploads/2024/02/Club-Shoot-3.jpeg
END:VEVENT
BEGIN:VEVENT
DTSTART;TZID=America/Los_Angeles:20240224T090000
DTEND;TZID=America/Los_Angeles:20240224T120000
DTSTAMP:20260423T101726
CREATED:20240209T004359Z
LAST-MODIFIED:20240801T185918Z
UID:324-1708765200-1708776000@diablo-bowmen.org
SUMMARY:Diablo 900 Shoot -CANCELED
DESCRIPTION:The 900 Round is a long to medium-distance competition. It is shot over three separate distances (60\, 50 & 40 yards). It consists of ninety total arrows\, thirty at each distance\, each worth a maximum of ten points. \n900 Round shoots happen on the fourth Saturday of each month at 9:00 am. \nFees\n\nMember – $10\nGuest – $12\nLunch (Optional) – $8\n\nWe require a minimum of 8 to provide lunch so please RSVP. \n\nClick to RSVP
URL:https://diablo-bowmen.org/event/diablo-900-shoot/
LOCATION:CA
CATEGORIES:Shoot
ATTACH;FMTTYPE=image/jpeg:https://diablo-bowmen.org/wp-content/uploads/2024/02/900-Shoot-for-Event.jpeg
ORGANIZER;CN="Diablo 900 Shoot Chair":MAILTO:diablobowmen900shoot@gmail.com
END:VEVENT
BEGIN:VEVENT
DTSTART;TZID=America/Los_Angeles:20240210T080000
DTEND;TZID=America/Los_Angeles:20240210T120000
DTSTAMP:20260423T101726
CREATED:20240209T004358Z
LAST-MODIFIED:20240229T150327Z
UID:323-1707552000-1707566400@diablo-bowmen.org
SUMMARY:Club Shoot (open to the public)
DESCRIPTION:Club shoots are for all members and guests! You don’t need to be a pro to participate. For a qualifying score you will shoot 2 rounds\, one Field and one Hunter (4 arrows at each target). \nClub shoots are held on the 2nd Saturday of each month at 9:00 am. \nAll shooting styles and skill levels are welcome. \nFees\n\nMember – $8\nGuest – $10\n\n\nClick to RSVP\n\n\n 
URL:https://diablo-bowmen.org/event/club-shoot/
LOCATION:CA
CATEGORIES:Shoot
ATTACH;FMTTYPE=image/jpeg:https://diablo-bowmen.org/wp-content/uploads/2024/02/Club-Shoot-3.jpeg
END:VEVENT
END:VCALENDAR