BEGIN:VCALENDAR
VERSION:2.0
PRODID:-//Diablo Bowmen - ECPv6.15.20//NONSGML v1.0//EN
CALSCALE:GREGORIAN
METHOD:PUBLISH
X-ORIGINAL-URL:https://diablo-bowmen.org
X-WR-CALDESC:Events for Diablo Bowmen
REFRESH-INTERVAL;VALUE=DURATION:PT1H
X-Robots-Tag:noindex
X-PUBLISHED-TTL:PT1H
BEGIN:VTIMEZONE
TZID:America/Los_Angeles
BEGIN:DAYLIGHT
TZOFFSETFROM:-0800
TZOFFSETTO:-0700
TZNAME:PDT
DTSTART:20250309T100000
END:DAYLIGHT
BEGIN:STANDARD
TZOFFSETFROM:-0700
TZOFFSETTO:-0800
TZNAME:PST
DTSTART:20251102T090000
END:STANDARD
BEGIN:DAYLIGHT
TZOFFSETFROM:-0800
TZOFFSETTO:-0700
TZNAME:PDT
DTSTART:20260308T100000
END:DAYLIGHT
BEGIN:STANDARD
TZOFFSETFROM:-0700
TZOFFSETTO:-0800
TZNAME:PST
DTSTART:20261101T090000
END:STANDARD
BEGIN:DAYLIGHT
TZOFFSETFROM:-0800
TZOFFSETTO:-0700
TZNAME:PDT
DTSTART:20270314T100000
END:DAYLIGHT
BEGIN:STANDARD
TZOFFSETFROM:-0700
TZOFFSETTO:-0800
TZNAME:PST
DTSTART:20271107T090000
END:STANDARD
END:VTIMEZONE
BEGIN:VEVENT
DTSTART;TZID=America/Los_Angeles:20260711T080000
DTEND;TZID=America/Los_Angeles:20260711T120000
DTSTAMP:20260423T143229
CREATED:20260104T201946Z
LAST-MODIFIED:20260105T223106Z
UID:2768-1783756800-1783771200@diablo-bowmen.org
SUMMARY:Club Shoot (open to the public)
DESCRIPTION:Club shoots are for all members and guests! You don’t need to be a pro to participate. For a qualifying score you will shoot 2 rounds\, one Field and one Hunter (4 arrows at each target). \nClub shoots are held on the 2nd Saturday of each month at 9:00 am. \nAll shooting styles and skill levels are welcome. \nFees\n\nMember – $10\nGuest – $12\n\n\nClick to RSVP\n\n\n 
URL:https://diablo-bowmen.org/event/club-shoot-open-to-the-public-19/
LOCATION:Diablo Bowmen\, Oak Hill Lane\, Clayton\, CA\, 94517\, United States
CATEGORIES:Shoot
ATTACH;FMTTYPE=image/jpeg:https://diablo-bowmen.org/wp-content/uploads/2024/02/Club-Shoot-3.jpeg
END:VEVENT
BEGIN:VEVENT
DTSTART;TZID=America/Los_Angeles:20260726T070000
DTEND;TZID=America/Los_Angeles:20260726T160000
DTSTAMP:20260423T143229
CREATED:20251231T180122Z
LAST-MODIFIED:20251231T180123Z
UID:2756-1785049200-1785081600@diablo-bowmen.org
SUMMARY:Red Devil Extreme 3d Shoot (Open to the Public)
DESCRIPTION:Just before dinosaurs hit San Francisco\, dial in your skills with an awesome 3d shoot on Mount Diablo. \nShot on three of our beautiful courses\, you’ll climb the hills\, walk the creek\, and into the hills\, as you take aim on a variety of animals. \n\n\n\n\nDetails \n\n42 Targets\nMarked Yardage\n2 Arrows per target\n11-10-8 Scoring\nAll NFAA Classes\nTrad Short (35yd max) & Trad Long\n\n\n\n\n\nOrange Spot \nThis is an Orange Spot shoot\, with scoring zones that correspond to the vital areas of the animals
URL:https://diablo-bowmen.org/event/red-devil-extreme-3d-shoot-open-to-the-public-2/
LOCATION:Diablo Bowmen\, Oak Hill Lane\, Clayton\, CA\, 94517\, United States
CATEGORIES:Shoot
ATTACH;FMTTYPE=image/png:https://diablo-bowmen.org/wp-content/uploads/2024/02/Fall-Harvest-4-copy.png
ORGANIZER;CN="President":MAILTO:diablobowmenpresident@gmail.com
END:VEVENT
BEGIN:VEVENT
DTSTART;TZID=America/Los_Angeles:20260808T080000
DTEND;TZID=America/Los_Angeles:20260808T120000
DTSTAMP:20260423T143229
CREATED:20260104T202016Z
LAST-MODIFIED:20260105T223102Z
UID:2769-1786176000-1786190400@diablo-bowmen.org
SUMMARY:Club Shoot (open to the public)
DESCRIPTION:Club shoots are for all members and guests! You don’t need to be a pro to participate. For a qualifying score you will shoot 2 rounds\, one Field and one Hunter (4 arrows at each target). \nClub shoots are held on the 2nd Saturday of each month at 9:00 am. \nAll shooting styles and skill levels are welcome. \nFees\n\nMember – $10\nGuest – $12\n\n\nClick to RSVP\n\n\n 
URL:https://diablo-bowmen.org/event/club-shoot-open-to-the-public-20/
LOCATION:Diablo Bowmen\, Oak Hill Lane\, Clayton\, CA\, 94517\, United States
CATEGORIES:Shoot
ATTACH;FMTTYPE=image/jpeg:https://diablo-bowmen.org/wp-content/uploads/2024/02/Club-Shoot-3.jpeg
END:VEVENT
BEGIN:VEVENT
DTSTART;TZID=America/Los_Angeles:20260822T080000
DTEND;TZID=America/Los_Angeles:20260822T120000
DTSTAMP:20260423T143229
CREATED:20260104T203703Z
LAST-MODIFIED:20260104T203703Z
UID:2803-1787385600-1787400000@diablo-bowmen.org
SUMMARY:Diablo 900 Shoot (open to the public)
DESCRIPTION:The 900 Round is a long to medium-distance competition. It is shot over three separate distances (60\, 50 & 40 yards). It consists of ninety total arrows\, thirty at each distance\, each worth a maximum of ten points. \n900 Round shoots happen on the fourth Saturday of each month at 9:00 am. \nFees\n\nMember – $10\nGuest – $12\n\nClick to RSVP \n 
URL:https://diablo-bowmen.org/event/diablo-900-shoot-open-to-the-public-14/
LOCATION:Diablo Bowmen\, Oak Hill Lane\, Clayton\, CA\, 94517\, United States
CATEGORIES:Shoot
ATTACH;FMTTYPE=image/jpeg:https://diablo-bowmen.org/wp-content/uploads/2024/02/900-Shoot-for-Event.jpeg
ORGANIZER;CN="Diablo 900 Shoot Chair":MAILTO:diablobowmen900shoot@gmail.com
END:VEVENT
BEGIN:VEVENT
DTSTART;TZID=America/Los_Angeles:20260912T080000
DTEND;TZID=America/Los_Angeles:20260912T120000
DTSTAMP:20260423T143229
CREATED:20260104T202045Z
LAST-MODIFIED:20260105T223058Z
UID:2770-1789200000-1789214400@diablo-bowmen.org
SUMMARY:Club Shoot (open to the public)
DESCRIPTION:Club shoots are for all members and guests! You don’t need to be a pro to participate. For a qualifying score you will shoot 2 rounds\, one Field and one Hunter (4 arrows at each target). \nClub shoots are held on the 2nd Saturday of each month at 9:00 am. \nAll shooting styles and skill levels are welcome. \nFees\n\nMember – $10\nGuest – $12\n\n\nClick to RSVP\n\n\n 
URL:https://diablo-bowmen.org/event/club-shoot-open-to-the-public-21/
LOCATION:Diablo Bowmen\, Oak Hill Lane\, Clayton\, CA\, 94517\, United States
CATEGORIES:Shoot
ATTACH;FMTTYPE=image/jpeg:https://diablo-bowmen.org/wp-content/uploads/2024/02/Club-Shoot-3.jpeg
END:VEVENT
BEGIN:VEVENT
DTSTART;TZID=America/Los_Angeles:20260926T080000
DTEND;TZID=America/Los_Angeles:20260926T120000
DTSTAMP:20260423T143229
CREATED:20260104T203712Z
LAST-MODIFIED:20260104T203712Z
UID:2804-1790409600-1790424000@diablo-bowmen.org
SUMMARY:Diablo 900 Shoot (open to the public)
DESCRIPTION:The 900 Round is a long to medium-distance competition. It is shot over three separate distances (60\, 50 & 40 yards). It consists of ninety total arrows\, thirty at each distance\, each worth a maximum of ten points. \n900 Round shoots happen on the fourth Saturday of each month at 9:00 am. \nFees\n\nMember – $10\nGuest – $12\n\nClick to RSVP \n 
URL:https://diablo-bowmen.org/event/diablo-900-shoot-open-to-the-public-15/
LOCATION:Diablo Bowmen\, Oak Hill Lane\, Clayton\, CA\, 94517\, United States
CATEGORIES:Shoot
ATTACH;FMTTYPE=image/jpeg:https://diablo-bowmen.org/wp-content/uploads/2024/02/900-Shoot-for-Event.jpeg
ORGANIZER;CN="Diablo 900 Shoot Chair":MAILTO:diablobowmen900shoot@gmail.com
END:VEVENT
BEGIN:VEVENT
DTSTART;TZID=America/Los_Angeles:20261010T080000
DTEND;TZID=America/Los_Angeles:20261010T120000
DTSTAMP:20260423T143229
CREATED:20260104T202124Z
LAST-MODIFIED:20260105T223054Z
UID:2771-1791619200-1791633600@diablo-bowmen.org
SUMMARY:Club Shoot (open to the public)
DESCRIPTION:Club shoots are for all members and guests! You don’t need to be a pro to participate. For a qualifying score you will shoot 2 rounds\, one Field and one Hunter (4 arrows at each target). \nClub shoots are held on the 2nd Saturday of each month at 9:00 am. \nAll shooting styles and skill levels are welcome. \nFees\n\nMember – $10\nGuest – $12\n\n\nClick to RSVP\n\n\n 
URL:https://diablo-bowmen.org/event/club-shoot-open-to-the-public-22/
LOCATION:Diablo Bowmen\, Oak Hill Lane\, Clayton\, CA\, 94517\, United States
CATEGORIES:Shoot
ATTACH;FMTTYPE=image/jpeg:https://diablo-bowmen.org/wp-content/uploads/2024/02/Club-Shoot-3.jpeg
END:VEVENT
BEGIN:VEVENT
DTSTART;TZID=America/Los_Angeles:20261017T000000
DTEND;TZID=America/Los_Angeles:20261017T235959
DTSTAMP:20260423T143229
CREATED:20260404T215337Z
LAST-MODIFIED:20260404T215337Z
UID:2911-1792195200-1792281599@diablo-bowmen.org
SUMMARY:Family Fun Day
DESCRIPTION:Details to come…
URL:https://diablo-bowmen.org/event/family-fun-day/
LOCATION:Diablo Bowmen\, Oak Hill Lane\, Clayton\, CA\, 94517\, United States
CATEGORIES:Shoot
ORGANIZER;CN="President":MAILTO:diablobowmenpresident@gmail.com
END:VEVENT
BEGIN:VEVENT
DTSTART;TZID=America/Los_Angeles:20261024T080000
DTEND;TZID=America/Los_Angeles:20261024T120000
DTSTAMP:20260423T143229
CREATED:20260104T203727Z
LAST-MODIFIED:20260104T203727Z
UID:2805-1792828800-1792843200@diablo-bowmen.org
SUMMARY:Diablo 900 Shoot (open to the public)
DESCRIPTION:The 900 Round is a long to medium-distance competition. It is shot over three separate distances (60\, 50 & 40 yards). It consists of ninety total arrows\, thirty at each distance\, each worth a maximum of ten points. \n900 Round shoots happen on the fourth Saturday of each month at 9:00 am. \nFees\n\nMember – $10\nGuest – $12\n\nClick to RSVP \n 
URL:https://diablo-bowmen.org/event/diablo-900-shoot-open-to-the-public-16/
LOCATION:Diablo Bowmen\, Oak Hill Lane\, Clayton\, CA\, 94517\, United States
CATEGORIES:Shoot
ATTACH;FMTTYPE=image/jpeg:https://diablo-bowmen.org/wp-content/uploads/2024/02/900-Shoot-for-Event.jpeg
ORGANIZER;CN="Diablo 900 Shoot Chair":MAILTO:diablobowmen900shoot@gmail.com
END:VEVENT
BEGIN:VEVENT
DTSTART;TZID=America/Los_Angeles:20261114T080000
DTEND;TZID=America/Los_Angeles:20261114T120000
DTSTAMP:20260423T143229
CREATED:20260104T202158Z
LAST-MODIFIED:20260105T223050Z
UID:2772-1794643200-1794657600@diablo-bowmen.org
SUMMARY:Club Shoot (open to the public)
DESCRIPTION:Club shoots are for all members and guests! You don’t need to be a pro to participate. For a qualifying score you will shoot 2 rounds\, one Field and one Hunter (4 arrows at each target). \nClub shoots are held on the 2nd Saturday of each month at 9:00 am. \nAll shooting styles and skill levels are welcome. \nFees\n\nMember – $10\nGuest – $12\n\n\nClick to RSVP\n\n\n 
URL:https://diablo-bowmen.org/event/club-shoot-open-to-the-public-23/
LOCATION:Diablo Bowmen\, Oak Hill Lane\, Clayton\, CA\, 94517\, United States
CATEGORIES:Shoot
ATTACH;FMTTYPE=image/jpeg:https://diablo-bowmen.org/wp-content/uploads/2024/02/Club-Shoot-3.jpeg
END:VEVENT
END:VCALENDAR