BEGIN:VCALENDAR
VERSION:2.0
PRODID:-//Diablo Bowmen - ECPv6.15.20//NONSGML v1.0//EN
CALSCALE:GREGORIAN
METHOD:PUBLISH
X-ORIGINAL-URL:https://diablo-bowmen.org
X-WR-CALDESC:Events for Diablo Bowmen
REFRESH-INTERVAL;VALUE=DURATION:PT1H
X-Robots-Tag:noindex
X-PUBLISHED-TTL:PT1H
BEGIN:VTIMEZONE
TZID:America/Los_Angeles
BEGIN:DAYLIGHT
TZOFFSETFROM:-0800
TZOFFSETTO:-0700
TZNAME:PDT
DTSTART:20250309T100000
END:DAYLIGHT
BEGIN:STANDARD
TZOFFSETFROM:-0700
TZOFFSETTO:-0800
TZNAME:PST
DTSTART:20251102T090000
END:STANDARD
BEGIN:DAYLIGHT
TZOFFSETFROM:-0800
TZOFFSETTO:-0700
TZNAME:PDT
DTSTART:20260308T100000
END:DAYLIGHT
BEGIN:STANDARD
TZOFFSETFROM:-0700
TZOFFSETTO:-0800
TZNAME:PST
DTSTART:20261101T090000
END:STANDARD
BEGIN:DAYLIGHT
TZOFFSETFROM:-0800
TZOFFSETTO:-0700
TZNAME:PDT
DTSTART:20270314T100000
END:DAYLIGHT
BEGIN:STANDARD
TZOFFSETFROM:-0700
TZOFFSETTO:-0800
TZNAME:PST
DTSTART:20271107T090000
END:STANDARD
END:VTIMEZONE
BEGIN:VEVENT
DTSTART;TZID=America/Los_Angeles:20260425T080000
DTEND;TZID=America/Los_Angeles:20260425T120000
DTSTAMP:20260423T085024
CREATED:20260104T203621Z
LAST-MODIFIED:20260104T203621Z
UID:2800-1777104000-1777118400@diablo-bowmen.org
SUMMARY:Diablo 900 Shoot (open to the public)
DESCRIPTION:The 900 Round is a long to medium-distance competition. It is shot over three separate distances (60\, 50 & 40 yards). It consists of ninety total arrows\, thirty at each distance\, each worth a maximum of ten points. \n900 Round shoots happen on the fourth Saturday of each month at 9:00 am. \nFees\n\nMember – $10\nGuest – $12\n\nClick to RSVP \n 
URL:https://diablo-bowmen.org/event/diablo-900-shoot-open-to-the-public-11/
LOCATION:Diablo Bowmen\, Oak Hill Lane\, Clayton\, CA\, 94517\, United States
CATEGORIES:Shoot
ATTACH;FMTTYPE=image/jpeg:https://diablo-bowmen.org/wp-content/uploads/2024/02/900-Shoot-for-Event.jpeg
ORGANIZER;CN="Diablo 900 Shoot Chair":MAILTO:diablobowmen900shoot@gmail.com
END:VEVENT
END:VCALENDAR