BEGIN:VCALENDAR
VERSION:2.0
PRODID:-//Diablo Bowmen - ECPv6.15.20//NONSGML v1.0//EN
CALSCALE:GREGORIAN
METHOD:PUBLISH
X-WR-CALNAME:Diablo Bowmen
X-ORIGINAL-URL:https://diablo-bowmen.org
X-WR-CALDESC:Events for Diablo Bowmen
REFRESH-INTERVAL;VALUE=DURATION:PT1H
X-Robots-Tag:noindex
X-PUBLISHED-TTL:PT1H
BEGIN:VTIMEZONE
TZID:America/Los_Angeles
BEGIN:DAYLIGHT
TZOFFSETFROM:-0800
TZOFFSETTO:-0700
TZNAME:PDT
DTSTART:20240310T100000
END:DAYLIGHT
BEGIN:STANDARD
TZOFFSETFROM:-0700
TZOFFSETTO:-0800
TZNAME:PST
DTSTART:20241103T090000
END:STANDARD
BEGIN:DAYLIGHT
TZOFFSETFROM:-0800
TZOFFSETTO:-0700
TZNAME:PDT
DTSTART:20250309T100000
END:DAYLIGHT
BEGIN:STANDARD
TZOFFSETFROM:-0700
TZOFFSETTO:-0800
TZNAME:PST
DTSTART:20251102T090000
END:STANDARD
BEGIN:DAYLIGHT
TZOFFSETFROM:-0800
TZOFFSETTO:-0700
TZNAME:PDT
DTSTART:20260308T100000
END:DAYLIGHT
BEGIN:STANDARD
TZOFFSETFROM:-0700
TZOFFSETTO:-0800
TZNAME:PST
DTSTART:20261101T090000
END:STANDARD
END:VTIMEZONE
BEGIN:VEVENT
DTSTART;TZID=America/Los_Angeles:20250712T080000
DTEND;TZID=America/Los_Angeles:20250712T120000
DTSTAMP:20260423T215043
CREATED:20241222T055859Z
LAST-MODIFIED:20241223T212136Z
UID:2034-1752307200-1752321600@diablo-bowmen.org
SUMMARY:Club Shoot (open to the public)
DESCRIPTION:Club shoots are for all members and guests! You don’t need to be a pro to participate. For a qualifying score you will shoot 2 rounds\, one Field and one Hunter (4 arrows at each target). \nClub shoots are held on the 2nd Saturday of each month at 9:00 am. \nAll shooting styles and skill levels are welcome. \nFees\n\nMember – $8\nGuest – $10\n\n\nClick to RSVP\n\n\n 
URL:https://diablo-bowmen.org/event/club-shoot-open-to-the-public-7/
LOCATION:Diablo Bowmen\, Oak Hill Lane\, Clayton\, CA\, 94517\, United States
CATEGORIES:Shoot
ATTACH;FMTTYPE=image/jpeg:https://diablo-bowmen.org/wp-content/uploads/2024/02/Club-Shoot-3.jpeg
END:VEVENT
BEGIN:VEVENT
DTSTART;TZID=America/Los_Angeles:20250727T000000
DTEND;TZID=America/Los_Angeles:20250727T235959
DTSTAMP:20260423T215043
CREATED:20250517T043335Z
LAST-MODIFIED:20250517T043335Z
UID:2307-1753574400-1753660799@diablo-bowmen.org
SUMMARY:Red Devil Extreme 3d Shoot (Open to the Public)
DESCRIPTION:Just one week before dinosaurs hit San Francisco\, dial in your skills with an awesome 3d shoot on Mount Diablo. \nShot on three of our beautiful courses\, you’ll climb the hills\, walk the creek\, and into the hills\, as you take aim on a variety of animals. \n\n\n\n\nDetails \n\n42 Targets\nMarked Yardage\n2 Arrows per target\n11-10-8 Scoring\nAll NFAA Classes\nTrad Short (35yd max) & Trad Long\n\n\n\n\n\nOrange Spot \nThis is an Orange Spot shoot\, with scoring zones that correspond to the vital areas of the animals
URL:https://diablo-bowmen.org/event/red-devil-extreme-3d-shoot-open-to-the-public/
LOCATION:Diablo Bowmen\, Oak Hill Lane\, Clayton\, CA\, 94517\, United States
CATEGORIES:Shoot
ATTACH;FMTTYPE=image/png:https://diablo-bowmen.org/wp-content/uploads/2024/02/Fall-Harvest-4-copy.png
END:VEVENT
END:VCALENDAR