BEGIN:VCALENDAR
VERSION:2.0
PRODID:-//Diablo Bowmen - ECPv6.15.20//NONSGML v1.0//EN
CALSCALE:GREGORIAN
METHOD:PUBLISH
X-WR-CALNAME:Diablo Bowmen
X-ORIGINAL-URL:https://diablo-bowmen.org
X-WR-CALDESC:Events for Diablo Bowmen
REFRESH-INTERVAL;VALUE=DURATION:PT1H
X-Robots-Tag:noindex
X-PUBLISHED-TTL:PT1H
BEGIN:VTIMEZONE
TZID:America/Los_Angeles
BEGIN:DAYLIGHT
TZOFFSETFROM:-0800
TZOFFSETTO:-0700
TZNAME:PDT
DTSTART:20230312T100000
END:DAYLIGHT
BEGIN:STANDARD
TZOFFSETFROM:-0700
TZOFFSETTO:-0800
TZNAME:PST
DTSTART:20231105T090000
END:STANDARD
BEGIN:DAYLIGHT
TZOFFSETFROM:-0800
TZOFFSETTO:-0700
TZNAME:PDT
DTSTART:20240310T100000
END:DAYLIGHT
BEGIN:STANDARD
TZOFFSETFROM:-0700
TZOFFSETTO:-0800
TZNAME:PST
DTSTART:20241103T090000
END:STANDARD
BEGIN:DAYLIGHT
TZOFFSETFROM:-0800
TZOFFSETTO:-0700
TZNAME:PDT
DTSTART:20250309T100000
END:DAYLIGHT
BEGIN:STANDARD
TZOFFSETFROM:-0700
TZOFFSETTO:-0800
TZNAME:PST
DTSTART:20251102T090000
END:STANDARD
BEGIN:DAYLIGHT
TZOFFSETFROM:-0800
TZOFFSETTO:-0700
TZNAME:PDT
DTSTART:20260308T100000
END:DAYLIGHT
BEGIN:STANDARD
TZOFFSETFROM:-0700
TZOFFSETTO:-0800
TZNAME:PST
DTSTART:20261101T090000
END:STANDARD
END:VTIMEZONE
BEGIN:VEVENT
DTSTART;TZID=America/Los_Angeles:20250906T130000
DTEND;TZID=America/Los_Angeles:20250906T140000
DTSTAMP:20260423T084945
CREATED:20241219T014759Z
LAST-MODIFIED:20241219T014759Z
UID:1983-1757163600-1757167200@diablo-bowmen.org
SUMMARY:Club Meeting
DESCRIPTION:This meeting is open to all club members and prospective members.  \nUpdates are provided about what’s happening at Diablo Bowmen\, Range Updates\, etc.. \nNew members are welcomed.  \nTo be considered for membership\, you must first attend a club meeting. \nA New Member Safety meeting occurs immediately following the meeting.
URL:https://diablo-bowmen.org/event/club-meeting-18/
LOCATION:Diablo Bowmen\, Oak Hill Lane\, Clayton\, CA\, 94517\, United States
CATEGORIES:Meeting
ATTACH;FMTTYPE=image/jpeg:https://diablo-bowmen.org/wp-content/uploads/2024/12/Club-Meeting.jpeg
ORGANIZER;CN="President":MAILTO:diablobowmenpresident@gmail.com
END:VEVENT
BEGIN:VEVENT
DTSTART;TZID=America/Los_Angeles:20250802T140000
DTEND;TZID=America/Los_Angeles:20250802T150000
DTSTAMP:20260423T084945
CREATED:20241219T013737Z
LAST-MODIFIED:20241219T013737Z
UID:1963-1754143200-1754146800@diablo-bowmen.org
SUMMARY:Board Meeting
DESCRIPTION:This meeting is for Board Members only. \nIt is a required meeting for the operations of the club.  \n 
URL:https://diablo-bowmen.org/event/board-meeting-9/
LOCATION:Diablo Bowmen\, Oak Hill Lane\, Clayton\, CA\, 94517\, United States
CATEGORIES:Meeting
ATTACH;FMTTYPE=image/jpeg:https://diablo-bowmen.org/wp-content/uploads/2024/12/Board-Meeting.jpeg
ORGANIZER;CN="President":MAILTO:diablobowmenpresident@gmail.com
END:VEVENT
BEGIN:VEVENT
DTSTART;TZID=America/Los_Angeles:20250802T130000
DTEND;TZID=America/Los_Angeles:20250802T140000
DTSTAMP:20260423T084945
CREATED:20241219T014736Z
LAST-MODIFIED:20241219T014736Z
UID:1982-1754139600-1754143200@diablo-bowmen.org
SUMMARY:Club Meeting
DESCRIPTION:This meeting is open to all club members and prospective members.  \nUpdates are provided about what’s happening at Diablo Bowmen\, Range Updates\, etc.. \nNew members are welcomed.  \nTo be considered for membership\, you must first attend a club meeting. \nA New Member Safety meeting occurs immediately following the meeting.
URL:https://diablo-bowmen.org/event/club-meeting-17/
LOCATION:Diablo Bowmen\, Oak Hill Lane\, Clayton\, CA\, 94517\, United States
CATEGORIES:Meeting
ATTACH;FMTTYPE=image/jpeg:https://diablo-bowmen.org/wp-content/uploads/2024/12/Club-Meeting.jpeg
ORGANIZER;CN="President":MAILTO:diablobowmenpresident@gmail.com
END:VEVENT
BEGIN:VEVENT
DTSTART;TZID=America/Los_Angeles:20250705T130000
DTEND;TZID=America/Los_Angeles:20250705T140000
DTSTAMP:20260423T084945
CREATED:20241219T014721Z
LAST-MODIFIED:20241219T014721Z
UID:1981-1751720400-1751724000@diablo-bowmen.org
SUMMARY:Club Meeting
DESCRIPTION:This meeting is open to all club members and prospective members.  \nUpdates are provided about what’s happening at Diablo Bowmen\, Range Updates\, etc.. \nNew members are welcomed.  \nTo be considered for membership\, you must first attend a club meeting. \nA New Member Safety meeting occurs immediately following the meeting.
URL:https://diablo-bowmen.org/event/club-meeting-16/
LOCATION:Diablo Bowmen\, Oak Hill Lane\, Clayton\, CA\, 94517\, United States
CATEGORIES:Meeting
ATTACH;FMTTYPE=image/jpeg:https://diablo-bowmen.org/wp-content/uploads/2024/12/Club-Meeting.jpeg
ORGANIZER;CN="President":MAILTO:diablobowmenpresident@gmail.com
END:VEVENT
BEGIN:VEVENT
DTSTART;TZID=America/Los_Angeles:20250607T140000
DTEND;TZID=America/Los_Angeles:20250607T150000
DTSTAMP:20260423T084945
CREATED:20241219T013659Z
LAST-MODIFIED:20241219T013659Z
UID:1962-1749304800-1749308400@diablo-bowmen.org
SUMMARY:Board Meeting
DESCRIPTION:This meeting is for Board Members only. \nIt is a required meeting for the operations of the club.  \n 
URL:https://diablo-bowmen.org/event/board-meeting-8/
LOCATION:Diablo Bowmen\, Oak Hill Lane\, Clayton\, CA\, 94517\, United States
CATEGORIES:Meeting
ATTACH;FMTTYPE=image/jpeg:https://diablo-bowmen.org/wp-content/uploads/2024/12/Board-Meeting.jpeg
ORGANIZER;CN="President":MAILTO:diablobowmenpresident@gmail.com
END:VEVENT
BEGIN:VEVENT
DTSTART;TZID=America/Los_Angeles:20250607T130000
DTEND;TZID=America/Los_Angeles:20250607T140000
DTSTAMP:20260423T084945
CREATED:20241219T014706Z
LAST-MODIFIED:20241219T014706Z
UID:1980-1749301200-1749304800@diablo-bowmen.org
SUMMARY:Club Meeting
DESCRIPTION:This meeting is open to all club members and prospective members.  \nUpdates are provided about what’s happening at Diablo Bowmen\, Range Updates\, etc.. \nNew members are welcomed.  \nTo be considered for membership\, you must first attend a club meeting. \nA New Member Safety meeting occurs immediately following the meeting.
URL:https://diablo-bowmen.org/event/club-meeting-15/
LOCATION:Diablo Bowmen\, Oak Hill Lane\, Clayton\, CA\, 94517\, United States
CATEGORIES:Meeting
ATTACH;FMTTYPE=image/jpeg:https://diablo-bowmen.org/wp-content/uploads/2024/12/Club-Meeting.jpeg
ORGANIZER;CN="President":MAILTO:diablobowmenpresident@gmail.com
END:VEVENT
BEGIN:VEVENT
DTSTART;TZID=America/Los_Angeles:20250503T130000
DTEND;TZID=America/Los_Angeles:20250503T140000
DTSTAMP:20260423T084945
CREATED:20241219T014650Z
LAST-MODIFIED:20241219T014650Z
UID:1979-1746277200-1746280800@diablo-bowmen.org
SUMMARY:Club Meeting
DESCRIPTION:This meeting is open to all club members and prospective members.  \nUpdates are provided about what’s happening at Diablo Bowmen\, Range Updates\, etc.. \nNew members are welcomed.  \nTo be considered for membership\, you must first attend a club meeting. \nA New Member Safety meeting occurs immediately following the meeting.
URL:https://diablo-bowmen.org/event/club-meeting-14/
LOCATION:Diablo Bowmen\, Oak Hill Lane\, Clayton\, CA\, 94517\, United States
CATEGORIES:Meeting
ATTACH;FMTTYPE=image/jpeg:https://diablo-bowmen.org/wp-content/uploads/2024/12/Club-Meeting.jpeg
ORGANIZER;CN="President":MAILTO:diablobowmenpresident@gmail.com
END:VEVENT
BEGIN:VEVENT
DTSTART;TZID=America/Los_Angeles:20250405T140000
DTEND;TZID=America/Los_Angeles:20250405T150000
DTSTAMP:20260423T084945
CREATED:20241219T013628Z
LAST-MODIFIED:20241219T013628Z
UID:1961-1743861600-1743865200@diablo-bowmen.org
SUMMARY:Board Meeting
DESCRIPTION:This meeting is for Board Members only. \nIt is a required meeting for the operations of the club.  \n 
URL:https://diablo-bowmen.org/event/board-meeting-7/
LOCATION:Diablo Bowmen\, Oak Hill Lane\, Clayton\, CA\, 94517\, United States
CATEGORIES:Meeting
ATTACH;FMTTYPE=image/jpeg:https://diablo-bowmen.org/wp-content/uploads/2024/12/Board-Meeting.jpeg
ORGANIZER;CN="President":MAILTO:diablobowmenpresident@gmail.com
END:VEVENT
BEGIN:VEVENT
DTSTART;TZID=America/Los_Angeles:20250405T130000
DTEND;TZID=America/Los_Angeles:20250405T140000
DTSTAMP:20260423T084945
CREATED:20241219T014632Z
LAST-MODIFIED:20241219T014632Z
UID:1978-1743858000-1743861600@diablo-bowmen.org
SUMMARY:Club Meeting
DESCRIPTION:This meeting is open to all club members and prospective members.  \nUpdates are provided about what’s happening at Diablo Bowmen\, Range Updates\, etc.. \nNew members are welcomed.  \nTo be considered for membership\, you must first attend a club meeting. \nA New Member Safety meeting occurs immediately following the meeting.
URL:https://diablo-bowmen.org/event/club-meeting-13/
LOCATION:Diablo Bowmen\, Oak Hill Lane\, Clayton\, CA\, 94517\, United States
CATEGORIES:Meeting
ATTACH;FMTTYPE=image/jpeg:https://diablo-bowmen.org/wp-content/uploads/2024/12/Club-Meeting.jpeg
ORGANIZER;CN="President":MAILTO:diablobowmenpresident@gmail.com
END:VEVENT
BEGIN:VEVENT
DTSTART;TZID=America/Los_Angeles:20250301T130000
DTEND;TZID=America/Los_Angeles:20250301T140000
DTSTAMP:20260423T084945
CREATED:20241219T014616Z
LAST-MODIFIED:20241219T014616Z
UID:1977-1740834000-1740837600@diablo-bowmen.org
SUMMARY:Club Meeting
DESCRIPTION:This meeting is open to all club members and prospective members.  \nUpdates are provided about what’s happening at Diablo Bowmen\, Range Updates\, etc.. \nNew members are welcomed.  \nTo be considered for membership\, you must first attend a club meeting. \nA New Member Safety meeting occurs immediately following the meeting.
URL:https://diablo-bowmen.org/event/club-meeting-12/
LOCATION:Diablo Bowmen\, Oak Hill Lane\, Clayton\, CA\, 94517\, United States
CATEGORIES:Meeting
ATTACH;FMTTYPE=image/jpeg:https://diablo-bowmen.org/wp-content/uploads/2024/12/Club-Meeting.jpeg
ORGANIZER;CN="President":MAILTO:diablobowmenpresident@gmail.com
END:VEVENT
BEGIN:VEVENT
DTSTART;TZID=America/Los_Angeles:20250201T140000
DTEND;TZID=America/Los_Angeles:20250201T150000
DTSTAMP:20260423T084945
CREATED:20241219T013553Z
LAST-MODIFIED:20241219T013553Z
UID:1959-1738418400-1738422000@diablo-bowmen.org
SUMMARY:Board Meeting
DESCRIPTION:This meeting is for Board Members only. \nIt is a required meeting for the operations of the club.  \n 
URL:https://diablo-bowmen.org/event/board-meeting-6/
LOCATION:Diablo Bowmen\, Oak Hill Lane\, Clayton\, CA\, 94517\, United States
CATEGORIES:Meeting
ATTACH;FMTTYPE=image/jpeg:https://diablo-bowmen.org/wp-content/uploads/2024/12/Board-Meeting.jpeg
ORGANIZER;CN="President":MAILTO:diablobowmenpresident@gmail.com
END:VEVENT
BEGIN:VEVENT
DTSTART;TZID=America/Los_Angeles:20250201T130000
DTEND;TZID=America/Los_Angeles:20250201T140000
DTSTAMP:20260423T084945
CREATED:20241219T014602Z
LAST-MODIFIED:20241219T014602Z
UID:1976-1738414800-1738418400@diablo-bowmen.org
SUMMARY:Club Meeting
DESCRIPTION:This meeting is open to all club members and prospective members.  \nUpdates are provided about what’s happening at Diablo Bowmen\, Range Updates\, etc.. \nNew members are welcomed.  \nTo be considered for membership\, you must first attend a club meeting. \nA New Member Safety meeting occurs immediately following the meeting.
URL:https://diablo-bowmen.org/event/club-meeting-11/
LOCATION:Diablo Bowmen\, Oak Hill Lane\, Clayton\, CA\, 94517\, United States
CATEGORIES:Meeting
ATTACH;FMTTYPE=image/jpeg:https://diablo-bowmen.org/wp-content/uploads/2024/12/Club-Meeting.jpeg
ORGANIZER;CN="President":MAILTO:diablobowmenpresident@gmail.com
END:VEVENT
BEGIN:VEVENT
DTSTART;TZID=America/Los_Angeles:20250104T130000
DTEND;TZID=America/Los_Angeles:20250104T140000
DTSTAMP:20260423T084945
CREATED:20241219T014547Z
LAST-MODIFIED:20241219T014547Z
UID:1975-1735995600-1735999200@diablo-bowmen.org
SUMMARY:Club Meeting
DESCRIPTION:This meeting is open to all club members and prospective members.  \nUpdates are provided about what’s happening at Diablo Bowmen\, Range Updates\, etc.. \nNew members are welcomed.  \nTo be considered for membership\, you must first attend a club meeting. \nA New Member Safety meeting occurs immediately following the meeting.
URL:https://diablo-bowmen.org/event/club-meeting-9/
LOCATION:Diablo Bowmen\, Oak Hill Lane\, Clayton\, CA\, 94517\, United States
CATEGORIES:Meeting
ATTACH;FMTTYPE=image/jpeg:https://diablo-bowmen.org/wp-content/uploads/2024/12/Club-Meeting.jpeg
ORGANIZER;CN="President":MAILTO:diablobowmenpresident@gmail.com
END:VEVENT
BEGIN:VEVENT
DTSTART;TZID=America/Los_Angeles:20241214T153000
DTEND;TZID=America/Los_Angeles:20241214T170000
DTSTAMP:20260423T084945
CREATED:20241017T193438Z
LAST-MODIFIED:20241017T193510Z
UID:1824-1734190200-1734195600@diablo-bowmen.org
SUMMARY:Board Installation Dinner
DESCRIPTION:
URL:https://diablo-bowmen.org/event/board-installation-dinner/
LOCATION:Concord Mt. Diablo Trail Ride Association\, 1600 Trail Ride Rd.\, Concord\, CA\, 94517\, United States
CATEGORIES:Meeting
ATTACH;FMTTYPE=image/jpeg:https://diablo-bowmen.org/wp-content/uploads/2024/10/CMDTRA.jpg
ORGANIZER;CN="President":MAILTO:diablobowmenpresident@gmail.com
END:VEVENT
BEGIN:VEVENT
DTSTART;TZID=America/Los_Angeles:20241207T140000
DTEND;TZID=America/Los_Angeles:20241207T150000
DTSTAMP:20260423T084945
CREATED:20240211T195112Z
LAST-MODIFIED:20240517T210540Z
UID:421-1733580000-1733583600@diablo-bowmen.org
SUMMARY:Board Meeting
DESCRIPTION:This meeting is for Board Members only. \nIt is a required meeting for the operations of the club.  \n 
URL:https://diablo-bowmen.org/event/board-meeting-5/
LOCATION:CA
CATEGORIES:Meeting
ATTACH;FMTTYPE=image/jpeg:https://diablo-bowmen.org/wp-content/uploads/2024/02/Board-Meeting-Post.jpg
ORGANIZER;CN="President":MAILTO:diablobowmenpresident@gmail.com
END:VEVENT
BEGIN:VEVENT
DTSTART;TZID=America/Los_Angeles:20241207T130000
DTEND;TZID=America/Los_Angeles:20241207T140000
DTSTAMP:20260423T084945
CREATED:20240211T195102Z
LAST-MODIFIED:20240229T152617Z
UID:420-1733576400-1733580000@diablo-bowmen.org
SUMMARY:Club Meeting
DESCRIPTION:This meeting is open to all club members and prospective members.  \nUpdates are provided about what’s happening at Diablo Bowmen\, Range Updates\, etc.. \nNew members are welcomed. To be considered for membership\, you must first attend a club meeting. \nA New Member Safety meeting occurs immediately following the meeting.
URL:https://diablo-bowmen.org/event/club-meeting-10/
LOCATION:CA
CATEGORIES:Meeting
ATTACH;FMTTYPE=image/png:https://diablo-bowmen.org/wp-content/uploads/2024/02/family.png
ORGANIZER;CN="President":MAILTO:diablobowmenpresident@gmail.com
END:VEVENT
BEGIN:VEVENT
DTSTART;TZID=America/Los_Angeles:20241102T170000
DTEND;TZID=America/Los_Angeles:20241102T200000
DTSTAMP:20260423T084945
CREATED:20241017T192640Z
LAST-MODIFIED:20241022T033830Z
UID:1820-1730566800-1730577600@diablo-bowmen.org
SUMMARY:Membership/Election Meeting
DESCRIPTION:Our General Meeting will be held at Mountain Mike’s Pizza\, 5358 Clayton Road\, Concord from 5-8pm. \nThis is our annual Elections Meeting to vote in the Board for 2025 \nPlease RSVP so we can plan accordingly for pizza. \nClick to RSVP 
URL:https://diablo-bowmen.org/event/membership-election-meeting/
LOCATION:Mountain Mike’s Pizza\, 5358 Clayton Rd\, Concord\, CA\, 94521\, United States
CATEGORIES:Meeting
ATTACH;FMTTYPE=image/jpeg:https://diablo-bowmen.org/wp-content/uploads/2024/10/Mountain-Mikes.jpg
ORGANIZER;CN="President":MAILTO:diablobowmenpresident@gmail.com
END:VEVENT
BEGIN:VEVENT
DTSTART;TZID=America/Los_Angeles:20241005T140000
DTEND;TZID=America/Los_Angeles:20241005T150000
DTSTAMP:20260423T084945
CREATED:20240211T195042Z
LAST-MODIFIED:20240517T210547Z
UID:412-1728136800-1728140400@diablo-bowmen.org
SUMMARY:Board Meeting
DESCRIPTION:This meeting is for Board Members only. \nIt is a required meeting for the operations of the club.  \n 
URL:https://diablo-bowmen.org/event/board-meeting-4/
LOCATION:CA
CATEGORIES:Meeting
ATTACH;FMTTYPE=image/jpeg:https://diablo-bowmen.org/wp-content/uploads/2024/02/Board-Meeting-Post.jpg
ORGANIZER;CN="President":MAILTO:diablobowmenpresident@gmail.com
END:VEVENT
BEGIN:VEVENT
DTSTART;TZID=America/Los_Angeles:20241005T130000
DTEND;TZID=America/Los_Angeles:20241005T140000
DTSTAMP:20260423T084945
CREATED:20240211T195041Z
LAST-MODIFIED:20240229T152635Z
UID:411-1728133200-1728136800@diablo-bowmen.org
SUMMARY:Club Meeting
DESCRIPTION:This meeting is open to all club members and prospective members.  \nUpdates are provided about what’s happening at Diablo Bowmen\, Range Updates\, etc.. \nNew members are welcomed. To be considered for membership\, you must first attend a club meeting. \nA New Member Safety meeting occurs immediately following the meeting.
URL:https://diablo-bowmen.org/event/club-meeting-8/
LOCATION:CA
CATEGORIES:Meeting
ATTACH;FMTTYPE=image/png:https://diablo-bowmen.org/wp-content/uploads/2024/02/family.png
ORGANIZER;CN="President":MAILTO:diablobowmenpresident@gmail.com
END:VEVENT
BEGIN:VEVENT
DTSTART;TZID=America/Los_Angeles:20240907T130000
DTEND;TZID=America/Los_Angeles:20240907T140000
DTSTAMP:20260423T084945
CREATED:20240211T194937Z
LAST-MODIFIED:20240229T152647Z
UID:407-1725714000-1725717600@diablo-bowmen.org
SUMMARY:Club Meeting
DESCRIPTION:This meeting is open to all club members and prospective members.  \nUpdates are provided about what’s happening at Diablo Bowmen\, Range Updates\, etc.. \nNew members are welcomed. To be considered for membership\, you must first attend a club meeting. \nA New Member Safety meeting occurs immediately following the meeting.
URL:https://diablo-bowmen.org/event/club-meeting-7/
LOCATION:CA
CATEGORIES:Meeting
ATTACH;FMTTYPE=image/png:https://diablo-bowmen.org/wp-content/uploads/2024/02/family.png
ORGANIZER;CN="President":MAILTO:diablobowmenpresident@gmail.com
END:VEVENT
BEGIN:VEVENT
DTSTART;TZID=America/Los_Angeles:20240803T140000
DTEND;TZID=America/Los_Angeles:20240803T150000
DTSTAMP:20260423T084945
CREATED:20240211T194848Z
LAST-MODIFIED:20240517T210554Z
UID:403-1722693600-1722697200@diablo-bowmen.org
SUMMARY:Board Meeting
DESCRIPTION:This meeting is for Board Members only. \nIt is a required meeting for the operations of the club.  \n 
URL:https://diablo-bowmen.org/event/board-meeting-3/
LOCATION:CA
CATEGORIES:Meeting
ATTACH;FMTTYPE=image/jpeg:https://diablo-bowmen.org/wp-content/uploads/2024/02/Board-Meeting-Post.jpg
ORGANIZER;CN="President":MAILTO:diablobowmenpresident@gmail.com
END:VEVENT
BEGIN:VEVENT
DTSTART;TZID=America/Los_Angeles:20240803T130000
DTEND;TZID=America/Los_Angeles:20240803T140000
DTSTAMP:20260423T084945
CREATED:20240211T194847Z
LAST-MODIFIED:20240229T152655Z
UID:402-1722690000-1722693600@diablo-bowmen.org
SUMMARY:Club Meeting
DESCRIPTION:This meeting is open to all club members and prospective members.  \nUpdates are provided about what’s happening at Diablo Bowmen\, Range Updates\, etc.. \nNew members are welcomed. To be considered for membership\, you must first attend a club meeting. \nA New Member Safety meeting occurs immediately following the meeting.
URL:https://diablo-bowmen.org/event/club-meeting-6/
LOCATION:CA
CATEGORIES:Meeting
ATTACH;FMTTYPE=image/png:https://diablo-bowmen.org/wp-content/uploads/2024/02/family.png
ORGANIZER;CN="President":MAILTO:diablobowmenpresident@gmail.com
END:VEVENT
BEGIN:VEVENT
DTSTART;TZID=America/Los_Angeles:20240706T130000
DTEND;TZID=America/Los_Angeles:20240706T140000
DTSTAMP:20260423T084945
CREATED:20240211T194831Z
LAST-MODIFIED:20240703T143931Z
UID:398-1720270800-1720274400@diablo-bowmen.org
SUMMARY:Club Meeting (CANCELED)
DESCRIPTION:This meeting is open to all club members and prospective members.  \nUpdates are provided about what’s happening at Diablo Bowmen\, Range Updates\, etc.. \nNew members are welcomed. To be considered for membership\, you must first attend a club meeting. \nA New Member Safety meeting occurs immediately following the meeting.
URL:https://diablo-bowmen.org/event/club-meeting-5/
LOCATION:CA
CATEGORIES:Meeting
ATTACH;FMTTYPE=image/png:https://diablo-bowmen.org/wp-content/uploads/2024/02/family.png
ORGANIZER;CN="President":MAILTO:diablobowmenpresident@gmail.com
END:VEVENT
BEGIN:VEVENT
DTSTART;TZID=America/Los_Angeles:20240601T140000
DTEND;TZID=America/Los_Angeles:20240601T150000
DTSTAMP:20260423T084945
CREATED:20240211T194804Z
LAST-MODIFIED:20240517T210602Z
UID:394-1717250400-1717254000@diablo-bowmen.org
SUMMARY:Board Meeting
DESCRIPTION:This meeting is for Board Members only. \nIt is a required meeting for the operations of the club.  \n 
URL:https://diablo-bowmen.org/event/board-meeting-2/
LOCATION:CA
CATEGORIES:Meeting
ATTACH;FMTTYPE=image/jpeg:https://diablo-bowmen.org/wp-content/uploads/2024/02/Board-Meeting-Post.jpg
ORGANIZER;CN="President":MAILTO:diablobowmenpresident@gmail.com
END:VEVENT
BEGIN:VEVENT
DTSTART;TZID=America/Los_Angeles:20240601T130000
DTEND;TZID=America/Los_Angeles:20240601T140000
DTSTAMP:20260423T084945
CREATED:20240211T194802Z
LAST-MODIFIED:20240229T152711Z
UID:393-1717246800-1717250400@diablo-bowmen.org
SUMMARY:Club Meeting
DESCRIPTION:This meeting is open to all club members and prospective members.  \nUpdates are provided about what’s happening at Diablo Bowmen\, Range Updates\, etc.. \nNew members are welcomed. To be considered for membership\, you must first attend a club meeting. \nA New Member Safety meeting occurs immediately following the meeting.
URL:https://diablo-bowmen.org/event/club-meeting-4/
LOCATION:CA
CATEGORIES:Meeting
ATTACH;FMTTYPE=image/png:https://diablo-bowmen.org/wp-content/uploads/2024/02/family.png
ORGANIZER;CN="President":MAILTO:diablobowmenpresident@gmail.com
END:VEVENT
BEGIN:VEVENT
DTSTART;TZID=America/Los_Angeles:20240504T130000
DTEND;TZID=America/Los_Angeles:20240504T140000
DTSTAMP:20260423T084945
CREATED:20240211T194755Z
LAST-MODIFIED:20240229T152719Z
UID:389-1714827600-1714831200@diablo-bowmen.org
SUMMARY:Club Meeting
DESCRIPTION:This meeting is open to all club members and prospective members.  \nUpdates are provided about what’s happening at Diablo Bowmen\, Range Updates\, etc.. \nNew members are welcomed. To be considered for membership\, you must first attend a club meeting. \nA New Member Safety meeting occurs immediately following the meeting.
URL:https://diablo-bowmen.org/event/club-meeting-3/
LOCATION:CA
CATEGORIES:Meeting
ATTACH;FMTTYPE=image/png:https://diablo-bowmen.org/wp-content/uploads/2024/02/family.png
ORGANIZER;CN="President":MAILTO:diablobowmenpresident@gmail.com
END:VEVENT
BEGIN:VEVENT
DTSTART;TZID=America/Los_Angeles:20240406T140000
DTEND;TZID=America/Los_Angeles:20240406T150000
DTSTAMP:20260423T084945
CREATED:20240209T004403Z
LAST-MODIFIED:20240318T172034Z
UID:331-1712412000-1712415600@diablo-bowmen.org
SUMMARY:Board Meeting
DESCRIPTION:This meeting is for Board Members only. \nIt is a required meeting for the operations of the club.  \n 
URL:https://diablo-bowmen.org/event/board-meeting/
LOCATION:CA
CATEGORIES:Meeting
ATTACH;FMTTYPE=image/jpeg:https://diablo-bowmen.org/wp-content/uploads/2024/02/Board-Meeting-Post.jpg
ORGANIZER;CN="President":MAILTO:diablobowmenpresident@gmail.com
END:VEVENT
BEGIN:VEVENT
DTSTART;TZID=America/Los_Angeles:20240406T130000
DTEND;TZID=America/Los_Angeles:20240406T140000
DTSTAMP:20260423T084945
CREATED:20240209T004402Z
LAST-MODIFIED:20240229T152726Z
UID:330-1712408400-1712412000@diablo-bowmen.org
SUMMARY:Club Meeting
DESCRIPTION:This meeting is open to all club members and prospective members.  \nUpdates are provided about what’s happening at Diablo Bowmen\, Range Updates\, etc.. \nNew members are welcomed. To be considered for membership\, you must first attend a club meeting. \nA New Member Safety meeting occurs immediately following the meeting.
URL:https://diablo-bowmen.org/event/club-meeting-2/
LOCATION:CA
CATEGORIES:Meeting
ATTACH;FMTTYPE=image/png:https://diablo-bowmen.org/wp-content/uploads/2024/02/family.png
ORGANIZER;CN="President":MAILTO:diablobowmenpresident@gmail.com
END:VEVENT
BEGIN:VEVENT
DTSTART;TZID=America/Los_Angeles:20240302T130000
DTEND;TZID=America/Los_Angeles:20240302T140000
DTSTAMP:20260423T084945
CREATED:20240209T002746Z
LAST-MODIFIED:20240229T152733Z
UID:312-1709384400-1709388000@diablo-bowmen.org
SUMMARY:Club Meeting
DESCRIPTION:This meeting is open to all club members and prospective members.  \nUpdates are provided about what’s happening at Diablo Bowmen\, Range Updates\, etc.. \nNew members are welcomed. To be considered for membership\, you must first attend a club meeting. \nA New Member Safety meeting occurs immediately following the meeting.
URL:https://diablo-bowmen.org/event/club-meeting/
LOCATION:CA
CATEGORIES:Meeting
ATTACH;FMTTYPE=image/png:https://diablo-bowmen.org/wp-content/uploads/2024/02/family.png
ORGANIZER;CN="President":MAILTO:diablobowmenpresident@gmail.com
END:VEVENT
END:VCALENDAR