BEGIN:VCALENDAR
VERSION:2.0
PRODID:-//Diablo Bowmen - ECPv6.15.20//NONSGML v1.0//EN
CALSCALE:GREGORIAN
METHOD:PUBLISH
X-ORIGINAL-URL:https://diablo-bowmen.org
X-WR-CALDESC:Events for Diablo Bowmen
REFRESH-INTERVAL;VALUE=DURATION:PT1H
X-Robots-Tag:noindex
X-PUBLISHED-TTL:PT1H
BEGIN:VTIMEZONE
TZID:America/Los_Angeles
BEGIN:DAYLIGHT
TZOFFSETFROM:-0800
TZOFFSETTO:-0700
TZNAME:PDT
DTSTART:20240310T100000
END:DAYLIGHT
BEGIN:STANDARD
TZOFFSETFROM:-0700
TZOFFSETTO:-0800
TZNAME:PST
DTSTART:20241103T090000
END:STANDARD
BEGIN:DAYLIGHT
TZOFFSETFROM:-0800
TZOFFSETTO:-0700
TZNAME:PDT
DTSTART:20250309T100000
END:DAYLIGHT
BEGIN:STANDARD
TZOFFSETFROM:-0700
TZOFFSETTO:-0800
TZNAME:PST
DTSTART:20251102T090000
END:STANDARD
BEGIN:DAYLIGHT
TZOFFSETFROM:-0800
TZOFFSETTO:-0700
TZNAME:PDT
DTSTART:20260308T100000
END:DAYLIGHT
BEGIN:STANDARD
TZOFFSETFROM:-0700
TZOFFSETTO:-0800
TZNAME:PST
DTSTART:20261101T090000
END:STANDARD
END:VTIMEZONE
BEGIN:VEVENT
DTSTART;TZID=America/Los_Angeles:20251213T153000
DTEND;TZID=America/Los_Angeles:20251213T170000
DTSTAMP:20260423T143044
CREATED:20251113T214055Z
LAST-MODIFIED:20251113T214055Z
UID:2673-1765639800-1765645200@diablo-bowmen.org
SUMMARY:Board Installation Dinner
DESCRIPTION:We will be serving food from Kinder’s Meats Deli & BBQ.  Members and their Guests are welcome.  \nAppetizers and Refreshments at 3:30 pm \nDinner at 5:00 pm \nAwards and Installation of 2026 Officers following dinner. \n  \nPlease click here to complete the RSVP form. \nPlease RSVP by December 6th if you are planning to attend this year’s dinner. Hope to see you there.  \n  \nPayment can be made by: \nPayPal\, please use the link below\, or \nCheck\, mailed to Diablo Bowmen\, PO Box 70\, Clayton\, CA 94517\, or \nPay via credit card using this invoice link Installation Dinner Online payment \n  \n  \n  \n 
URL:https://diablo-bowmen.org/event/board-installation-dinner-2/
LOCATION:Concord Mt. Diablo Trail Ride Association\, 1600 Trail Ride Rd.\, Concord\, CA\, 94517\, United States
CATEGORIES:Meeting
ORGANIZER;CN="President":MAILTO:diablobowmenpresident@gmail.com
END:VEVENT
END:VCALENDAR