BEGIN:VCALENDAR
VERSION:2.0
PRODID:-//Diablo Bowmen - ECPv6.15.20//NONSGML v1.0//EN
CALSCALE:GREGORIAN
METHOD:PUBLISH
X-WR-CALNAME:Diablo Bowmen
X-ORIGINAL-URL:https://diablo-bowmen.org
X-WR-CALDESC:Events for Diablo Bowmen
REFRESH-INTERVAL;VALUE=DURATION:PT1H
X-Robots-Tag:noindex
X-PUBLISHED-TTL:PT1H
BEGIN:VTIMEZONE
TZID:America/Los_Angeles
BEGIN:DAYLIGHT
TZOFFSETFROM:-0800
TZOFFSETTO:-0700
TZNAME:PDT
DTSTART:20250309T100000
END:DAYLIGHT
BEGIN:STANDARD
TZOFFSETFROM:-0700
TZOFFSETTO:-0800
TZNAME:PST
DTSTART:20251102T090000
END:STANDARD
BEGIN:DAYLIGHT
TZOFFSETFROM:-0800
TZOFFSETTO:-0700
TZNAME:PDT
DTSTART:20260308T100000
END:DAYLIGHT
BEGIN:STANDARD
TZOFFSETFROM:-0700
TZOFFSETTO:-0800
TZNAME:PST
DTSTART:20261101T090000
END:STANDARD
BEGIN:DAYLIGHT
TZOFFSETFROM:-0800
TZOFFSETTO:-0700
TZNAME:PDT
DTSTART:20270314T100000
END:DAYLIGHT
BEGIN:STANDARD
TZOFFSETFROM:-0700
TZOFFSETTO:-0800
TZNAME:PST
DTSTART:20271107T090000
END:STANDARD
END:VTIMEZONE
BEGIN:VEVENT
DTSTART;TZID=America/Los_Angeles:20260905T130000
DTEND;TZID=America/Los_Angeles:20260905T140000
DTSTAMP:20260423T142557
CREATED:20251231T160507Z
LAST-MODIFIED:20251231T163753Z
UID:2728-1788613200-1788616800@diablo-bowmen.org
SUMMARY:Club Meeting
DESCRIPTION:This meeting is open to all club members and prospective members.  \nUpdates are provided about what’s happening at Diablo Bowmen\, Range Updates\, etc.. \nNew members are welcomed.  \nTo be considered for membership\, you must first attend a club meeting. \nA New Member Safety meeting occurs immediately following the meeting.
URL:https://diablo-bowmen.org/event/club-meeting-30/
LOCATION:Diablo Bowmen\, Oak Hill Lane\, Clayton\, CA\, 94517\, United States
CATEGORIES:Meeting
ATTACH;FMTTYPE=image/jpeg:https://diablo-bowmen.org/wp-content/uploads/2024/12/Club-Meeting.jpeg
ORGANIZER;CN="President":MAILTO:diablobowmenpresident@gmail.com
END:VEVENT
END:VCALENDAR