BEGIN:VCALENDAR
VERSION:2.0
PRODID:-//Diablo Bowmen - ECPv6.15.20//NONSGML v1.0//EN
CALSCALE:GREGORIAN
METHOD:PUBLISH
X-WR-CALNAME:Diablo Bowmen
X-ORIGINAL-URL:https://diablo-bowmen.org
X-WR-CALDESC:Events for Diablo Bowmen
REFRESH-INTERVAL;VALUE=DURATION:PT1H
X-Robots-Tag:noindex
X-PUBLISHED-TTL:PT1H
BEGIN:VTIMEZONE
TZID:America/Los_Angeles
BEGIN:DAYLIGHT
TZOFFSETFROM:-0800
TZOFFSETTO:-0700
TZNAME:PDT
DTSTART:20230312T100000
END:DAYLIGHT
BEGIN:STANDARD
TZOFFSETFROM:-0700
TZOFFSETTO:-0800
TZNAME:PST
DTSTART:20231105T090000
END:STANDARD
BEGIN:DAYLIGHT
TZOFFSETFROM:-0800
TZOFFSETTO:-0700
TZNAME:PDT
DTSTART:20240310T100000
END:DAYLIGHT
BEGIN:STANDARD
TZOFFSETFROM:-0700
TZOFFSETTO:-0800
TZNAME:PST
DTSTART:20241103T090000
END:STANDARD
BEGIN:DAYLIGHT
TZOFFSETFROM:-0800
TZOFFSETTO:-0700
TZNAME:PDT
DTSTART:20250309T100000
END:DAYLIGHT
BEGIN:STANDARD
TZOFFSETFROM:-0700
TZOFFSETTO:-0800
TZNAME:PST
DTSTART:20251102T090000
END:STANDARD
END:VTIMEZONE
BEGIN:VEVENT
DTSTART;TZID=America/Los_Angeles:20240803T080000
DTEND;TZID=America/Los_Angeles:20240803T120000
DTSTAMP:20260423T103811
CREATED:20240211T194845Z
LAST-MODIFIED:20240229T151936Z
UID:401-1722672000-1722686400@diablo-bowmen.org
SUMMARY:Maintenance Day
DESCRIPTION:In order to maintain Diablo Bowmen Archery Club\, we host a monthly range maintenance day. It occurs the second Saturday of each month from 8:00 am – 12:00 pm. For our major tournaments\, we hold a special maintenance day just before the tournament. Participation can help offset your annual maintenance fees.\n \nOur Range Manager determines what work needs to be done. Typical tasks are:\n• Raking the trails\, picnic area\, or the practice range\n• Weed whacking the trails\, picnic area\, or the practice range\n• Replacing paper targets\n• Replacing/repairing target bales\n• Cleaning and maintaining the Clubhouse\n• Trimming trees and clearing shooting lanes\n\nLunch is provided to those who RSVP \n\nClick to RSVP\n\n\n 
URL:https://diablo-bowmen.org/event/maintenance-day-6/
LOCATION:CA
CATEGORIES:Maintenance
ATTACH;FMTTYPE=image/jpeg:https://diablo-bowmen.org/wp-content/uploads/2024/02/Maintenance-Day_Post.jpeg
END:VEVENT
BEGIN:VEVENT
DTSTART;TZID=America/Los_Angeles:20240706T080000
DTEND;TZID=America/Los_Angeles:20240706T120000
DTSTAMP:20260423T103811
CREATED:20240211T194829Z
LAST-MODIFIED:20240703T143815Z
UID:397-1720252800-1720267200@diablo-bowmen.org
SUMMARY:Maintenance Day (CANCELED)
DESCRIPTION:In order to maintain Diablo Bowmen Archery Club\, we host a monthly range maintenance day. It occurs the second Saturday of each month from 8:00 am – 12:00 pm. For our major tournaments\, we hold a special maintenance day just before the tournament. Participation can help offset your annual maintenance fees.\n \nOur Range Manager determines what work needs to be done. Typical tasks are:\n• Raking the trails\, picnic area\, or the practice range\n• Weed whacking the trails\, picnic area\, or the practice range\n• Replacing paper targets\n• Replacing/repairing target bales\n• Cleaning and maintaining the Clubhouse\n• Trimming trees and clearing shooting lanes\n\nLunch is provided to those who RSVP \n\nClick to RSVP\n\n\n 
URL:https://diablo-bowmen.org/event/maintenance-day-5/
LOCATION:CA
CATEGORIES:Maintenance
ATTACH;FMTTYPE=image/jpeg:https://diablo-bowmen.org/wp-content/uploads/2024/02/Maintenance-Day_Post.jpeg
END:VEVENT
BEGIN:VEVENT
DTSTART;TZID=America/Los_Angeles:20240601T080000
DTEND;TZID=America/Los_Angeles:20240601T120000
DTSTAMP:20260423T103811
CREATED:20240211T194801Z
LAST-MODIFIED:20240229T151931Z
UID:392-1717228800-1717243200@diablo-bowmen.org
SUMMARY:Maintenance Day
DESCRIPTION:In order to maintain Diablo Bowmen Archery Club\, we host a monthly range maintenance day. It occurs the second Saturday of each month from 8:00 am – 12:00 pm. For our major tournaments\, we hold a special maintenance day just before the tournament. Participation can help offset your annual maintenance fees.\n \nOur Range Manager determines what work needs to be done. Typical tasks are:\n• Raking the trails\, picnic area\, or the practice range\n• Weed whacking the trails\, picnic area\, or the practice range\n• Replacing paper targets\n• Replacing/repairing target bales\n• Cleaning and maintaining the Clubhouse\n• Trimming trees and clearing shooting lanes\n\nLunch is provided to those who RSVP \n\nClick to RSVP\n\n\n 
URL:https://diablo-bowmen.org/event/maintenance-day-4/
LOCATION:CA
CATEGORIES:Maintenance
ATTACH;FMTTYPE=image/jpeg:https://diablo-bowmen.org/wp-content/uploads/2024/02/Maintenance-Day_Post.jpeg
END:VEVENT
BEGIN:VEVENT
DTSTART;TZID=America/Los_Angeles:20240518T080000
DTEND;TZID=America/Los_Angeles:20240518T120000
DTSTAMP:20260423T103811
CREATED:20240423T215637Z
LAST-MODIFIED:20240423T215815Z
UID:1468-1716019200-1716033600@diablo-bowmen.org
SUMMARY:Maintenance Day (Prep for Red Devil Shoot)
DESCRIPTION:This is a special maintenance day prior to the Red Devil Cartoon Classic tournament.\nParticipation can help offset your annual maintenance fees.\n \nOur Range Manager and Shoot Chair will determine what work needs to be done. Typical tasks are:\n• Raking the trails\, picnic area\, or the practice range\n• Weed whacking the trails\, picnic area\, or the practice range\n• Replacing paper targets\n• Replacing/repairing target bales\n• Cleaning and maintaining the Clubhouse\n• Trimming trees and clearing shooting lanes\n\nClick to RSVP \n\n 
URL:https://diablo-bowmen.org/event/maintenance-day-prep-for-red-devil-shoot/
LOCATION:CA
CATEGORIES:Maintenance
ATTACH;FMTTYPE=image/jpeg:https://diablo-bowmen.org/wp-content/uploads/2024/02/Red-Devil-Classic.jpg
END:VEVENT
BEGIN:VEVENT
DTSTART;TZID=America/Los_Angeles:20240504T080000
DTEND;TZID=America/Los_Angeles:20240504T120000
DTSTAMP:20260423T103811
CREATED:20240211T194753Z
LAST-MODIFIED:20240229T151928Z
UID:388-1714809600-1714824000@diablo-bowmen.org
SUMMARY:Maintenance Day
DESCRIPTION:In order to maintain Diablo Bowmen Archery Club\, we host a monthly range maintenance day. It occurs the second Saturday of each month from 8:00 am – 12:00 pm. For our major tournaments\, we hold a special maintenance day just before the tournament. Participation can help offset your annual maintenance fees.\n \nOur Range Manager determines what work needs to be done. Typical tasks are:\n• Raking the trails\, picnic area\, or the practice range\n• Weed whacking the trails\, picnic area\, or the practice range\n• Replacing paper targets\n• Replacing/repairing target bales\n• Cleaning and maintaining the Clubhouse\n• Trimming trees and clearing shooting lanes\n\nLunch is provided to those who RSVP \n\nClick to RSVP\n\n\n 
URL:https://diablo-bowmen.org/event/maintenance-day-3/
LOCATION:CA
CATEGORIES:Maintenance
ATTACH;FMTTYPE=image/jpeg:https://diablo-bowmen.org/wp-content/uploads/2024/02/Maintenance-Day_Post.jpeg
END:VEVENT
BEGIN:VEVENT
DTSTART;TZID=America/Los_Angeles:20240406T080000
DTEND;TZID=America/Los_Angeles:20240406T120000
DTSTAMP:20260423T103811
CREATED:20240209T004402Z
LAST-MODIFIED:20240229T151925Z
UID:329-1712390400-1712404800@diablo-bowmen.org
SUMMARY:Maintenance Day
DESCRIPTION:In order to maintain Diablo Bowmen Archery Club\, we host a monthly range maintenance day. It occurs the second Saturday of each month from 8:00 am – 12:00 pm. For our major tournaments\, we hold a special maintenance day just before the tournament. Participation can help offset your annual maintenance fees.\n \nOur Range Manager determines what work needs to be done. Typical tasks are:\n• Raking the trails\, picnic area\, or the practice range\n• Weed whacking the trails\, picnic area\, or the practice range\n• Replacing paper targets\n• Replacing/repairing target bales\n• Cleaning and maintaining the Clubhouse\n• Trimming trees and clearing shooting lanes\n\nLunch is provided to those who RSVP \n\nClick to RSVP\n\n\n 
URL:https://diablo-bowmen.org/event/maintenance-day-2/
LOCATION:CA
CATEGORIES:Maintenance
ATTACH;FMTTYPE=image/jpeg:https://diablo-bowmen.org/wp-content/uploads/2024/02/Maintenance-Day_Post.jpeg
END:VEVENT
BEGIN:VEVENT
DTSTART;TZID=America/Los_Angeles:20240302T080000
DTEND;TZID=America/Los_Angeles:20240302T120000
DTSTAMP:20260423T103811
CREATED:20240209T002641Z
LAST-MODIFIED:20240229T151922Z
UID:310-1709366400-1709380800@diablo-bowmen.org
SUMMARY:Maintenance Day
DESCRIPTION:In order to maintain Diablo Bowmen Archery Club\, we host a monthly range maintenance day. It occurs the second Saturday of each month from 8:00 am – 12:00 pm. For our major tournaments\, we hold a special maintenance day just before the tournament. Participation can help offset your annual maintenance fees.\n \nOur Range Manager determines what work needs to be done. Typical tasks are:\n• Raking the trails\, picnic area\, or the practice range\n• Weed whacking the trails\, picnic area\, or the practice range\n• Replacing paper targets\n• Replacing/repairing target bales\n• Cleaning and maintaining the Clubhouse\n• Trimming trees and clearing shooting lanes\n\nLunch is provided to those who RSVP \n\nClick to RSVP\n\n\n 
URL:https://diablo-bowmen.org/event/maintenance-day/
LOCATION:CA
CATEGORIES:Maintenance
ATTACH;FMTTYPE=image/jpeg:https://diablo-bowmen.org/wp-content/uploads/2024/02/Maintenance-Day_Post.jpeg
END:VEVENT
END:VCALENDAR