BEGIN:VCALENDAR
VERSION:2.0
PRODID:-//Diablo Bowmen - ECPv6.15.20//NONSGML v1.0//EN
CALSCALE:GREGORIAN
METHOD:PUBLISH
X-WR-CALNAME:Diablo Bowmen
X-ORIGINAL-URL:https://diablo-bowmen.org
X-WR-CALDESC:Events for Diablo Bowmen
REFRESH-INTERVAL;VALUE=DURATION:PT1H
X-Robots-Tag:noindex
X-PUBLISHED-TTL:PT1H
BEGIN:VTIMEZONE
TZID:America/Los_Angeles
BEGIN:DAYLIGHT
TZOFFSETFROM:-0800
TZOFFSETTO:-0700
TZNAME:PDT
DTSTART:20230312T100000
END:DAYLIGHT
BEGIN:STANDARD
TZOFFSETFROM:-0700
TZOFFSETTO:-0800
TZNAME:PST
DTSTART:20231105T090000
END:STANDARD
BEGIN:DAYLIGHT
TZOFFSETFROM:-0800
TZOFFSETTO:-0700
TZNAME:PDT
DTSTART:20240310T100000
END:DAYLIGHT
BEGIN:STANDARD
TZOFFSETFROM:-0700
TZOFFSETTO:-0800
TZNAME:PST
DTSTART:20241103T090000
END:STANDARD
BEGIN:DAYLIGHT
TZOFFSETFROM:-0800
TZOFFSETTO:-0700
TZNAME:PDT
DTSTART:20250309T100000
END:DAYLIGHT
BEGIN:STANDARD
TZOFFSETFROM:-0700
TZOFFSETTO:-0800
TZNAME:PST
DTSTART:20251102T090000
END:STANDARD
BEGIN:DAYLIGHT
TZOFFSETFROM:-0800
TZOFFSETTO:-0700
TZNAME:PDT
DTSTART:20260308T100000
END:DAYLIGHT
BEGIN:STANDARD
TZOFFSETFROM:-0700
TZOFFSETTO:-0800
TZNAME:PST
DTSTART:20261101T090000
END:STANDARD
END:VTIMEZONE
BEGIN:VEVENT
DTSTART;TZID=America/Los_Angeles:20250607T080000
DTEND;TZID=America/Los_Angeles:20250607T120000
DTSTAMP:20260423T090549
CREATED:20241219T015931Z
LAST-MODIFIED:20241219T015931Z
UID:2005-1749283200-1749297600@diablo-bowmen.org
SUMMARY:Maintenance Day
DESCRIPTION:In order to maintain Diablo Bowmen Archery Club\, we host a monthly range maintenance day. It occurs the second Saturday of each month from 8:00 am – 12:00 pm. For our major tournaments\, we hold a special maintenance day just before the tournament. Participation can help offset your annual maintenance fees.\n \nOur Range Manager determines what work needs to be done. Typical tasks are:\n• Raking the trails\, picnic area\, or the practice range\n• Weed whacking the trails\, picnic area\, or the practice range\n• Replacing paper targets\n• Replacing/repairing target bales\n• Cleaning and maintaining the Clubhouse\n• Trimming trees and clearing shooting lanes\n\nLunch is provided to those who RSVP \n\nClick to RSVP\n\n\n 
URL:https://diablo-bowmen.org/event/maintenance-day-16/
LOCATION:Diablo Bowmen\, Oak Hill Lane\, Clayton\, CA\, 94517\, United States
CATEGORIES:Maintenance
ATTACH;FMTTYPE=image/jpeg:https://diablo-bowmen.org/wp-content/uploads/2024/12/Maintenance-Day.jpeg
END:VEVENT
BEGIN:VEVENT
DTSTART;TZID=America/Los_Angeles:20250503T080000
DTEND;TZID=America/Los_Angeles:20250503T120000
DTSTAMP:20260423T090549
CREATED:20241219T015903Z
LAST-MODIFIED:20241219T015903Z
UID:2004-1746259200-1746273600@diablo-bowmen.org
SUMMARY:Maintenance Day
DESCRIPTION:In order to maintain Diablo Bowmen Archery Club\, we host a monthly range maintenance day. It occurs the second Saturday of each month from 8:00 am – 12:00 pm. For our major tournaments\, we hold a special maintenance day just before the tournament. Participation can help offset your annual maintenance fees.\n \nOur Range Manager determines what work needs to be done. Typical tasks are:\n• Raking the trails\, picnic area\, or the practice range\n• Weed whacking the trails\, picnic area\, or the practice range\n• Replacing paper targets\n• Replacing/repairing target bales\n• Cleaning and maintaining the Clubhouse\n• Trimming trees and clearing shooting lanes\n\nLunch is provided to those who RSVP \n\nClick to RSVP\n\n\n 
URL:https://diablo-bowmen.org/event/maintenance-day-15/
LOCATION:Diablo Bowmen\, Oak Hill Lane\, Clayton\, CA\, 94517\, United States
CATEGORIES:Maintenance
ATTACH;FMTTYPE=image/jpeg:https://diablo-bowmen.org/wp-content/uploads/2024/12/Maintenance-Day.jpeg
END:VEVENT
BEGIN:VEVENT
DTSTART;TZID=America/Los_Angeles:20250405T080000
DTEND;TZID=America/Los_Angeles:20250405T120000
DTSTAMP:20260423T090549
CREATED:20241219T015837Z
LAST-MODIFIED:20241219T015837Z
UID:2003-1743840000-1743854400@diablo-bowmen.org
SUMMARY:Maintenance Day
DESCRIPTION:In order to maintain Diablo Bowmen Archery Club\, we host a monthly range maintenance day. It occurs the second Saturday of each month from 8:00 am – 12:00 pm. For our major tournaments\, we hold a special maintenance day just before the tournament. Participation can help offset your annual maintenance fees.\n \nOur Range Manager determines what work needs to be done. Typical tasks are:\n• Raking the trails\, picnic area\, or the practice range\n• Weed whacking the trails\, picnic area\, or the practice range\n• Replacing paper targets\n• Replacing/repairing target bales\n• Cleaning and maintaining the Clubhouse\n• Trimming trees and clearing shooting lanes\n\nLunch is provided to those who RSVP \n\nClick to RSVP\n\n\n 
URL:https://diablo-bowmen.org/event/maintenance-day-14/
LOCATION:Diablo Bowmen\, Oak Hill Lane\, Clayton\, CA\, 94517\, United States
CATEGORIES:Maintenance
ATTACH;FMTTYPE=image/jpeg:https://diablo-bowmen.org/wp-content/uploads/2024/12/Maintenance-Day.jpeg
END:VEVENT
BEGIN:VEVENT
DTSTART;TZID=America/Los_Angeles:20250301T080000
DTEND;TZID=America/Los_Angeles:20250301T120000
DTSTAMP:20260423T090549
CREATED:20241219T015811Z
LAST-MODIFIED:20241219T015811Z
UID:2002-1740816000-1740830400@diablo-bowmen.org
SUMMARY:Maintenance Day
DESCRIPTION:In order to maintain Diablo Bowmen Archery Club\, we host a monthly range maintenance day. It occurs the second Saturday of each month from 8:00 am – 12:00 pm. For our major tournaments\, we hold a special maintenance day just before the tournament. Participation can help offset your annual maintenance fees.\n \nOur Range Manager determines what work needs to be done. Typical tasks are:\n• Raking the trails\, picnic area\, or the practice range\n• Weed whacking the trails\, picnic area\, or the practice range\n• Replacing paper targets\n• Replacing/repairing target bales\n• Cleaning and maintaining the Clubhouse\n• Trimming trees and clearing shooting lanes\n\nLunch is provided to those who RSVP \n\nClick to RSVP\n\n\n 
URL:https://diablo-bowmen.org/event/maintenance-day-13/
LOCATION:Diablo Bowmen\, Oak Hill Lane\, Clayton\, CA\, 94517\, United States
CATEGORIES:Maintenance
ATTACH;FMTTYPE=image/jpeg:https://diablo-bowmen.org/wp-content/uploads/2024/12/Maintenance-Day.jpeg
END:VEVENT
BEGIN:VEVENT
DTSTART;TZID=America/Los_Angeles:20250201T080000
DTEND;TZID=America/Los_Angeles:20250201T120000
DTSTAMP:20260423T090549
CREATED:20241219T015747Z
LAST-MODIFIED:20241219T015747Z
UID:2001-1738396800-1738411200@diablo-bowmen.org
SUMMARY:Maintenance Day
DESCRIPTION:In order to maintain Diablo Bowmen Archery Club\, we host a monthly range maintenance day. It occurs the second Saturday of each month from 8:00 am – 12:00 pm. For our major tournaments\, we hold a special maintenance day just before the tournament. Participation can help offset your annual maintenance fees.\n \nOur Range Manager determines what work needs to be done. Typical tasks are:\n• Raking the trails\, picnic area\, or the practice range\n• Weed whacking the trails\, picnic area\, or the practice range\n• Replacing paper targets\n• Replacing/repairing target bales\n• Cleaning and maintaining the Clubhouse\n• Trimming trees and clearing shooting lanes\n\nLunch is provided to those who RSVP \n\nClick to RSVP\n\n\n 
URL:https://diablo-bowmen.org/event/maintenance-day-12/
LOCATION:Diablo Bowmen\, Oak Hill Lane\, Clayton\, CA\, 94517\, United States
CATEGORIES:Maintenance
ATTACH;FMTTYPE=image/jpeg:https://diablo-bowmen.org/wp-content/uploads/2024/12/Maintenance-Day.jpeg
END:VEVENT
BEGIN:VEVENT
DTSTART;TZID=America/Los_Angeles:20250125T080000
DTEND;TZID=America/Los_Angeles:20250125T120000
DTSTAMP:20260423T090549
CREATED:20241219T015514Z
LAST-MODIFIED:20241219T015514Z
UID:2012-1737792000-1737806400@diablo-bowmen.org
SUMMARY:Maintenance Day (Prep for Winter Hunt Shoot)
DESCRIPTION:This is a special maintenance day prior to the Winter Hunt.\nParticipation can help offset your annual maintenance fees.\n \nOur Range Manager and Shoot Chair will determine what work needs to be done. Typical tasks are:\n• Raking the trails\, picnic area\, or the practice range\n• Weed whacking the trails\, picnic area\, or the practice range\n• Replacing paper targets\n• Replacing/repairing target bales\n• Cleaning and maintaining the Clubhouse\n• Trimming trees and clearing shooting lanes\n\nClick to RSVP \n\n 
URL:https://diablo-bowmen.org/event/maintenance-day-prep-for-winter-hunt-shoot/
LOCATION:Diablo Bowmen\, Oak Hill Lane\, Clayton\, CA\, 94517\, United States
CATEGORIES:Maintenance
ATTACH;FMTTYPE=image/jpeg:https://diablo-bowmen.org/wp-content/uploads/2024/12/Maintenance-Day.jpeg
END:VEVENT
BEGIN:VEVENT
DTSTART;TZID=America/Los_Angeles:20250104T080000
DTEND;TZID=America/Los_Angeles:20250104T120000
DTSTAMP:20260423T090549
CREATED:20241219T015723Z
LAST-MODIFIED:20241219T015723Z
UID:2000-1735977600-1735992000@diablo-bowmen.org
SUMMARY:Maintenance Day
DESCRIPTION:In order to maintain Diablo Bowmen Archery Club\, we host a monthly range maintenance day. It occurs the second Saturday of each month from 8:00 am – 12:00 pm. For our major tournaments\, we hold a special maintenance day just before the tournament. Participation can help offset your annual maintenance fees.\n \nOur Range Manager determines what work needs to be done. Typical tasks are:\n• Raking the trails\, picnic area\, or the practice range\n• Weed whacking the trails\, picnic area\, or the practice range\n• Replacing paper targets\n• Replacing/repairing target bales\n• Cleaning and maintaining the Clubhouse\n• Trimming trees and clearing shooting lanes\n\nLunch is provided to those who RSVP \n\nClick to RSVP\n\n\n 
URL:https://diablo-bowmen.org/event/maintenance-day-11/
LOCATION:Diablo Bowmen\, Oak Hill Lane\, Clayton\, CA\, 94517\, United States
CATEGORIES:Maintenance
ATTACH;FMTTYPE=image/jpeg:https://diablo-bowmen.org/wp-content/uploads/2024/12/Maintenance-Day.jpeg
END:VEVENT
BEGIN:VEVENT
DTSTART;TZID=America/Los_Angeles:20241207T080000
DTEND;TZID=America/Los_Angeles:20241207T120000
DTSTAMP:20260423T090549
CREATED:20240211T195100Z
LAST-MODIFIED:20240229T151948Z
UID:419-1733558400-1733572800@diablo-bowmen.org
SUMMARY:Maintenance Day
DESCRIPTION:In order to maintain Diablo Bowmen Archery Club\, we host a monthly range maintenance day. It occurs the second Saturday of each month from 8:00 am – 12:00 pm. For our major tournaments\, we hold a special maintenance day just before the tournament. Participation can help offset your annual maintenance fees.\n \nOur Range Manager determines what work needs to be done. Typical tasks are:\n• Raking the trails\, picnic area\, or the practice range\n• Weed whacking the trails\, picnic area\, or the practice range\n• Replacing paper targets\n• Replacing/repairing target bales\n• Cleaning and maintaining the Clubhouse\n• Trimming trees and clearing shooting lanes\n\nLunch is provided to those who RSVP \n\nClick to RSVP\n\n\n 
URL:https://diablo-bowmen.org/event/maintenance-day-10/
LOCATION:CA
CATEGORIES:Maintenance
ATTACH;FMTTYPE=image/jpeg:https://diablo-bowmen.org/wp-content/uploads/2024/02/Maintenance-Day_Post.jpeg
END:VEVENT
BEGIN:VEVENT
DTSTART;TZID=America/Los_Angeles:20241102T080000
DTEND;TZID=America/Los_Angeles:20241102T120000
DTSTAMP:20260423T090549
CREATED:20240211T195044Z
LAST-MODIFIED:20240229T151946Z
UID:415-1730534400-1730548800@diablo-bowmen.org
SUMMARY:Maintenance Day
DESCRIPTION:In order to maintain Diablo Bowmen Archery Club\, we host a monthly range maintenance day. It occurs the second Saturday of each month from 8:00 am – 12:00 pm. For our major tournaments\, we hold a special maintenance day just before the tournament. Participation can help offset your annual maintenance fees.\n \nOur Range Manager determines what work needs to be done. Typical tasks are:\n• Raking the trails\, picnic area\, or the practice range\n• Weed whacking the trails\, picnic area\, or the practice range\n• Replacing paper targets\n• Replacing/repairing target bales\n• Cleaning and maintaining the Clubhouse\n• Trimming trees and clearing shooting lanes\n\nLunch is provided to those who RSVP \n\nClick to RSVP\n\n\n 
URL:https://diablo-bowmen.org/event/maintenance-day-9/
LOCATION:CA
CATEGORIES:Maintenance
ATTACH;FMTTYPE=image/jpeg:https://diablo-bowmen.org/wp-content/uploads/2024/02/Maintenance-Day_Post.jpeg
END:VEVENT
BEGIN:VEVENT
DTSTART;TZID=America/Los_Angeles:20241005T080000
DTEND;TZID=America/Los_Angeles:20241005T120000
DTSTAMP:20260423T090549
CREATED:20240211T194939Z
LAST-MODIFIED:20240229T151943Z
UID:410-1728115200-1728129600@diablo-bowmen.org
SUMMARY:Maintenance Day
DESCRIPTION:In order to maintain Diablo Bowmen Archery Club\, we host a monthly range maintenance day. It occurs the second Saturday of each month from 8:00 am – 12:00 pm. For our major tournaments\, we hold a special maintenance day just before the tournament. Participation can help offset your annual maintenance fees.\n \nOur Range Manager determines what work needs to be done. Typical tasks are:\n• Raking the trails\, picnic area\, or the practice range\n• Weed whacking the trails\, picnic area\, or the practice range\n• Replacing paper targets\n• Replacing/repairing target bales\n• Cleaning and maintaining the Clubhouse\n• Trimming trees and clearing shooting lanes\n\nLunch is provided to those who RSVP \n\nClick to RSVP\n\n\n 
URL:https://diablo-bowmen.org/event/maintenance-day-8/
LOCATION:CA
CATEGORIES:Maintenance
ATTACH;FMTTYPE=image/jpeg:https://diablo-bowmen.org/wp-content/uploads/2024/02/Maintenance-Day_Post.jpeg
END:VEVENT
BEGIN:VEVENT
DTSTART;TZID=America/Los_Angeles:20240914T080000
DTEND;TZID=America/Los_Angeles:20240914T120000
DTSTAMP:20260423T090549
CREATED:20240423T220940Z
LAST-MODIFIED:20240423T220940Z
UID:1470-1726300800-1726315200@diablo-bowmen.org
SUMMARY:Maintenance Day (Prep for Fall Harvest Shoot)
DESCRIPTION:This is a special maintenance day prior to the Fall Harvest tournament.\nParticipation can help offset your annual maintenance fees.\n \nOur Range Manager and Shoot Chair will determine what work needs to be done. Typical tasks are:\n• Raking the trails\, picnic area\, or the practice range\n• Weed whacking the trails\, picnic area\, or the practice range\n• Replacing paper targets\n• Replacing/repairing target bales\n• Cleaning and maintaining the Clubhouse\n• Trimming trees and clearing shooting lanes\n\nClick to RSVP \n\n 
URL:https://diablo-bowmen.org/event/maintenance-day-prep-for-fall-harvest-shoot/
LOCATION:CA
CATEGORIES:Maintenance
ATTACH;FMTTYPE=image/png:https://diablo-bowmen.org/wp-content/uploads/2024/02/Fall-Harvest-4-copy.png
END:VEVENT
BEGIN:VEVENT
DTSTART;TZID=America/Los_Angeles:20240907T080000
DTEND;TZID=America/Los_Angeles:20240907T120000
DTSTAMP:20260423T090549
CREATED:20240211T194936Z
LAST-MODIFIED:20240229T151940Z
UID:406-1725696000-1725710400@diablo-bowmen.org
SUMMARY:Maintenance Day
DESCRIPTION:In order to maintain Diablo Bowmen Archery Club\, we host a monthly range maintenance day. It occurs the second Saturday of each month from 8:00 am – 12:00 pm. For our major tournaments\, we hold a special maintenance day just before the tournament. Participation can help offset your annual maintenance fees.\n \nOur Range Manager determines what work needs to be done. Typical tasks are:\n• Raking the trails\, picnic area\, or the practice range\n• Weed whacking the trails\, picnic area\, or the practice range\n• Replacing paper targets\n• Replacing/repairing target bales\n• Cleaning and maintaining the Clubhouse\n• Trimming trees and clearing shooting lanes\n\nLunch is provided to those who RSVP \n\nClick to RSVP\n\n\n 
URL:https://diablo-bowmen.org/event/maintenance-day-7/
LOCATION:CA
CATEGORIES:Maintenance
ATTACH;FMTTYPE=image/jpeg:https://diablo-bowmen.org/wp-content/uploads/2024/02/Maintenance-Day_Post.jpeg
END:VEVENT
BEGIN:VEVENT
DTSTART;TZID=America/Los_Angeles:20240803T080000
DTEND;TZID=America/Los_Angeles:20240803T120000
DTSTAMP:20260423T090549
CREATED:20240211T194845Z
LAST-MODIFIED:20240229T151936Z
UID:401-1722672000-1722686400@diablo-bowmen.org
SUMMARY:Maintenance Day
DESCRIPTION:In order to maintain Diablo Bowmen Archery Club\, we host a monthly range maintenance day. It occurs the second Saturday of each month from 8:00 am – 12:00 pm. For our major tournaments\, we hold a special maintenance day just before the tournament. Participation can help offset your annual maintenance fees.\n \nOur Range Manager determines what work needs to be done. Typical tasks are:\n• Raking the trails\, picnic area\, or the practice range\n• Weed whacking the trails\, picnic area\, or the practice range\n• Replacing paper targets\n• Replacing/repairing target bales\n• Cleaning and maintaining the Clubhouse\n• Trimming trees and clearing shooting lanes\n\nLunch is provided to those who RSVP \n\nClick to RSVP\n\n\n 
URL:https://diablo-bowmen.org/event/maintenance-day-6/
LOCATION:CA
CATEGORIES:Maintenance
ATTACH;FMTTYPE=image/jpeg:https://diablo-bowmen.org/wp-content/uploads/2024/02/Maintenance-Day_Post.jpeg
END:VEVENT
BEGIN:VEVENT
DTSTART;TZID=America/Los_Angeles:20240706T080000
DTEND;TZID=America/Los_Angeles:20240706T120000
DTSTAMP:20260423T090549
CREATED:20240211T194829Z
LAST-MODIFIED:20240703T143815Z
UID:397-1720252800-1720267200@diablo-bowmen.org
SUMMARY:Maintenance Day (CANCELED)
DESCRIPTION:In order to maintain Diablo Bowmen Archery Club\, we host a monthly range maintenance day. It occurs the second Saturday of each month from 8:00 am – 12:00 pm. For our major tournaments\, we hold a special maintenance day just before the tournament. Participation can help offset your annual maintenance fees.\n \nOur Range Manager determines what work needs to be done. Typical tasks are:\n• Raking the trails\, picnic area\, or the practice range\n• Weed whacking the trails\, picnic area\, or the practice range\n• Replacing paper targets\n• Replacing/repairing target bales\n• Cleaning and maintaining the Clubhouse\n• Trimming trees and clearing shooting lanes\n\nLunch is provided to those who RSVP \n\nClick to RSVP\n\n\n 
URL:https://diablo-bowmen.org/event/maintenance-day-5/
LOCATION:CA
CATEGORIES:Maintenance
ATTACH;FMTTYPE=image/jpeg:https://diablo-bowmen.org/wp-content/uploads/2024/02/Maintenance-Day_Post.jpeg
END:VEVENT
BEGIN:VEVENT
DTSTART;TZID=America/Los_Angeles:20240601T080000
DTEND;TZID=America/Los_Angeles:20240601T120000
DTSTAMP:20260423T090549
CREATED:20240211T194801Z
LAST-MODIFIED:20240229T151931Z
UID:392-1717228800-1717243200@diablo-bowmen.org
SUMMARY:Maintenance Day
DESCRIPTION:In order to maintain Diablo Bowmen Archery Club\, we host a monthly range maintenance day. It occurs the second Saturday of each month from 8:00 am – 12:00 pm. For our major tournaments\, we hold a special maintenance day just before the tournament. Participation can help offset your annual maintenance fees.\n \nOur Range Manager determines what work needs to be done. Typical tasks are:\n• Raking the trails\, picnic area\, or the practice range\n• Weed whacking the trails\, picnic area\, or the practice range\n• Replacing paper targets\n• Replacing/repairing target bales\n• Cleaning and maintaining the Clubhouse\n• Trimming trees and clearing shooting lanes\n\nLunch is provided to those who RSVP \n\nClick to RSVP\n\n\n 
URL:https://diablo-bowmen.org/event/maintenance-day-4/
LOCATION:CA
CATEGORIES:Maintenance
ATTACH;FMTTYPE=image/jpeg:https://diablo-bowmen.org/wp-content/uploads/2024/02/Maintenance-Day_Post.jpeg
END:VEVENT
BEGIN:VEVENT
DTSTART;TZID=America/Los_Angeles:20240518T080000
DTEND;TZID=America/Los_Angeles:20240518T120000
DTSTAMP:20260423T090549
CREATED:20240423T215637Z
LAST-MODIFIED:20240423T215815Z
UID:1468-1716019200-1716033600@diablo-bowmen.org
SUMMARY:Maintenance Day (Prep for Red Devil Shoot)
DESCRIPTION:This is a special maintenance day prior to the Red Devil Cartoon Classic tournament.\nParticipation can help offset your annual maintenance fees.\n \nOur Range Manager and Shoot Chair will determine what work needs to be done. Typical tasks are:\n• Raking the trails\, picnic area\, or the practice range\n• Weed whacking the trails\, picnic area\, or the practice range\n• Replacing paper targets\n• Replacing/repairing target bales\n• Cleaning and maintaining the Clubhouse\n• Trimming trees and clearing shooting lanes\n\nClick to RSVP \n\n 
URL:https://diablo-bowmen.org/event/maintenance-day-prep-for-red-devil-shoot/
LOCATION:CA
CATEGORIES:Maintenance
ATTACH;FMTTYPE=image/jpeg:https://diablo-bowmen.org/wp-content/uploads/2024/02/Red-Devil-Classic.jpg
END:VEVENT
BEGIN:VEVENT
DTSTART;TZID=America/Los_Angeles:20240504T080000
DTEND;TZID=America/Los_Angeles:20240504T120000
DTSTAMP:20260423T090549
CREATED:20240211T194753Z
LAST-MODIFIED:20240229T151928Z
UID:388-1714809600-1714824000@diablo-bowmen.org
SUMMARY:Maintenance Day
DESCRIPTION:In order to maintain Diablo Bowmen Archery Club\, we host a monthly range maintenance day. It occurs the second Saturday of each month from 8:00 am – 12:00 pm. For our major tournaments\, we hold a special maintenance day just before the tournament. Participation can help offset your annual maintenance fees.\n \nOur Range Manager determines what work needs to be done. Typical tasks are:\n• Raking the trails\, picnic area\, or the practice range\n• Weed whacking the trails\, picnic area\, or the practice range\n• Replacing paper targets\n• Replacing/repairing target bales\n• Cleaning and maintaining the Clubhouse\n• Trimming trees and clearing shooting lanes\n\nLunch is provided to those who RSVP \n\nClick to RSVP\n\n\n 
URL:https://diablo-bowmen.org/event/maintenance-day-3/
LOCATION:CA
CATEGORIES:Maintenance
ATTACH;FMTTYPE=image/jpeg:https://diablo-bowmen.org/wp-content/uploads/2024/02/Maintenance-Day_Post.jpeg
END:VEVENT
BEGIN:VEVENT
DTSTART;TZID=America/Los_Angeles:20240406T080000
DTEND;TZID=America/Los_Angeles:20240406T120000
DTSTAMP:20260423T090549
CREATED:20240209T004402Z
LAST-MODIFIED:20240229T151925Z
UID:329-1712390400-1712404800@diablo-bowmen.org
SUMMARY:Maintenance Day
DESCRIPTION:In order to maintain Diablo Bowmen Archery Club\, we host a monthly range maintenance day. It occurs the second Saturday of each month from 8:00 am – 12:00 pm. For our major tournaments\, we hold a special maintenance day just before the tournament. Participation can help offset your annual maintenance fees.\n \nOur Range Manager determines what work needs to be done. Typical tasks are:\n• Raking the trails\, picnic area\, or the practice range\n• Weed whacking the trails\, picnic area\, or the practice range\n• Replacing paper targets\n• Replacing/repairing target bales\n• Cleaning and maintaining the Clubhouse\n• Trimming trees and clearing shooting lanes\n\nLunch is provided to those who RSVP \n\nClick to RSVP\n\n\n 
URL:https://diablo-bowmen.org/event/maintenance-day-2/
LOCATION:CA
CATEGORIES:Maintenance
ATTACH;FMTTYPE=image/jpeg:https://diablo-bowmen.org/wp-content/uploads/2024/02/Maintenance-Day_Post.jpeg
END:VEVENT
BEGIN:VEVENT
DTSTART;TZID=America/Los_Angeles:20240302T080000
DTEND;TZID=America/Los_Angeles:20240302T120000
DTSTAMP:20260423T090549
CREATED:20240209T002641Z
LAST-MODIFIED:20240229T151922Z
UID:310-1709366400-1709380800@diablo-bowmen.org
SUMMARY:Maintenance Day
DESCRIPTION:In order to maintain Diablo Bowmen Archery Club\, we host a monthly range maintenance day. It occurs the second Saturday of each month from 8:00 am – 12:00 pm. For our major tournaments\, we hold a special maintenance day just before the tournament. Participation can help offset your annual maintenance fees.\n \nOur Range Manager determines what work needs to be done. Typical tasks are:\n• Raking the trails\, picnic area\, or the practice range\n• Weed whacking the trails\, picnic area\, or the practice range\n• Replacing paper targets\n• Replacing/repairing target bales\n• Cleaning and maintaining the Clubhouse\n• Trimming trees and clearing shooting lanes\n\nLunch is provided to those who RSVP \n\nClick to RSVP\n\n\n 
URL:https://diablo-bowmen.org/event/maintenance-day/
LOCATION:CA
CATEGORIES:Maintenance
ATTACH;FMTTYPE=image/jpeg:https://diablo-bowmen.org/wp-content/uploads/2024/02/Maintenance-Day_Post.jpeg
END:VEVENT
END:VCALENDAR