BEGIN:VCALENDAR
VERSION:2.0
PRODID:-//Diablo Bowmen - ECPv6.15.20//NONSGML v1.0//EN
CALSCALE:GREGORIAN
METHOD:PUBLISH
X-WR-CALNAME:Diablo Bowmen
X-ORIGINAL-URL:https://diablo-bowmen.org
X-WR-CALDESC:Events for Diablo Bowmen
REFRESH-INTERVAL;VALUE=DURATION:PT1H
X-Robots-Tag:noindex
X-PUBLISHED-TTL:PT1H
BEGIN:VTIMEZONE
TZID:America/Los_Angeles
BEGIN:DAYLIGHT
TZOFFSETFROM:-0800
TZOFFSETTO:-0700
TZNAME:PDT
DTSTART:20240310T100000
END:DAYLIGHT
BEGIN:STANDARD
TZOFFSETFROM:-0700
TZOFFSETTO:-0800
TZNAME:PST
DTSTART:20241103T090000
END:STANDARD
BEGIN:DAYLIGHT
TZOFFSETFROM:-0800
TZOFFSETTO:-0700
TZNAME:PDT
DTSTART:20250309T100000
END:DAYLIGHT
BEGIN:STANDARD
TZOFFSETFROM:-0700
TZOFFSETTO:-0800
TZNAME:PST
DTSTART:20251102T090000
END:STANDARD
BEGIN:DAYLIGHT
TZOFFSETFROM:-0800
TZOFFSETTO:-0700
TZNAME:PDT
DTSTART:20260308T100000
END:DAYLIGHT
BEGIN:STANDARD
TZOFFSETFROM:-0700
TZOFFSETTO:-0800
TZNAME:PST
DTSTART:20261101T090000
END:STANDARD
BEGIN:DAYLIGHT
TZOFFSETFROM:-0800
TZOFFSETTO:-0700
TZNAME:PDT
DTSTART:20270314T100000
END:DAYLIGHT
BEGIN:STANDARD
TZOFFSETFROM:-0700
TZOFFSETTO:-0800
TZNAME:PST
DTSTART:20271107T090000
END:STANDARD
END:VTIMEZONE
BEGIN:VEVENT
DTSTART;TZID=America/Los_Angeles:20251115T090000
DTEND;TZID=America/Los_Angeles:20251115T103000
DTSTAMP:20260424T080112
CREATED:20251011T161336Z
LAST-MODIFIED:20251111T172153Z
UID:2649-1763197200-1763202600@diablo-bowmen.org
SUMMARY:Beginner Class (Class is Full)
DESCRIPTION:An excellent starting point for anyone interested in exploring the sport of archery. Classes are designed for individuals with little to no prior experience in archery. \nParticipants learn: \n\nfundamentals of archery\nsafety\nproper stance\nbow handling\nshooting techniques\n\nClasses are 90 minutes (60 minutes shooting time). \nMust be at least 7 years old to participate. \nAll required equipment is provided.
URL:https://diablo-bowmen.org/event/beginner-class-open-to-register-42/
LOCATION:Diablo Bowmen\, Oak Hill Lane\, Clayton\, CA\, 94517\, United States
CATEGORIES:Beginner Class
ATTACH;FMTTYPE=image/jpeg:https://diablo-bowmen.org/wp-content/uploads/2024/02/Beginner-Classes.jpg
ORGANIZER;CN="Outreach Coordinator":MAILTO:diablobowmenoutreach@gmail.com
END:VEVENT
BEGIN:VEVENT
DTSTART;TZID=America/Los_Angeles:20251115T110000
DTEND;TZID=America/Los_Angeles:20251115T123000
DTSTAMP:20260424T080112
CREATED:20251011T161359Z
LAST-MODIFIED:20251021T144536Z
UID:2650-1763204400-1763209800@diablo-bowmen.org
SUMMARY:Beginner Class (Class is Full)
DESCRIPTION:An excellent starting point for anyone interested in exploring the sport of archery. Classes are designed for individuals with little to no prior experience in archery. \nParticipants learn: \n\nfundamentals of archery\nsafety\nproper stance\nbow handling\nshooting techniques\n\nClasses are 90 minutes (60 minutes shooting time). \nMust be at least 7 years old to participate. \nAll required equipment is provided.
URL:https://diablo-bowmen.org/event/beginner-class-open-to-register-43/
LOCATION:Diablo Bowmen\, Oak Hill Lane\, Clayton\, CA\, 94517\, United States
CATEGORIES:Beginner Class
ATTACH;FMTTYPE=image/jpeg:https://diablo-bowmen.org/wp-content/uploads/2024/02/Beginner-Classes.jpg
ORGANIZER;CN="Outreach Coordinator":MAILTO:diablobowmenoutreach@gmail.com
END:VEVENT
BEGIN:VEVENT
DTSTART;TZID=America/Los_Angeles:20260222T130000
DTEND;TZID=America/Los_Angeles:20260222T143000
DTSTAMP:20260424T080112
CREATED:20260121T213058Z
LAST-MODIFIED:20260123T152151Z
UID:2841-1771765200-1771770600@diablo-bowmen.org
SUMMARY:Beginner Class (Class is Full)
DESCRIPTION:An excellent starting point for anyone interested in exploring the sport of archery. Classes are designed for individuals with little to no prior experience in archery. \nParticipants learn: \n\nfundamentals of archery\nsafety\nproper stance\nbow handling\nshooting techniques\n\nClasses are 90 minutes (60 minutes shooting time). \nMust be at least 7 years old to participate. \nAll required equipment is provided.
URL:https://diablo-bowmen.org/event/beginner-class-class-is-full-4/
LOCATION:Diablo Bowmen\, Oak Hill Lane\, Clayton\, CA\, 94517\, United States
CATEGORIES:Beginner Class
ATTACH;FMTTYPE=image/jpeg:https://diablo-bowmen.org/wp-content/uploads/2024/02/Archery-Class-sml.jpg
ORGANIZER;CN="Outreach Coordinator":MAILTO:diablobowmenoutreach@gmail.com
END:VEVENT
BEGIN:VEVENT
DTSTART;TZID=America/Los_Angeles:20260222T150000
DTEND;TZID=America/Los_Angeles:20260222T163000
DTSTAMP:20260424T080112
CREATED:20260203T163029Z
LAST-MODIFIED:20260203T163030Z
UID:2860-1771772400-1771777800@diablo-bowmen.org
SUMMARY:Beginner Class (Class is Full)
DESCRIPTION:An excellent starting point for anyone interested in exploring the sport of archery. Classes are designed for individuals with little to no prior experience in archery. \nParticipants learn: \n\nfundamentals of archery\nsafety\nproper stance\nbow handling\nshooting techniques\n\nClasses are 90 minutes (60 minutes shooting time). \nMust be at least 7 years old to participate. \nAll required equipment is provided.
URL:https://diablo-bowmen.org/event/beginner-class-class-is-full-7/
LOCATION:Diablo Bowmen\, Oak Hill Lane\, Clayton\, CA\, 94517\, United States
CATEGORIES:Beginner Class
ATTACH;FMTTYPE=image/jpeg:https://diablo-bowmen.org/wp-content/uploads/2024/02/Archery-Class-sml.jpg
ORGANIZER;CN="Outreach Coordinator":MAILTO:diablobowmenoutreach@gmail.com
END:VEVENT
BEGIN:VEVENT
DTSTART;TZID=America/Los_Angeles:20260228T090000
DTEND;TZID=America/Los_Angeles:20260228T223000
DTSTAMP:20260424T080112
CREATED:20260123T152121Z
LAST-MODIFIED:20260206T224230Z
UID:2848-1772269200-1772317800@diablo-bowmen.org
SUMMARY:Beginner Class (Class is Full)
DESCRIPTION:An excellent starting point for anyone interested in exploring the sport of archery. Classes are designed for individuals with little to no prior experience in archery. \nParticipants learn: \n\nfundamentals of archery\nsafety\nproper stance\nbow handling\nshooting techniques\n\nClasses are 90 minutes (60 minutes shooting time). \nMust be at least 7 years old to participate. \nAll required equipment is provided.
URL:https://diablo-bowmen.org/event/beginner-class-open-to-register-45/
LOCATION:Diablo Bowmen\, Oak Hill Lane\, Clayton\, CA\, 94517\, United States
CATEGORIES:Beginner Class
ATTACH;FMTTYPE=image/jpeg:https://diablo-bowmen.org/wp-content/uploads/2024/02/Beginner-Classes.jpg
ORGANIZER;CN="Outreach Coordinator":MAILTO:diablobowmenoutreach@gmail.com
END:VEVENT
BEGIN:VEVENT
DTSTART;TZID=America/Los_Angeles:20260228T110000
DTEND;TZID=America/Los_Angeles:20260228T123000
DTSTAMP:20260424T080112
CREATED:20260123T152105Z
LAST-MODIFIED:20260123T152301Z
UID:2849-1772276400-1772281800@diablo-bowmen.org
SUMMARY:Beginner Class (Class is Full)
DESCRIPTION:An excellent starting point for anyone interested in exploring the sport of archery. Classes are designed for individuals with little to no prior experience in archery. \nParticipants learn: \n\nfundamentals of archery\nsafety\nproper stance\nbow handling\nshooting techniques\n\nClasses are 90 minutes (60 minutes shooting time). \nMust be at least 7 years old to participate. \nAll required equipment is provided.
URL:https://diablo-bowmen.org/event/beginner-class-open-to-register-44/
LOCATION:Diablo Bowmen\, Oak Hill Lane\, Clayton\, CA\, 94517\, United States
CATEGORIES:Beginner Class
ATTACH;FMTTYPE=image/jpeg:https://diablo-bowmen.org/wp-content/uploads/2024/02/Beginner-Classes.jpg
ORGANIZER;CN="Outreach Coordinator":MAILTO:diablobowmenoutreach@gmail.com
END:VEVENT
BEGIN:VEVENT
DTSTART;TZID=America/Los_Angeles:20260314T090000
DTEND;TZID=America/Los_Angeles:20260314T103000
DTSTAMP:20260424T080112
CREATED:20260126T155829Z
LAST-MODIFIED:20260126T155829Z
UID:2857-1773478800-1773484200@diablo-bowmen.org
SUMMARY:Beginner Class (Class is Full)
DESCRIPTION:An excellent starting point for anyone interested in exploring the sport of archery. Classes are designed for individuals with little to no prior experience in archery. \nParticipants learn: \n\nfundamentals of archery\nsafety\nproper stance\nbow handling\nshooting techniques\n\nClasses are 90 minutes (60 minutes shooting time). \nMust be at least 7 years old to participate. \nAll required equipment is provided.
URL:https://diablo-bowmen.org/event/beginner-class-class-is-full-6/
LOCATION:Diablo Bowmen\, Oak Hill Lane\, Clayton\, CA\, 94517\, United States
CATEGORIES:Beginner Class
ATTACH;FMTTYPE=image/jpeg:https://diablo-bowmen.org/wp-content/uploads/2024/02/Beginner-Classes.jpg
ORGANIZER;CN="Outreach Coordinator":MAILTO:diablobowmenoutreach@gmail.com
END:VEVENT
BEGIN:VEVENT
DTSTART;TZID=America/Los_Angeles:20260314T110000
DTEND;TZID=America/Los_Angeles:20260314T123000
DTSTAMP:20260424T080112
CREATED:20260216T230008Z
LAST-MODIFIED:20260224T180222Z
UID:2870-1773486000-1773491400@diablo-bowmen.org
SUMMARY:Beginner Class (Class is Full)
DESCRIPTION:An excellent starting point for anyone interested in exploring the sport of archery. Classes are designed for individuals with little to no prior experience in archery. \nParticipants learn: \n\nfundamentals of archery\nsafety\nproper stance\nbow handling\nshooting techniques\n\nClasses are 90 minutes (60 minutes shooting time). \nMust be at least 7 years old to participate. \nAll required equipment is provided. \n 
URL:https://diablo-bowmen.org/event/beginner-class-open-to-register-46/
LOCATION:Diablo Bowmen\, Oak Hill Lane\, Clayton\, CA\, 94517\, United States
CATEGORIES:Beginner Class
ATTACH;FMTTYPE=image/jpeg:https://diablo-bowmen.org/wp-content/uploads/2024/02/Beginner-Classes.jpg
ORGANIZER;CN="Outreach Coordinator":MAILTO:diablobowmenoutreach@gmail.com
END:VEVENT
BEGIN:VEVENT
DTSTART;TZID=America/Los_Angeles:20260321T090000
DTEND;TZID=America/Los_Angeles:20260321T103000
DTSTAMP:20260424T080112
CREATED:20260216T230056Z
LAST-MODIFIED:20260318T185100Z
UID:2871-1774083600-1774089000@diablo-bowmen.org
SUMMARY:Beginner Class (Open to Register)
DESCRIPTION:An excellent starting point for anyone interested in exploring the sport of archery. Classes are designed for individuals with little to no prior experience in archery. \nParticipants learn: \n\nfundamentals of archery\nsafety\nproper stance\nbow handling\nshooting techniques\n\nClasses are 90 minutes (60 minutes shooting time). \nMust be at least 7 years old to participate. \nAll required equipment is provided. \nClick to Register \n 
URL:https://diablo-bowmen.org/event/beginner-class-open-to-register-47/
LOCATION:Diablo Bowmen\, Oak Hill Lane\, Clayton\, CA\, 94517\, United States
CATEGORIES:Beginner Class
ATTACH;FMTTYPE=image/jpeg:https://diablo-bowmen.org/wp-content/uploads/2024/02/Beginner-Classes.jpg
ORGANIZER;CN="Outreach Coordinator":MAILTO:diablobowmenoutreach@gmail.com
END:VEVENT
BEGIN:VEVENT
DTSTART;TZID=America/Los_Angeles:20260321T110000
DTEND;TZID=America/Los_Angeles:20260321T123000
DTSTAMP:20260424T080112
CREATED:20260216T230130Z
LAST-MODIFIED:20260304T160725Z
UID:2872-1774090800-1774096200@diablo-bowmen.org
SUMMARY:Beginner Class (Class is Full)
DESCRIPTION:An excellent starting point for anyone interested in exploring the sport of archery. Classes are designed for individuals with little to no prior experience in archery. \nParticipants learn: \n\nfundamentals of archery\nsafety\nproper stance\nbow handling\nshooting techniques\n\nClasses are 90 minutes (60 minutes shooting time). \nMust be at least 7 years old to participate. \nAll required equipment is provided. \n 
URL:https://diablo-bowmen.org/event/beginner-class-open-to-register-48/
LOCATION:Diablo Bowmen\, Oak Hill Lane\, Clayton\, CA\, 94517\, United States
CATEGORIES:Beginner Class
ATTACH;FMTTYPE=image/jpeg:https://diablo-bowmen.org/wp-content/uploads/2024/02/Beginner-Classes.jpg
ORGANIZER;CN="Outreach Coordinator":MAILTO:diablobowmenoutreach@gmail.com
END:VEVENT
BEGIN:VEVENT
DTSTART;TZID=America/Los_Angeles:20260328T110000
DTEND;TZID=America/Los_Angeles:20260328T123000
DTSTAMP:20260424T080112
CREATED:20260316T192727Z
LAST-MODIFIED:20260316T192728Z
UID:2887-1774695600-1774701000@diablo-bowmen.org
SUMMARY:Beginner Class (Private Event)
DESCRIPTION:An excellent starting point for anyone interested in exploring the sport of archery. Classes are designed for individuals with little to no prior experience in archery. \nParticipants learn: \n\nfundamentals of archery\nsafety\nproper stance\nbow handling\nshooting techniques\n\nClasses are 90 minutes (60 minutes shooting time). \nMust be at least 7 years old to participate. \nAll required equipment is provided. \n 
URL:https://diablo-bowmen.org/event/beginner-class-private-event-16/
LOCATION:Diablo Bowmen\, Oak Hill Lane\, Clayton\, CA\, 94517\, United States
CATEGORIES:Beginner Class
ATTACH;FMTTYPE=image/jpeg:https://diablo-bowmen.org/wp-content/uploads/2024/02/Archery-Class-sml.jpg
ORGANIZER;CN="Outreach Coordinator":MAILTO:diablobowmenoutreach@gmail.com
END:VEVENT
BEGIN:VEVENT
DTSTART;TZID=America/Los_Angeles:20260418T090000
DTEND;TZID=America/Los_Angeles:20260418T103000
DTSTAMP:20260424T080112
CREATED:20260216T230329Z
LAST-MODIFIED:20260408T144156Z
UID:2876-1776502800-1776508200@diablo-bowmen.org
SUMMARY:Beginner Class (Class is Full)
DESCRIPTION:An excellent starting point for anyone interested in exploring the sport of archery. Classes are designed for individuals with little to no prior experience in archery. \nParticipants learn: \n\nfundamentals of archery\nsafety\nproper stance\nbow handling\nshooting techniques\n\nClasses are 90 minutes (60 minutes shooting time). \nMust be at least 7 years old to participate. \nAll required equipment is provided.
URL:https://diablo-bowmen.org/event/beginner-class-open-to-register-50/
LOCATION:Diablo Bowmen\, Oak Hill Lane\, Clayton\, CA\, 94517\, United States
CATEGORIES:Beginner Class
ATTACH;FMTTYPE=image/jpeg:https://diablo-bowmen.org/wp-content/uploads/2024/02/Beginner-Classes.jpg
ORGANIZER;CN="Outreach Coordinator":MAILTO:diablobowmenoutreach@gmail.com
END:VEVENT
BEGIN:VEVENT
DTSTART;TZID=America/Los_Angeles:20260418T090000
DTEND;TZID=America/Los_Angeles:20260418T130000
DTSTAMP:20260424T080112
CREATED:20260409T153626Z
LAST-MODIFIED:20260409T153626Z
UID:2914-1776502800-1776517200@diablo-bowmen.org
SUMMARY:Learn to Shoot the Diablo 900 (Free)
DESCRIPTION:Interested in learning how to shoot a 900 Round? Diablo Bowmen is offering a special training session exclusively for members who have never shot a 900 Round before. \nThis free program will cover the basics and help you get comfortable with the format in a supportive\, hands-on environment. \nLimited to the first 12 archers to sign up\, all ages welcome. \nBring your own equipment \nTo reserve your spot\, contact Jim Porter at 925-890-2920 \nDon’t miss this great opportunity to learn something new and build your skills on the range!
URL:https://diablo-bowmen.org/event/learn-to-shoot-the-diablo-900-free/
LOCATION:Diablo Bowmen\, Oak Hill Lane\, Clayton\, CA\, 94517\, United States
CATEGORIES:Beginner Class
ATTACH;FMTTYPE=image/jpeg:https://diablo-bowmen.org/wp-content/uploads/2024/02/900-Shoot-for-Event.jpeg
END:VEVENT
BEGIN:VEVENT
DTSTART;TZID=America/Los_Angeles:20260418T110000
DTEND;TZID=America/Los_Angeles:20260418T123000
DTSTAMP:20260424T080112
CREATED:20260216T230324Z
LAST-MODIFIED:20260325T150445Z
UID:2877-1776510000-1776515400@diablo-bowmen.org
SUMMARY:Beginner Class (Class is Full)
DESCRIPTION:An excellent starting point for anyone interested in exploring the sport of archery. Classes are designed for individuals with little to no prior experience in archery. \nParticipants learn: \n\nfundamentals of archery\nsafety\nproper stance\nbow handling\nshooting techniques\n\nClasses are 90 minutes (60 minutes shooting time). \nMust be at least 7 years old to participate. \nAll required equipment is provided. \n 
URL:https://diablo-bowmen.org/event/beginner-class-open-to-register-49/
LOCATION:Diablo Bowmen\, Oak Hill Lane\, Clayton\, CA\, 94517\, United States
CATEGORIES:Beginner Class
ATTACH;FMTTYPE=image/jpeg:https://diablo-bowmen.org/wp-content/uploads/2024/02/Beginner-Classes.jpg
ORGANIZER;CN="Outreach Coordinator":MAILTO:diablobowmenoutreach@gmail.com
END:VEVENT
BEGIN:VEVENT
DTSTART;TZID=America/Los_Angeles:20260509T133000
DTEND;TZID=America/Los_Angeles:20260509T143000
DTSTAMP:20260424T080112
CREATED:20260330T210449Z
LAST-MODIFIED:20260330T214454Z
UID:2894-1778333400-1778337000@diablo-bowmen.org
SUMMARY:Beginner Class (Open to Register)
DESCRIPTION:An excellent starting point for anyone interested in exploring the sport of archery. Classes are designed for individuals with little to no prior experience in archery. \nParticipants learn: \n\nfundamentals of archery\nsafety\nproper stance\nbow handling\nshooting techniques\n\nClasses are 90 minutes (60 minutes shooting time). \nMust be at least 7 years old to participate. \nAll required equipment is provided. \nClick to Register \n 
URL:https://diablo-bowmen.org/event/beginner-class-open-to-register-52/
LOCATION:Diablo Bowmen\, Oak Hill Lane\, Clayton\, CA\, 94517\, United States
CATEGORIES:Beginner Class
ATTACH;FMTTYPE=image/jpeg:https://diablo-bowmen.org/wp-content/uploads/2024/02/Beginner-Classes.jpg
ORGANIZER;CN="Outreach Coordinator":MAILTO:diablobowmenoutreach@gmail.com
END:VEVENT
BEGIN:VEVENT
DTSTART;TZID=America/Los_Angeles:20260516T090000
DTEND;TZID=America/Los_Angeles:20260516T103000
DTSTAMP:20260424T080112
CREATED:20260330T210317Z
LAST-MODIFIED:20260330T214444Z
UID:2896-1778922000-1778927400@diablo-bowmen.org
SUMMARY:Beginner Class (Open to Register)
DESCRIPTION:An excellent starting point for anyone interested in exploring the sport of archery. Classes are designed for individuals with little to no prior experience in archery. \nParticipants learn: \n\nfundamentals of archery\nsafety\nproper stance\nbow handling\nshooting techniques\n\nClasses are 90 minutes (60 minutes shooting time). \nMust be at least 7 years old to participate. \nAll required equipment is provided. \nClick to Register \n 
URL:https://diablo-bowmen.org/event/beginner-class-open-to-register-51/
LOCATION:Diablo Bowmen\, Oak Hill Lane\, Clayton\, CA\, 94517\, United States
CATEGORIES:Beginner Class
ATTACH;FMTTYPE=image/jpeg:https://diablo-bowmen.org/wp-content/uploads/2024/02/Beginner-Classes.jpg
ORGANIZER;CN="Outreach Coordinator":MAILTO:diablobowmenoutreach@gmail.com
END:VEVENT
BEGIN:VEVENT
DTSTART;TZID=America/Los_Angeles:20260516T110000
DTEND;TZID=America/Los_Angeles:20260516T123000
DTSTAMP:20260424T080112
CREATED:20260330T210403Z
LAST-MODIFIED:20260330T214702Z
UID:2895-1778929200-1778934600@diablo-bowmen.org
SUMMARY:Beginner Class (Class is Full)
DESCRIPTION:An excellent starting point for anyone interested in exploring the sport of archery. Classes are designed for individuals with little to no prior experience in archery. \nParticipants learn: \n\nfundamentals of archery\nsafety\nproper stance\nbow handling\nshooting techniques\n\nClasses are 90 minutes (60 minutes shooting time). \nMust be at least 7 years old to participate. \nAll required equipment is provided. \n 
URL:https://diablo-bowmen.org/event/beginner-class-class-is-full-5/
LOCATION:Diablo Bowmen\, Oak Hill Lane\, Clayton\, CA\, 94517\, United States
CATEGORIES:Beginner Class
ATTACH;FMTTYPE=image/jpeg:https://diablo-bowmen.org/wp-content/uploads/2024/02/Archery-Class-sml.jpg
ORGANIZER;CN="Outreach Coordinator":MAILTO:diablobowmenoutreach@gmail.com
END:VEVENT
END:VCALENDAR