BEGIN:VCALENDAR
VERSION:2.0
PRODID:-//Diablo Bowmen - ECPv6.15.20//NONSGML v1.0//EN
CALSCALE:GREGORIAN
METHOD:PUBLISH
X-ORIGINAL-URL:https://diablo-bowmen.org
X-WR-CALDESC:Events for Diablo Bowmen
REFRESH-INTERVAL;VALUE=DURATION:PT1H
X-Robots-Tag:noindex
X-PUBLISHED-TTL:PT1H
BEGIN:VTIMEZONE
TZID:America/Los_Angeles
BEGIN:DAYLIGHT
TZOFFSETFROM:-0800
TZOFFSETTO:-0700
TZNAME:PDT
DTSTART:20240310T100000
END:DAYLIGHT
BEGIN:STANDARD
TZOFFSETFROM:-0700
TZOFFSETTO:-0800
TZNAME:PST
DTSTART:20241103T090000
END:STANDARD
BEGIN:DAYLIGHT
TZOFFSETFROM:-0800
TZOFFSETTO:-0700
TZNAME:PDT
DTSTART:20250309T100000
END:DAYLIGHT
BEGIN:STANDARD
TZOFFSETFROM:-0700
TZOFFSETTO:-0800
TZNAME:PST
DTSTART:20251102T090000
END:STANDARD
BEGIN:DAYLIGHT
TZOFFSETFROM:-0800
TZOFFSETTO:-0700
TZNAME:PDT
DTSTART:20260308T100000
END:DAYLIGHT
BEGIN:STANDARD
TZOFFSETFROM:-0700
TZOFFSETTO:-0800
TZNAME:PST
DTSTART:20261101T090000
END:STANDARD
END:VTIMEZONE
BEGIN:VEVENT
DTSTART;TZID=America/Los_Angeles:20250308T090000
DTEND;TZID=America/Los_Angeles:20250308T103000
DTSTAMP:20260424T034000
CREATED:20250122T165933Z
LAST-MODIFIED:20250122T165933Z
UID:2104-1741424400-1741429800@diablo-bowmen.org
SUMMARY:Beginner Class (Open to Register)
DESCRIPTION:An excellent starting point for anyone interested in exploring the sport of archery. Classes are designed for individuals with little to no prior experience in archery. \nParticipants learn: \n\nfundamentals of archery\nsafety\nproper stance\nbow handling\nshooting techniques\n\nClasses are 90 minutes (60 minutes shooting time). \nMust be at least 7 years old to participate. \nAll required equipment is provided. \nClick to Register \n 
URL:https://diablo-bowmen.org/event/beginner-class-open-to-register-12/
LOCATION:Diablo Bowmen\, Oak Hill Lane\, Clayton\, CA\, 94517\, United States
CATEGORIES:Beginner Class
ATTACH;FMTTYPE=image/jpeg:https://diablo-bowmen.org/wp-content/uploads/2024/02/Beginner-Classes.jpg
ORGANIZER;CN="Outreach Coordinator":MAILTO:diablobowmenoutreach@gmail.com
END:VEVENT
BEGIN:VEVENT
DTSTART;TZID=America/Los_Angeles:20250308T110000
DTEND;TZID=America/Los_Angeles:20250308T123000
DTSTAMP:20260424T034000
CREATED:20250122T170008Z
LAST-MODIFIED:20250304T001717Z
UID:2105-1741431600-1741437000@diablo-bowmen.org
SUMMARY:Beginner Class (Class is Full)
DESCRIPTION:An excellent starting point for anyone interested in exploring the sport of archery. Classes are designed for individuals with little to no prior experience in archery. \nParticipants learn: \n\nfundamentals of archery\nsafety\nproper stance\nbow handling\nshooting techniques\n\nClasses are 90 minutes (60 minutes shooting time). \nMust be at least 7 years old to participate. \nAll required equipment is provided. \n 
URL:https://diablo-bowmen.org/event/beginner-class-open-to-register-13/
LOCATION:Diablo Bowmen\, Oak Hill Lane\, Clayton\, CA\, 94517\, United States
CATEGORIES:Beginner Class
ATTACH;FMTTYPE=image/jpeg:https://diablo-bowmen.org/wp-content/uploads/2024/02/Beginner-Classes.jpg
ORGANIZER;CN="Outreach Coordinator":MAILTO:diablobowmenoutreach@gmail.com
END:VEVENT
BEGIN:VEVENT
DTSTART;TZID=America/Los_Angeles:20250309T140000
DTEND;TZID=America/Los_Angeles:20250309T153000
DTSTAMP:20260424T034000
CREATED:20250227T153550Z
LAST-MODIFIED:20250409T143355Z
UID:2206-1741528800-1741534200@diablo-bowmen.org
SUMMARY:Beginner Class (Private Event)
DESCRIPTION:An excellent starting point for anyone interested in exploring the sport of archery. Classes are designed for individuals with little to no prior experience in archery. \nParticipants learn: \n\nfundamentals of archery\nsafety\nproper stance\nbow handling\nshooting techniques\n\nClasses are 90 minutes (60 minutes shooting time). \nMust be at least 7 years old to participate. \nAll required equipment is provided. \nClick to Register \n 
URL:https://diablo-bowmen.org/event/beginner-class-private-party-2/
LOCATION:Diablo Bowmen\, Oak Hill Lane\, Clayton\, CA\, 94517\, United States
CATEGORIES:Beginner Class
ATTACH;FMTTYPE=image/jpeg:https://diablo-bowmen.org/wp-content/uploads/2024/02/Archery-Class-sml.jpg
ORGANIZER;CN="Outreach Coordinator":MAILTO:diablobowmenoutreach@gmail.com
END:VEVENT
BEGIN:VEVENT
DTSTART;TZID=America/Los_Angeles:20250315T090000
DTEND;TZID=America/Los_Angeles:20250315T103000
DTSTAMP:20260424T034000
CREATED:20250122T170046Z
LAST-MODIFIED:20250313T204943Z
UID:2106-1742029200-1742034600@diablo-bowmen.org
SUMMARY:Beginner Class (Class is Full)
DESCRIPTION:An excellent starting point for anyone interested in exploring the sport of archery. Classes are designed for individuals with little to no prior experience in archery. \nParticipants learn: \n\nfundamentals of archery\nsafety\nproper stance\nbow handling\nshooting techniques\n\nClasses are 90 minutes (60 minutes shooting time). \nMust be at least 7 years old to participate. \nAll required equipment is provided. \n 
URL:https://diablo-bowmen.org/event/beginner-class-open-to-register-14/
LOCATION:Diablo Bowmen\, Oak Hill Lane\, Clayton\, CA\, 94517\, United States
CATEGORIES:Beginner Class
ATTACH;FMTTYPE=image/jpeg:https://diablo-bowmen.org/wp-content/uploads/2024/02/Beginner-Classes.jpg
ORGANIZER;CN="Outreach Coordinator":MAILTO:diablobowmenoutreach@gmail.com
END:VEVENT
BEGIN:VEVENT
DTSTART;TZID=America/Los_Angeles:20250315T110000
DTEND;TZID=America/Los_Angeles:20250315T123000
DTSTAMP:20260424T034000
CREATED:20250122T170116Z
LAST-MODIFIED:20250308T233714Z
UID:2107-1742036400-1742041800@diablo-bowmen.org
SUMMARY:Beginner Class (Class is Full)
DESCRIPTION:An excellent starting point for anyone interested in exploring the sport of archery. Classes are designed for individuals with little to no prior experience in archery. \nParticipants learn: \n\nfundamentals of archery\nsafety\nproper stance\nbow handling\nshooting techniques\n\nClasses are 90 minutes (60 minutes shooting time). \nMust be at least 7 years old to participate. \nAll required equipment is provided. \n 
URL:https://diablo-bowmen.org/event/beginner-class-open-to-register-15/
LOCATION:Diablo Bowmen\, Oak Hill Lane\, Clayton\, CA\, 94517\, United States
CATEGORIES:Beginner Class
ATTACH;FMTTYPE=image/jpeg:https://diablo-bowmen.org/wp-content/uploads/2024/02/Beginner-Classes.jpg
ORGANIZER;CN="Outreach Coordinator":MAILTO:diablobowmenoutreach@gmail.com
END:VEVENT
BEGIN:VEVENT
DTSTART;TZID=America/Los_Angeles:20250316T140000
DTEND;TZID=America/Los_Angeles:20250316T153000
DTSTAMP:20260424T034000
CREATED:20250211T012206Z
LAST-MODIFIED:20250211T012207Z
UID:2187-1742133600-1742139000@diablo-bowmen.org
SUMMARY:Beginner Class (Private Event)
DESCRIPTION:An excellent starting point for anyone interested in exploring the sport of archery. Classes are designed for individuals with little to no prior experience in archery. \nParticipants learn: \n\nfundamentals of archery\nsafety\nproper stance\nbow handling\nshooting techniques\n\nClasses are 90 minutes (60 minutes shooting time). \nMust be at least 7 years old to participate. \nAll required equipment is provided. \n 
URL:https://diablo-bowmen.org/event/beginner-class-private-event-10/
LOCATION:Diablo Bowmen\, Oak Hill Lane\, Clayton\, CA\, 94517\, United States
CATEGORIES:Beginner Class
ATTACH;FMTTYPE=image/jpeg:https://diablo-bowmen.org/wp-content/uploads/2024/02/Archery-Class-sml.jpg
ORGANIZER;CN="Outreach Coordinator":MAILTO:diablobowmenoutreach@gmail.com
END:VEVENT
BEGIN:VEVENT
DTSTART;TZID=America/Los_Angeles:20250329T090000
DTEND;TZID=America/Los_Angeles:20250329T103000
DTSTAMP:20260424T034000
CREATED:20250122T170304Z
LAST-MODIFIED:20250122T170305Z
UID:2110-1743238800-1743244200@diablo-bowmen.org
SUMMARY:Beginner Class (Open to Register)
DESCRIPTION:An excellent starting point for anyone interested in exploring the sport of archery. Classes are designed for individuals with little to no prior experience in archery. \nParticipants learn: \n\nfundamentals of archery\nsafety\nproper stance\nbow handling\nshooting techniques\n\nClasses are 90 minutes (60 minutes shooting time). \nMust be at least 7 years old to participate. \nAll required equipment is provided. \nClick to Register \n 
URL:https://diablo-bowmen.org/event/beginner-class-open-to-register-18/
LOCATION:Diablo Bowmen\, Oak Hill Lane\, Clayton\, CA\, 94517\, United States
CATEGORIES:Beginner Class
ATTACH;FMTTYPE=image/jpeg:https://diablo-bowmen.org/wp-content/uploads/2024/02/Beginner-Classes.jpg
ORGANIZER;CN="Outreach Coordinator":MAILTO:diablobowmenoutreach@gmail.com
END:VEVENT
BEGIN:VEVENT
DTSTART;TZID=America/Los_Angeles:20250329T110000
DTEND;TZID=America/Los_Angeles:20250329T123000
DTSTAMP:20260424T034000
CREATED:20250122T170335Z
LAST-MODIFIED:20250122T170336Z
UID:2111-1743246000-1743251400@diablo-bowmen.org
SUMMARY:Beginner Class (Open to Register)
DESCRIPTION:An excellent starting point for anyone interested in exploring the sport of archery. Classes are designed for individuals with little to no prior experience in archery. \nParticipants learn: \n\nfundamentals of archery\nsafety\nproper stance\nbow handling\nshooting techniques\n\nClasses are 90 minutes (60 minutes shooting time). \nMust be at least 7 years old to participate. \nAll required equipment is provided. \nClick to Register \n 
URL:https://diablo-bowmen.org/event/beginner-class-open-to-register-19/
LOCATION:Diablo Bowmen\, Oak Hill Lane\, Clayton\, CA\, 94517\, United States
CATEGORIES:Beginner Class
ATTACH;FMTTYPE=image/jpeg:https://diablo-bowmen.org/wp-content/uploads/2024/02/Beginner-Classes.jpg
ORGANIZER;CN="Outreach Coordinator":MAILTO:diablobowmenoutreach@gmail.com
END:VEVENT
END:VCALENDAR