BEGIN:VCALENDAR
VERSION:2.0
PRODID:-//Diablo Bowmen - ECPv6.15.20//NONSGML v1.0//EN
CALSCALE:GREGORIAN
METHOD:PUBLISH
X-ORIGINAL-URL:https://diablo-bowmen.org
X-WR-CALDESC:Events for Diablo Bowmen
REFRESH-INTERVAL;VALUE=DURATION:PT1H
X-Robots-Tag:noindex
X-PUBLISHED-TTL:PT1H
BEGIN:VTIMEZONE
TZID:America/Los_Angeles
BEGIN:DAYLIGHT
TZOFFSETFROM:-0800
TZOFFSETTO:-0700
TZNAME:PDT
DTSTART:20250309T100000
END:DAYLIGHT
BEGIN:STANDARD
TZOFFSETFROM:-0700
TZOFFSETTO:-0800
TZNAME:PST
DTSTART:20251102T090000
END:STANDARD
BEGIN:DAYLIGHT
TZOFFSETFROM:-0800
TZOFFSETTO:-0700
TZNAME:PDT
DTSTART:20260308T100000
END:DAYLIGHT
BEGIN:STANDARD
TZOFFSETFROM:-0700
TZOFFSETTO:-0800
TZNAME:PST
DTSTART:20261101T090000
END:STANDARD
BEGIN:DAYLIGHT
TZOFFSETFROM:-0800
TZOFFSETTO:-0700
TZNAME:PDT
DTSTART:20270314T100000
END:DAYLIGHT
BEGIN:STANDARD
TZOFFSETFROM:-0700
TZOFFSETTO:-0800
TZNAME:PST
DTSTART:20271107T090000
END:STANDARD
END:VTIMEZONE
BEGIN:VEVENT
DTSTART;TZID=America/Los_Angeles:20260726T070000
DTEND;TZID=America/Los_Angeles:20260726T160000
DTSTAMP:20260423T112948
CREATED:20251231T180122Z
LAST-MODIFIED:20251231T180123Z
UID:2756-1785049200-1785081600@diablo-bowmen.org
SUMMARY:Red Devil Extreme 3d Shoot (Open to the Public)
DESCRIPTION:Just before dinosaurs hit San Francisco\, dial in your skills with an awesome 3d shoot on Mount Diablo. \nShot on three of our beautiful courses\, you’ll climb the hills\, walk the creek\, and into the hills\, as you take aim on a variety of animals. \n\n\n\n\nDetails \n\n42 Targets\nMarked Yardage\n2 Arrows per target\n11-10-8 Scoring\nAll NFAA Classes\nTrad Short (35yd max) & Trad Long\n\n\n\n\n\nOrange Spot \nThis is an Orange Spot shoot\, with scoring zones that correspond to the vital areas of the animals
URL:https://diablo-bowmen.org/event/red-devil-extreme-3d-shoot-open-to-the-public-2/
LOCATION:Diablo Bowmen\, Oak Hill Lane\, Clayton\, CA\, 94517\, United States
CATEGORIES:Shoot
ATTACH;FMTTYPE=image/png:https://diablo-bowmen.org/wp-content/uploads/2024/02/Fall-Harvest-4-copy.png
ORGANIZER;CN="President":MAILTO:diablobowmenpresident@gmail.com
END:VEVENT
END:VCALENDAR