BEGIN:VCALENDAR
VERSION:2.0
PRODID:-//Diablo Bowmen - ECPv6.15.20//NONSGML v1.0//EN
CALSCALE:GREGORIAN
METHOD:PUBLISH
X-ORIGINAL-URL:https://diablo-bowmen.org
X-WR-CALDESC:Events for Diablo Bowmen
REFRESH-INTERVAL;VALUE=DURATION:PT1H
X-Robots-Tag:noindex
X-PUBLISHED-TTL:PT1H
BEGIN:VTIMEZONE
TZID:America/Los_Angeles
BEGIN:DAYLIGHT
TZOFFSETFROM:-0800
TZOFFSETTO:-0700
TZNAME:PDT
DTSTART:20250309T100000
END:DAYLIGHT
BEGIN:STANDARD
TZOFFSETFROM:-0700
TZOFFSETTO:-0800
TZNAME:PST
DTSTART:20251102T090000
END:STANDARD
BEGIN:DAYLIGHT
TZOFFSETFROM:-0800
TZOFFSETTO:-0700
TZNAME:PDT
DTSTART:20260308T100000
END:DAYLIGHT
BEGIN:STANDARD
TZOFFSETFROM:-0700
TZOFFSETTO:-0800
TZNAME:PST
DTSTART:20261101T090000
END:STANDARD
BEGIN:DAYLIGHT
TZOFFSETFROM:-0800
TZOFFSETTO:-0700
TZNAME:PDT
DTSTART:20270314T100000
END:DAYLIGHT
BEGIN:STANDARD
TZOFFSETFROM:-0700
TZOFFSETTO:-0800
TZNAME:PST
DTSTART:20271107T090000
END:STANDARD
END:VTIMEZONE
BEGIN:VEVENT
DTSTART;TZID=America/Los_Angeles:20260125T070000
DTEND;TZID=America/Los_Angeles:20260125T160000
DTSTAMP:20260423T112940
CREATED:20251231T180344Z
LAST-MODIFIED:20251231T180344Z
UID:2758-1769324400-1769356800@diablo-bowmen.org
SUMMARY:The Winter Hunt Shoot
DESCRIPTION:Test your archery skills against a variety of 3D targets strategically placed to mimic real-life hunting. 🏹 \n\n32 Targets\nUnmarked Yardage – Hunting Conditions\n2 arrows (10-8-5 scoring)\n\nFrom elk to bears\, each target provides a different challenge\, ensuring a dynamic and engaging experience for participants of all skill levels. \n\n5 Target String Walk\nSteel Pig\nRocking Horse\nFlying Pig\n\n\nLearn more…\n\n\n\n 
URL:https://diablo-bowmen.org/event/the-winter-hunt-shoot/
LOCATION:Diablo Bowmen\, Oak Hill Lane\, Clayton\, CA\, 94517\, United States
CATEGORIES:Shoot
ATTACH;FMTTYPE=image/png:https://diablo-bowmen.org/wp-content/uploads/2024/02/2024-Winter-Hunt-IMG_0960.png
END:VEVENT
END:VCALENDAR