BEGIN:VCALENDAR
VERSION:2.0
PRODID:-//Diablo Bowmen - ECPv6.15.20//NONSGML v1.0//EN
CALSCALE:GREGORIAN
METHOD:PUBLISH
X-ORIGINAL-URL:https://diablo-bowmen.org
X-WR-CALDESC:Events for Diablo Bowmen
REFRESH-INTERVAL;VALUE=DURATION:PT1H
X-Robots-Tag:noindex
X-PUBLISHED-TTL:PT1H
BEGIN:VTIMEZONE
TZID:America/Los_Angeles
BEGIN:DAYLIGHT
TZOFFSETFROM:-0800
TZOFFSETTO:-0700
TZNAME:PDT
DTSTART:20250309T100000
END:DAYLIGHT
BEGIN:STANDARD
TZOFFSETFROM:-0700
TZOFFSETTO:-0800
TZNAME:PST
DTSTART:20251102T090000
END:STANDARD
BEGIN:DAYLIGHT
TZOFFSETFROM:-0800
TZOFFSETTO:-0700
TZNAME:PDT
DTSTART:20260308T100000
END:DAYLIGHT
BEGIN:STANDARD
TZOFFSETFROM:-0700
TZOFFSETTO:-0800
TZNAME:PST
DTSTART:20261101T090000
END:STANDARD
BEGIN:DAYLIGHT
TZOFFSETFROM:-0800
TZOFFSETTO:-0700
TZNAME:PDT
DTSTART:20270314T100000
END:DAYLIGHT
BEGIN:STANDARD
TZOFFSETFROM:-0700
TZOFFSETTO:-0800
TZNAME:PST
DTSTART:20271107T090000
END:STANDARD
END:VTIMEZONE
BEGIN:VEVENT
DTSTART;TZID=America/Los_Angeles:20260103T080000
DTEND;TZID=America/Los_Angeles:20260103T120000
DTSTAMP:20260423T112939
CREATED:20251231T155342Z
LAST-MODIFIED:20251231T155342Z
UID:2695-1767427200-1767441600@diablo-bowmen.org
SUMMARY:Maintenance Day
DESCRIPTION:In order to maintain Diablo Bowmen Archery Club\, we host a monthly range maintenance day. It occurs the second Saturday of each month from 8:00 am – 12:00 pm. For our major tournaments\, we hold a special maintenance day just before the tournament. Participation can help offset your annual maintenance fees.\n \nOur Range Manager determines what work needs to be done. Typical tasks are:\n• Raking the trails\, picnic area\, or the practice range\n• Weed whacking the trails\, picnic area\, or the practice range\n• Replacing paper targets\n• Replacing/repairing target bales\n• Cleaning and maintaining the Clubhouse\n• Trimming trees and clearing shooting lanes\n\nLunch is provided to those who RSVP \n\nClick to RSVP\n\n\n 
URL:https://diablo-bowmen.org/event/maintenance-day-23/
LOCATION:Diablo Bowmen\, Oak Hill Lane\, Clayton\, CA\, 94517\, United States
CATEGORIES:Maintenance
ATTACH;FMTTYPE=image/jpeg:https://diablo-bowmen.org/wp-content/uploads/2024/12/Maintenance-Day.jpeg
END:VEVENT
BEGIN:VEVENT
DTSTART;TZID=America/Los_Angeles:20260103T130000
DTEND;TZID=America/Los_Angeles:20260103T140000
DTSTAMP:20260423T112939
CREATED:20251231T160441Z
LAST-MODIFIED:20251231T160833Z
UID:2720-1767445200-1767448800@diablo-bowmen.org
SUMMARY:Club Meeting
DESCRIPTION:This meeting is open to all club members and prospective members.  \nUpdates are provided about what’s happening at Diablo Bowmen\, Range Updates\, etc.. \nNew members are welcomed.  \nTo be considered for membership\, you must first attend a club meeting. \nA New Member Safety meeting occurs immediately following the meeting.
URL:https://diablo-bowmen.org/event/club-meeting-22/
LOCATION:Diablo Bowmen\, Oak Hill Lane\, Clayton\, CA\, 94517\, United States
CATEGORIES:Meeting
ATTACH;FMTTYPE=image/jpeg:https://diablo-bowmen.org/wp-content/uploads/2024/12/Club-Meeting.jpeg
ORGANIZER;CN="President":MAILTO:diablobowmenpresident@gmail.com
END:VEVENT
END:VCALENDAR