BEGIN:VCALENDAR
VERSION:2.0
PRODID:-//Diablo Bowmen - ECPv6.15.20//NONSGML v1.0//EN
CALSCALE:GREGORIAN
METHOD:PUBLISH
X-ORIGINAL-URL:https://diablo-bowmen.org
X-WR-CALDESC:Events for Diablo Bowmen
REFRESH-INTERVAL;VALUE=DURATION:PT1H
X-Robots-Tag:noindex
X-PUBLISHED-TTL:PT1H
BEGIN:VTIMEZONE
TZID:America/Los_Angeles
BEGIN:DAYLIGHT
TZOFFSETFROM:-0800
TZOFFSETTO:-0700
TZNAME:PDT
DTSTART:20240310T100000
END:DAYLIGHT
BEGIN:STANDARD
TZOFFSETFROM:-0700
TZOFFSETTO:-0800
TZNAME:PST
DTSTART:20241103T090000
END:STANDARD
BEGIN:DAYLIGHT
TZOFFSETFROM:-0800
TZOFFSETTO:-0700
TZNAME:PDT
DTSTART:20250309T100000
END:DAYLIGHT
BEGIN:STANDARD
TZOFFSETFROM:-0700
TZOFFSETTO:-0800
TZNAME:PST
DTSTART:20251102T090000
END:STANDARD
BEGIN:DAYLIGHT
TZOFFSETFROM:-0800
TZOFFSETTO:-0700
TZNAME:PDT
DTSTART:20260308T100000
END:DAYLIGHT
BEGIN:STANDARD
TZOFFSETFROM:-0700
TZOFFSETTO:-0800
TZNAME:PST
DTSTART:20261101T090000
END:STANDARD
END:VTIMEZONE
BEGIN:VEVENT
DTSTART;TZID=America/Los_Angeles:20250614T080000
DTEND;TZID=America/Los_Angeles:20250614T120000
DTSTAMP:20260424T090650
CREATED:20241222T055824Z
LAST-MODIFIED:20241223T212149Z
UID:2033-1749888000-1749902400@diablo-bowmen.org
SUMMARY:Club Shoot (open to the public)
DESCRIPTION:Club shoots are for all members and guests! You don’t need to be a pro to participate. For a qualifying score you will shoot 2 rounds\, one Field and one Hunter (4 arrows at each target). \nClub shoots are held on the 2nd Saturday of each month at 9:00 am. \nAll shooting styles and skill levels are welcome. \nFees\n\nMember – $8\nGuest – $10\n\n\nClick to RSVP\n\n\n 
URL:https://diablo-bowmen.org/event/club-shoot-open-to-the-public-6/
LOCATION:Diablo Bowmen\, Oak Hill Lane\, Clayton\, CA\, 94517\, United States
CATEGORIES:Shoot
ATTACH;FMTTYPE=image/jpeg:https://diablo-bowmen.org/wp-content/uploads/2024/02/Club-Shoot-3.jpeg
END:VEVENT
BEGIN:VEVENT
DTSTART;TZID=America/Los_Angeles:20250614T090000
DTEND;TZID=America/Los_Angeles:20250614T103000
DTSTAMP:20260424T090650
CREATED:20250517T043804Z
LAST-MODIFIED:20250517T043831Z
UID:2301-1749891600-1749897000@diablo-bowmen.org
SUMMARY:Beginner Class (Private Event)
DESCRIPTION:An excellent starting point for anyone interested in exploring the sport of archery. Classes are designed for individuals with little to no prior experience in archery. \nParticipants learn: \n\nfundamentals of archery\nsafety\nproper stance\nbow handling\nshooting techniques\n\nClasses are 90 minutes (60 minutes shooting time). \nMust be at least 7 years old to participate. \nAll required equipment is provided.
URL:https://diablo-bowmen.org/event/beginner-class-private-event-11/
LOCATION:Diablo Bowmen\, Oak Hill Lane\, Clayton\, CA\, 94517\, United States
CATEGORIES:Beginner Class
ATTACH;FMTTYPE=image/jpeg:https://diablo-bowmen.org/wp-content/uploads/2024/02/Archery-Class-sml.jpg
ORGANIZER;CN="Outreach Coordinator":MAILTO:diablobowmenoutreach@gmail.com
END:VEVENT
BEGIN:VEVENT
DTSTART;TZID=America/Los_Angeles:20250614T110000
DTEND;TZID=America/Los_Angeles:20250614T123000
DTSTAMP:20260424T090650
CREATED:20250517T042630Z
LAST-MODIFIED:20250526T171128Z
UID:2296-1749898800-1749904200@diablo-bowmen.org
SUMMARY:Beginner Class (Class is Full)
DESCRIPTION:An excellent starting point for anyone interested in exploring the sport of archery. Classes are designed for individuals with little to no prior experience in archery. \nParticipants learn: \n\nfundamentals of archery\nsafety\nproper stance\nbow handling\nshooting techniques\n\nClasses are 90 minutes (60 minutes shooting time). \nMust be at least 7 years old to participate. \nAll required equipment is provided. \n  \n 
URL:https://diablo-bowmen.org/event/beginner-class-open-to-register-30/
LOCATION:Diablo Bowmen\, Oak Hill Lane\, Clayton\, CA\, 94517\, United States
CATEGORIES:Beginner Class
ATTACH;FMTTYPE=image/jpeg:https://diablo-bowmen.org/wp-content/uploads/2024/02/Beginner-Classes.jpg
ORGANIZER;CN="Outreach Coordinator":MAILTO:diablobowmenoutreach@gmail.com
END:VEVENT
END:VCALENDAR