BEGIN:VCALENDAR
VERSION:2.0
PRODID:-//Diablo Bowmen - ECPv6.15.20//NONSGML v1.0//EN
CALSCALE:GREGORIAN
METHOD:PUBLISH
X-WR-CALNAME:Diablo Bowmen
X-ORIGINAL-URL:https://diablo-bowmen.org
X-WR-CALDESC:Events for Diablo Bowmen
REFRESH-INTERVAL;VALUE=DURATION:PT1H
X-Robots-Tag:noindex
X-PUBLISHED-TTL:PT1H
BEGIN:VTIMEZONE
TZID:America/Los_Angeles
BEGIN:DAYLIGHT
TZOFFSETFROM:-0800
TZOFFSETTO:-0700
TZNAME:PDT
DTSTART:20230312T100000
END:DAYLIGHT
BEGIN:STANDARD
TZOFFSETFROM:-0700
TZOFFSETTO:-0800
TZNAME:PST
DTSTART:20231105T090000
END:STANDARD
BEGIN:DAYLIGHT
TZOFFSETFROM:-0800
TZOFFSETTO:-0700
TZNAME:PDT
DTSTART:20240310T100000
END:DAYLIGHT
BEGIN:STANDARD
TZOFFSETFROM:-0700
TZOFFSETTO:-0800
TZNAME:PST
DTSTART:20241103T090000
END:STANDARD
BEGIN:DAYLIGHT
TZOFFSETFROM:-0800
TZOFFSETTO:-0700
TZNAME:PDT
DTSTART:20250309T100000
END:DAYLIGHT
BEGIN:STANDARD
TZOFFSETFROM:-0700
TZOFFSETTO:-0800
TZNAME:PST
DTSTART:20251102T090000
END:STANDARD
END:VTIMEZONE
BEGIN:VEVENT
DTSTART;TZID=America/Los_Angeles:20240515T163000
DTEND;TZID=America/Los_Angeles:20240515T180000
DTSTAMP:20260425T080335
CREATED:20240510T144056Z
LAST-MODIFIED:20240510T144056Z
UID:1480-1715790600-1715796000@diablo-bowmen.org
SUMMARY:Beginner Class (GS Private)
DESCRIPTION:An excellent starting point for anyone interested in exploring the sport of archery. Classes are designed for individuals with little to no prior experience in archery. \nParticipants learn: \n\nfundamentals of archery\nsafety\nproper stance\nbow handling\nshooting techniques\n\nClasses are 90 minutes (60 minutes shooting time). \nMust be at least 7 years old to participate. \nAll required equipment is provided.
URL:https://diablo-bowmen.org/event/beginner-class-gs-private/
LOCATION:CA
CATEGORIES:Beginner Class
ATTACH;FMTTYPE=image/jpeg:https://diablo-bowmen.org/wp-content/uploads/2024/02/Archery-Class-sml.jpg
END:VEVENT
END:VCALENDAR